BEGIN:VCALENDAR
VERSION:2.0
PRODID:-//A&amp;H - Art &amp; History Museums Maitland - ECPv6.15.20//NONSGML v1.0//EN
CALSCALE:GREGORIAN
METHOD:PUBLISH
X-WR-CALNAME:A&amp;H - Art &amp; History Museums Maitland
X-ORIGINAL-URL:https://artandhistory.org
X-WR-CALDESC:Events for A&amp;H - Art &amp; History Museums Maitland
REFRESH-INTERVAL;VALUE=DURATION:PT1H
X-Robots-Tag:noindex
X-PUBLISHED-TTL:PT1H
BEGIN:VTIMEZONE
TZID:America/New_York
BEGIN:DAYLIGHT
TZOFFSETFROM:-0500
TZOFFSETTO:-0400
TZNAME:EDT
DTSTART:20160313T070000
END:DAYLIGHT
BEGIN:STANDARD
TZOFFSETFROM:-0400
TZOFFSETTO:-0500
TZNAME:EST
DTSTART:20161106T060000
END:STANDARD
BEGIN:DAYLIGHT
TZOFFSETFROM:-0500
TZOFFSETTO:-0400
TZNAME:EDT
DTSTART:20170312T070000
END:DAYLIGHT
BEGIN:STANDARD
TZOFFSETFROM:-0400
TZOFFSETTO:-0500
TZNAME:EST
DTSTART:20171105T060000
END:STANDARD
BEGIN:DAYLIGHT
TZOFFSETFROM:-0500
TZOFFSETTO:-0400
TZNAME:EDT
DTSTART:20180311T070000
END:DAYLIGHT
BEGIN:STANDARD
TZOFFSETFROM:-0400
TZOFFSETTO:-0500
TZNAME:EST
DTSTART:20181104T060000
END:STANDARD
BEGIN:DAYLIGHT
TZOFFSETFROM:-0500
TZOFFSETTO:-0400
TZNAME:EDT
DTSTART:20190310T070000
END:DAYLIGHT
BEGIN:STANDARD
TZOFFSETFROM:-0400
TZOFFSETTO:-0500
TZNAME:EST
DTSTART:20191103T060000
END:STANDARD
END:VTIMEZONE
BEGIN:VEVENT
DTSTART;TZID=America/New_York:20171118T110000
DTEND;TZID=America/New_York:20180107T160000
DTSTAMP:20260422T175519
CREATED:20171128T184908Z
LAST-MODIFIED:20221110T233906Z
UID:2270-1511002800-1515340800@artandhistory.org
SUMMARY:Holidays at the Waterhouse
DESCRIPTION:November 18\, 2017 – January 7\, 2018\n*Additional hours added to welcome you and your families after Christmas! Also open Thursday & Friday 11:00-4:00\, on December 28 & 29!*\nStep in to Christmas past and explore Christmas traditions of the Victorian era with all of its décor and charm. See how Maitland’s early residents celebrated the holidays as the Waterhouse Residence Museum converted for this annual tradition. \nTicket includes admission to the Carpentry Shop Museum\nVisit the Plan Your Visit page for hours & pricing.
URL:https://artandhistory.org/event/holidays-at-the-waterhouse-3/
LOCATION:A&H’s Waterhouse Residence Museum\, 820 Lake Lily Drive\, Maitland\, FL\, 32751\, United States
END:VEVENT
END:VCALENDAR