BEGIN:VCALENDAR
VERSION:2.0
PRODID:-//A&amp;H - Art &amp; History Museums Maitland - ECPv6.15.20//NONSGML v1.0//EN
CALSCALE:GREGORIAN
METHOD:PUBLISH
X-WR-CALNAME:A&amp;H - Art &amp; History Museums Maitland
X-ORIGINAL-URL:https://artandhistory.org
X-WR-CALDESC:Events for A&amp;H - Art &amp; History Museums Maitland
REFRESH-INTERVAL;VALUE=DURATION:PT1H
X-Robots-Tag:noindex
X-PUBLISHED-TTL:PT1H
BEGIN:VTIMEZONE
TZID:America/New_York
BEGIN:DAYLIGHT
TZOFFSETFROM:-0500
TZOFFSETTO:-0400
TZNAME:EDT
DTSTART:20220313T070000
END:DAYLIGHT
BEGIN:STANDARD
TZOFFSETFROM:-0400
TZOFFSETTO:-0500
TZNAME:EST
DTSTART:20221106T060000
END:STANDARD
BEGIN:DAYLIGHT
TZOFFSETFROM:-0500
TZOFFSETTO:-0400
TZNAME:EDT
DTSTART:20230312T070000
END:DAYLIGHT
BEGIN:STANDARD
TZOFFSETFROM:-0400
TZOFFSETTO:-0500
TZNAME:EST
DTSTART:20231105T060000
END:STANDARD
BEGIN:DAYLIGHT
TZOFFSETFROM:-0500
TZOFFSETTO:-0400
TZNAME:EDT
DTSTART:20240310T070000
END:DAYLIGHT
BEGIN:STANDARD
TZOFFSETFROM:-0400
TZOFFSETTO:-0500
TZNAME:EST
DTSTART:20241103T060000
END:STANDARD
BEGIN:DAYLIGHT
TZOFFSETFROM:-0500
TZOFFSETTO:-0400
TZNAME:EDT
DTSTART:20250309T070000
END:DAYLIGHT
BEGIN:STANDARD
TZOFFSETFROM:-0400
TZOFFSETTO:-0500
TZNAME:EST
DTSTART:20251102T060000
END:STANDARD
BEGIN:DAYLIGHT
TZOFFSETFROM:-0500
TZOFFSETTO:-0400
TZNAME:EDT
DTSTART:20260308T070000
END:DAYLIGHT
BEGIN:STANDARD
TZOFFSETFROM:-0400
TZOFFSETTO:-0500
TZNAME:EST
DTSTART:20261101T060000
END:STANDARD
BEGIN:DAYLIGHT
TZOFFSETFROM:-0500
TZOFFSETTO:-0400
TZNAME:EDT
DTSTART:20270314T070000
END:DAYLIGHT
BEGIN:STANDARD
TZOFFSETFROM:-0400
TZOFFSETTO:-0500
TZNAME:EST
DTSTART:20271107T060000
END:STANDARD
BEGIN:DAYLIGHT
TZOFFSETFROM:-0500
TZOFFSETTO:-0400
TZNAME:EDT
DTSTART:20280312T070000
END:DAYLIGHT
BEGIN:STANDARD
TZOFFSETFROM:-0400
TZOFFSETTO:-0500
TZNAME:EST
DTSTART:20281105T060000
END:STANDARD
BEGIN:DAYLIGHT
TZOFFSETFROM:-0500
TZOFFSETTO:-0400
TZNAME:EDT
DTSTART:20290311T070000
END:DAYLIGHT
BEGIN:STANDARD
TZOFFSETFROM:-0400
TZOFFSETTO:-0500
TZNAME:EST
DTSTART:20291104T060000
END:STANDARD
END:VTIMEZONE
BEGIN:VEVENT
DTSTART;TZID=America/New_York:20230303T110000
DTEND;TZID=America/New_York:20280303T160000
DTSTAMP:20260422T010659
CREATED:20221214T171417Z
LAST-MODIFIED:20240602T010148Z
UID:9315-1677841200-1835712000@artandhistory.org
SUMMARY:Maitland's Attic: A Journey Through A Small City's Past
DESCRIPTION:  \nThis exhibition is an interactive\, hands-on exploration into the history of Maitland and its surrounding areas! \n\nThere were a lot of things that did not happen in Maitland. There were no great battles fought on the soil\, nor was it home to any infamous individuals. The town was not the epicenter of any great social movements\, nor was it home to discoveries that would better humankind. Maitland was\, and continues to be\, a small town\, like so many others.\n\nThe story of Maitland is a story of seemingly ordinary people who lived through extraordinary times\, a place where people made their homes while dramatic events unfolded in other parts of the world. People labored here\, raised their families\, loved\, lost\, thought\, and created. The objects in the museum’s collection reflect the brightness of these lives against the backdrop of a changing and often troubled world.\n\n\nEach artifact tells a story specific to a place and time. They are the carriers of the memories of the people who owned them\, who felt that they were important enough to their own story to preserve them. Many of them are the prototypes of the objects that we use and hold dear today\, objects which will one day carry our own memories forward.\nWelcome to Maitland’s Attic\, a gathering place of the unique items that tell of Maitland’s past. From the everyday to the downright weird\, these objects and their stories open a window onto important moments throughout the history of the town\, and the people who called it home.\n\n\n\n¡Esta exhibición es interactivo y de primera mano adentro de la historia de Maitland y las áreas cercanas! \nEn Maitland no ocurrieron muchas cosas. En su suelo no se libraron grandes batallas\, ni fue cuna deindividuos infames. No fue el epicentro de grandes movimientos sociales ni de descubrimientosrevolucionarios. \nLa historia de Maitland es la historia de personas aparentemente corrientes que vivieron tiemposextraordinarios\, un lugar donde la gente estableció su hogar mientras se desarrollaban acontecimientosdramáticos en otras partes del mundo. La gente trabajaba aquí\, criaba a sus familias\, amaba\, perdía\,pensaba y creaba. Los objetos de la colección del museo reflejan el brillo de estas vidas en el contextode un mundo cambiante y a menudo turbulento. \nCada artefacto cuenta una historia específica de un lugar y una época. En conjunto\, son portadores delos recuerdos de las personas que los poseyeron\, que consideraron que eran lo bastante importantespara su historia como para conservarlos. Muchos de ellos son prototipos de los objetos que usamos yapreciamos hoy\, objetos que un día serán portadores de nuestros propios recuerdos.Bienvenido a Maitland’s Attic\, un lugar donde se reúnen objetos únicos que hablan del pasado deMaitland. Desde los más cotidianos hasta los más extraños\, estos objetos abren una ventana amomentos importantes de la historia de la ciudad y a las personas que decidieron llamarla su hogar.
URL:https://artandhistory.org/event/maitland-history-museum-permanent-exhibition-debut/
LOCATION:Art & History Museums – Maitland\, 231 W. Packwood Avenue\, Maitland\, FL\, 32751\, United States
CATEGORIES:Event,Events,Exhibition
ATTACH;FMTTYPE=image/png:https://artandhistory.org/wp-content/uploads/Pastel-Gradient-Christian-Easter-Facebook-Cover.png
END:VEVENT
BEGIN:VEVENT
DTSTART;TZID=America/New_York:20250426T110000
DTEND;TZID=America/New_York:20250713T160000
DTSTAMP:20260422T010659
CREATED:20240930T163219Z
LAST-MODIFIED:20250627T164502Z
UID:10864-1745665200-1752422400@artandhistory.org
SUMMARY:LOSS
DESCRIPTION:LOSS explores the emotional layers of loss through abstract representation. Viewers can navigate the physical pieces and nuanced lighting\, creating a contemplative space to reflect on their own experiences. \nSt. Petersburg-based sculptor Michael Massaro transforms discarded materials—stone\, wood\, metal\, rubber\, plastic\, and textiles—into contemplative works of art. Through his nonverbal commentary\, Massaro explores a world in flux\, reflecting on the loss of human rights and environmental stability. By bringing together these disparate\, forgotten objects\, he creates unexpected reflections on harmony and discord—offering a visual meditation on resilience\, renewal\, and the stories hidden within what we view as disposable. Massaro was awarded his BFA from the University of Tampa. Plan your visit >>
URL:https://artandhistory.org/event/lossexhibition/
LOCATION:Art & History Museums – Maitland\, 231 W. Packwood Ave\, Maitland\, FL\, 32751\, United States
CATEGORIES:Event,Events,Exhibition
ATTACH;FMTTYPE=image/jpeg:https://artandhistory.org/wp-content/uploads/loss-scaled.jpg
END:VEVENT
BEGIN:VEVENT
DTSTART;TZID=America/New_York:20250625T100000
DTEND;TZID=America/New_York:20250625T120000
DTSTAMP:20260422T010659
CREATED:20250107T191821Z
LAST-MODIFIED:20250113T172414Z
UID:11104-1750845600-1750852800@artandhistory.org
SUMMARY:Summer Family Art Workshops - Week 3: Soft Sculpture Bugs
DESCRIPTION:At the Art & History Museums Maitland\, kids can stay creative and artistically engaged all summer long on our beautiful and historic campus\, just 15 minutes from downtown Orlando! During these FREE hands-on arts and crafts workshops\, families can drop-in and create a new art project every week at their own pace. \nOn June 25\, we’ll be creating in our garden! It’s is in full bloom – filled with flowers and all kinds of tiny creatures! Join us as we celebrate our creepy crawly friends by making soft sculpture bugs! We’ll have all the materials you’ll need to bring home a bug sculpture of your very own! Families can also visit our “Plein Air” (or outside) Playspace with new surprise art stations set up each week! \nClick here to reserve your spot >> \nSummer Family Workshops are generously sponsored by AdventHealth and Massey Services. Our 2024-25 Free Family Programs\, including the Workshops\, are supported by a grant from Duke Energy Foundation.
URL:https://artandhistory.org/event/summer-family-art-workshops-week-3-soft-sculpture-bugs/
LOCATION:Art & History Museums – Maitland\, 231 W. Packwood Ave\, Maitland\, FL\, 32751\, United States
CATEGORIES:Event,Events
ATTACH;FMTTYPE=image/jpeg:https://artandhistory.org/wp-content/uploads/Summer-Family-Art-Workshops-Week-3-Soft-Sculpture-Bugs-scaled.jpg
END:VEVENT
BEGIN:VEVENT
DTSTART;TZID=America/New_York:20250625T173000
DTEND;TZID=America/New_York:20250625T200000
DTSTAMP:20260422T010659
CREATED:20250107T202027Z
LAST-MODIFIED:20250114T201214Z
UID:11125-1750872600-1750881600@artandhistory.org
SUMMARY:Last Wednesday at A&H
DESCRIPTION:Enjoy free gallery admission\, grab a drink from our cash bar\, and discover the beauty of our main garden after hours every Last Wednesday of the month. Jumpstart conversations with free tours of our current gallery exhibitions by our Chief Curator or a free lecture by a visiting expert in art or history every month from 6-7pm! Find your creative community every Last Wednesday at the Art & History Museums of Maitland. \nClick here to reserve your spot>>
URL:https://artandhistory.org/event/last-wednesday-7/
LOCATION:Art & History Museums – Maitland\, 231 W. Packwood Ave\, Maitland\, FL\, 32751\, United States
CATEGORIES:Event,Events
ATTACH;FMTTYPE=image/png:https://artandhistory.org/wp-content/uploads/Last-Weds.png
END:VEVENT
BEGIN:VEVENT
DTSTART;TZID=America/New_York:20250625T180000
DTEND;TZID=America/New_York:20250625T190000
DTSTAMP:20260422T010659
CREATED:20250114T204149Z
LAST-MODIFIED:20250114T210439Z
UID:11279-1750874400-1750878000@artandhistory.org
SUMMARY:Free Gallery Tour
DESCRIPTION:Get your FREE tickets here>> \nThis A&H curator-guided gallery tour offers a deep dive into the current exhibition LOSS\, from its conception through creation to the decisions that determine its presentation. We’ll begin the evening with a 45-minute tour led by our Chief Curator Dan L. Hess followed by conversation with complimentary food for the rest of the evening! Bring a friend\, a date\, or come by yourself to make new friends who share your interest in the arts. \nFor more information about our current exhibition LOSS: \nSt. Petersburg\, Florida based artist Mike Massaro is a sculptor and mixed media installation artist who poetically manipulates everyday construction materials and found objects to meet his desired end. His solo sculptural installation LOSS is an abstract representation exploring nuanced themes of change\, loss and rebirth. As the viewer navigates the physical objects and lighting\, they will be provided with a contemplative space in which they can process their own personal experiences of the subjects. Massaro was awarded his BFA from the University of Tampa. \nThis evening event is presented during our monthly Last Wednesday hours\, when we open our gallery free of charge with a cash bar from 5:30-8pm. Learn more here.
URL:https://artandhistory.org/event/free-gallery-tour-2/
LOCATION:Art & History Museums – Maitland\, 231 W. Packwood Ave\, Maitland\, FL\, 32751\, United States
CATEGORIES:Event,Events
ATTACH;FMTTYPE=image/jpeg:https://artandhistory.org/wp-content/uploads/Dan-Hess-with-art-by-Jessica-Caldas-by-Hannah-Miller-scaled.jpg
END:VEVENT
END:VCALENDAR