BEGIN:VCALENDAR
VERSION:2.0
PRODID:-//A&amp;H - Art &amp; History Museums Maitland - ECPv6.15.20//NONSGML v1.0//EN
CALSCALE:GREGORIAN
METHOD:PUBLISH
X-ORIGINAL-URL:https://artandhistory.org
X-WR-CALDESC:Events for A&amp;H - Art &amp; History Museums Maitland
REFRESH-INTERVAL;VALUE=DURATION:PT1H
X-Robots-Tag:noindex
X-PUBLISHED-TTL:PT1H
BEGIN:VTIMEZONE
TZID:America/New_York
BEGIN:DAYLIGHT
TZOFFSETFROM:-0500
TZOFFSETTO:-0400
TZNAME:EDT
DTSTART:20190310T070000
END:DAYLIGHT
BEGIN:STANDARD
TZOFFSETFROM:-0400
TZOFFSETTO:-0500
TZNAME:EST
DTSTART:20191103T060000
END:STANDARD
BEGIN:DAYLIGHT
TZOFFSETFROM:-0500
TZOFFSETTO:-0400
TZNAME:EDT
DTSTART:20200308T070000
END:DAYLIGHT
BEGIN:STANDARD
TZOFFSETFROM:-0400
TZOFFSETTO:-0500
TZNAME:EST
DTSTART:20201101T060000
END:STANDARD
BEGIN:DAYLIGHT
TZOFFSETFROM:-0500
TZOFFSETTO:-0400
TZNAME:EDT
DTSTART:20210314T070000
END:DAYLIGHT
BEGIN:STANDARD
TZOFFSETFROM:-0400
TZOFFSETTO:-0500
TZNAME:EST
DTSTART:20211107T060000
END:STANDARD
BEGIN:DAYLIGHT
TZOFFSETFROM:-0500
TZOFFSETTO:-0400
TZNAME:EDT
DTSTART:20220313T070000
END:DAYLIGHT
BEGIN:STANDARD
TZOFFSETFROM:-0400
TZOFFSETTO:-0500
TZNAME:EST
DTSTART:20221106T060000
END:STANDARD
END:VTIMEZONE
BEGIN:VEVENT
DTSTART;TZID=America/New_York:20211211T130000
DTEND;TZID=America/New_York:20211211T160000
DTSTAMP:20260422T231458
CREATED:20210817T204511Z
LAST-MODIFIED:20210817T204549Z
UID:7708-1639227600-1639238400@artandhistory.org
SUMMARY:Saturday Painting Workshop: Snowy Owl
DESCRIPTION:Saturday\, December 11 | 1pm-4pm \nInstructor: PJ Svedja\nLocation: The Cottage at Lake Lily\nCost: $50 + $20 materials fee \nSaturday Painting Workshops teach a blend of painting and mixed media techniques\, exploring a looser style of painting and greater expression. Complete a project in each unique workshop. Workshops are appropriate for all learners. \nExplore the unique and beautiful snowy owl. Learn how to use texturizing techniques\, paint layering\, and value to bring your owl to life! \nRegister >>
URL:https://artandhistory.org/event/saturday-painting-workshop-snowy-owl/
LOCATION:Art & History Museums – Maitland\, 231 W. Packwood Avenue\, Maitland\, FL\, 32751\, United States
CATEGORIES:Painting,Painting Workshops,Workshops
ATTACH;FMTTYPE=image/png:https://artandhistory.org/wp-content/uploads/Screenshot-2021-08-17-163944.png
END:VEVENT
BEGIN:VEVENT
DTSTART;TZID=America/New_York:20211002T130000
DTEND;TZID=America/New_York:20211002T160000
DTSTAMP:20260422T231458
CREATED:20210817T203602Z
LAST-MODIFIED:20210817T204217Z
UID:7704-1633179600-1633190400@artandhistory.org
SUMMARY:Saturday Painting Workshop: Lake Landscapes
DESCRIPTION:Saturday\, October 2 | 1pm-4pm \nInstructor: PJ Svedja\nLocation: The Cottage at Lake Lily\nCost: $50 + $20 materials fee \nSaturday Painting Workshops teach a blend of painting and mixed media techniques\, exploring a looser style of painting and greater expression. Complete a project in each unique workshop. Workshops are appropriate for all learners. \nIn this workshop\, you will study the beautiful lakes and skyscapes that surround us here in Florida! Learn how to paint reflections in water and gradients in sky color. \nRegister >>
URL:https://artandhistory.org/event/saturday-painting-workshops-lake-landscapes/
LOCATION:Art & History Museums – Maitland\, 231 W. Packwood Avenue\, Maitland\, FL\, 32751\, United States
CATEGORIES:Painting,Painting Workshops,Workshops
ATTACH;FMTTYPE=image/png:https://artandhistory.org/wp-content/uploads/Screenshot-2021-08-17-163444.png
END:VEVENT
BEGIN:VEVENT
DTSTART;TZID=America/New_York:20210807T130000
DTEND;TZID=America/New_York:20210807T160000
DTSTAMP:20260422T231458
CREATED:20210518T212053Z
LAST-MODIFIED:20210519T153513Z
UID:7387-1628341200-1628352000@artandhistory.org
SUMMARY:Saturday Painting Workshops: Just Beachy
DESCRIPTION:Saturday\, August 7 | 1pm-4pm \nInstructor: PJ Svejda\nLocation: Studio 10 at the Maitland Art Center\nCost: $50 + $20 materials fee (or bring your own supplies) \nBeach-inspired acrylic painting all about waves\, skies\, and sand! Learn techniques for creating atmosphere and texture in a soft calming color palette.  \nLove Saturday Painting Workshops with PJ? Don’t miss Tropical Plants on June 5! \nRegister >>
URL:https://artandhistory.org/event/saturday-painting-workshops-just-beachy/
LOCATION:Art & History Museums – Maitland\, 231 W. Packwood Ave\, Maitland\, FL\, 32751\, United States
CATEGORIES:Mixed Media & Painting,Painting,Painting Workshops,Workshops
ATTACH;FMTTYPE=image/jpeg:https://artandhistory.org/wp-content/uploads/Screenshot-2021-05-18-171000.jpg
END:VEVENT
BEGIN:VEVENT
DTSTART;TZID=America/New_York:20210605T130000
DTEND;TZID=America/New_York:20210605T160000
DTSTAMP:20260422T231458
CREATED:20210305T211557Z
LAST-MODIFIED:20210308T205220Z
UID:7000-1622898000-1622908800@artandhistory.org
SUMMARY:Saturday Painting Workshops: Tropical Plants
DESCRIPTION:Instructor: PJ Svejda \nLocation: Maitland Art Center Studio 10 \nCost: $50 + $20 materials fee (or bring your own supplies) \nThis acrylic painting workshop will allow you to play with paint! Experiment with drips\, stains\, and adding texture with a gel medium! Florida is known for its beautiful foliage. This class will be all about capturing the beautiful colors\, shapes\, and textures found in the tropical plants that surround us! \nRegister >> \nLove Saturday Painting Workshops with PJ? Don’t miss Drippy Birds on April 3!
URL:https://artandhistory.org/event/saturday-painting-workshops-tropical-plants/
LOCATION:231 W. Packwood Avenue\, Maitland\, 32751\, United States
CATEGORIES:Painting,Painting Workshops,Workshops
ATTACH;FMTTYPE=image/jpeg:https://artandhistory.org/wp-content/uploads/pj-flowers.jpg
END:VEVENT
BEGIN:VEVENT
DTSTART;TZID=America/New_York:20210403T130000
DTEND;TZID=America/New_York:20210403T160000
DTSTAMP:20260422T231458
CREATED:20201120T173047Z
LAST-MODIFIED:20201120T173104Z
UID:6647-1617454800-1617465600@artandhistory.org
SUMMARY:Saturday Painting Workshops: Drippy Birds
DESCRIPTION:Saturday Painting Workshops are a great way to expand your painting skills\, whatever your skill level! Join us this month to paint birds!\n\n\n\nThese workshops are a blend of painting and mixed media techniques\, exploring a looser style of painting and greater expression. Complete a project in each unique workshop! Workshops are appropriate for all learners. \nThis class is all about being loose and expressive! Learn to paint birds in a contemporary style! Saturday Painting Workshops are led by local artist and instructor PJ Svejda. \nWorkshop is for adults 18 and over. Registration is $50. Please note that a material fee of $20 (in cash) is due to the instructor at the start of the workshop OR you can bring your own supplies (see required supply list at www.artandhistory.org/classes). \nLocation: Maitland Art Center-Studio 10\, 231 W. Packwood Ave.\, Maitland\, FL 32751. \nRegister >>
URL:https://artandhistory.org/event/saturday-painting-workshops-drippy-birds/
LOCATION:Maitland Art Center\, 231 W. Packwood Ave.\, Maitland\, FL\, 32751\, United States
CATEGORIES:Painting,Painting Workshops,Workshops
ATTACH;FMTTYPE=image/jpeg:https://artandhistory.org/wp-content/uploads/499dc80d5d2d98126772761c4cb77c52-IJTRyP.tmp_.jpg
END:VEVENT
BEGIN:VEVENT
DTSTART;TZID=America/New_York:20210306T130000
DTEND;TZID=America/New_York:20210306T160000
DTSTAMP:20260422T231458
CREATED:20201120T192754Z
LAST-MODIFIED:20201120T192804Z
UID:6643-1615035600-1615046400@artandhistory.org
SUMMARY:Saturday Painting Workshops: Beach House
DESCRIPTION:Saturday Painting Workshops are a great way to expand your painting skills\, whatever your skill level! Come and paint a fun beach house!\n\n\n\nThese workshops are a blend of painting and mixed media techniques\, exploring a looser style of painting and greater expression. Complete a project in each unique workshop! Workshops are appropriate for all learners. \nStudy dramatic shadow and lighting in a fun light and bright painting! Learn how to utilize perspective\, light source\, and color temperature as we create a beautiful beach house painting with lots of texture! Saturday Painting Workshops are led by local artist and instructor PJ Svejda. \nWorkshop is for adults 18 and over. Registration is $50. Please note that a material fee of $20 (in cash) is due to the instructor at the start of the workshop OR you can bring your own supplies (see required supply list at www.artandhistory.org/classes). \nREGISTER >>
URL:https://artandhistory.org/event/saturday-painting-workshops-beach-house/
LOCATION:Maitland Art Center\, 231 W. Packwood Ave.\, Maitland\, FL\, 32751\, United States
CATEGORIES:Painting,Painting Workshops,Workshops
ATTACH;FMTTYPE=image/jpeg:https://artandhistory.org/wp-content/uploads/6a2ef9dcb6f3858924a2906089e0943a-FDNN5v.tmp_.jpg
END:VEVENT
BEGIN:VEVENT
DTSTART;TZID=America/New_York:20210206T130000
DTEND;TZID=America/New_York:20210206T160000
DTSTAMP:20260422T231458
CREATED:20201120T202459Z
LAST-MODIFIED:20201120T202510Z
UID:6638-1612616400-1612627200@artandhistory.org
SUMMARY:Saturday Painting Workshops: Florida Landscapes
DESCRIPTION:Saturday Painting Workshops are a great way to expand your painting skills\, whatever your skill level! Come paint Florida landscapes!\n\n\n\nThese workshops are a blend of painting and mixed media techniques\, exploring a looser style of painting and greater expression. Complete a project in each unique workshop! Workshops are appropriate for all learners. \nFlorida has some of the most iconic waters and skies. Come paint Florida landscapes in a beautiful impressionist alla prima style! Saturday Painting Workshops are led by local artist and instructor PJ Svejda. \nWorkshop is for adults 18 and over. Registration is $50. Please note that a material fee of $20 (in cash) is due to the instructor at the start of the workshop OR you can bring your own supplies (see required supply list at www.artandhistory.org/classes). \nREGISTER >>
URL:https://artandhistory.org/event/saturday-painting-workshops-florida-landscapes-2/
LOCATION:Maitland Art Center\, 231 W. Packwood Ave.\, Maitland\, FL\, 32751\, United States
CATEGORIES:Painting,Painting Workshops,Workshops
ATTACH;FMTTYPE=image/jpeg:https://artandhistory.org/wp-content/uploads/2ead18b5d1c63a570662f151207feb75-j7Rrsl.tmp_.jpg
END:VEVENT
BEGIN:VEVENT
DTSTART;TZID=America/New_York:20210102T130000
DTEND;TZID=America/New_York:20210102T160000
DTSTAMP:20260422T231458
CREATED:20201208T201203Z
LAST-MODIFIED:20201208T201255Z
UID:6632-1609592400-1609603200@artandhistory.org
SUMMARY:Saturday Painting Workshops: A Horse of Course
DESCRIPTION:Saturday Painting Workshops are a great way to expand your painting skills\, whatever your skill level! Join us this month to paint horses!\n\n\n\nThese workshops are a blend of painting and mixed media techniques\, exploring a looser style of painting and greater expression. Complete a project in each unique workshop! Workshops are appropriate for all learners. \nHorses are some of the best animals to paint! Learn how to capture animalistic expression and study perspective and anatomy. Come paint beautiful\, expressive horses! Saturday Painting Workshops are led by local artist and instructor PJ Svejda. \n\nREGISTER >> \n\nWorkshop is for adults 18 and over. Registration is $50. Please note that a material fee of $20 (in cash) is due to the instructor at the start of the workshop OR you can bring your own supplies (see required supply list at www.artandhistory.org/classes). \nLocation: Maitland Art Center-Studio 10\, 231 W. Packwood Ave.\, Maitland\, FL 32751. \nFor more information and classes please visit artandhistory.org
URL:https://artandhistory.org/event/saturday-painting-workshops-a-horse-of-course/
LOCATION:Maitland Art Center\, 231 W. Packwood Ave.\, Maitland\, FL\, 32751\, United States
CATEGORIES:Painting,Painting Workshops,Workshops
ATTACH;FMTTYPE=image/jpeg:https://artandhistory.org/wp-content/uploads/74e5a23847c16dfb9c183220500afccd-I97GPl.tmp_.jpg
END:VEVENT
BEGIN:VEVENT
DTSTART;TZID=America/New_York:20200307T130000
DTEND;TZID=America/New_York:20200307T160000
DTSTAMP:20260422T231458
CREATED:20200218T175444Z
LAST-MODIFIED:20200218T175444Z
UID:5402-1583586000-1583596800@artandhistory.org
SUMMARY:Saturday Painting Workshops: Florida Landscapes
DESCRIPTION:Saturday\, March 7  | 1pm-4pm \nInstructor: PJ Svejda\nLocation: Studio 10 at the Maitland Art Center\nCost: $50 + $20 materials fee \nJoin artist PJ Svejda for Saturday Painting Workshops\, a blend of painting and mixed media techniques that allow you to explore a looser style of painting and greater expression! The March edition is Florida Landscapes: we’ll focus on brush work and color to create the most dynamic and interesting painting of a Florida-inspired landscape. These workshops are appropriate for learners of all ages and skill levels. \nRegister >>
URL:https://artandhistory.org/event/saturday-painting-workshops-florida-landscapes/
LOCATION:Art & History Museums – Maitland\, 231 W. Packwood Avenue\, Maitland\, FL\, 32751\, United States
CATEGORIES:Painting,Painting Workshops,Workshops
END:VEVENT
END:VCALENDAR