BEGIN:VCALENDAR
VERSION:2.0
PRODID:-//A&amp;H - Art &amp; History Museums Maitland - ECPv6.15.20//NONSGML v1.0//EN
CALSCALE:GREGORIAN
METHOD:PUBLISH
X-WR-CALNAME:A&amp;H - Art &amp; History Museums Maitland
X-ORIGINAL-URL:https://artandhistory.org
X-WR-CALDESC:Events for A&amp;H - Art &amp; History Museums Maitland
REFRESH-INTERVAL;VALUE=DURATION:PT1H
X-Robots-Tag:noindex
X-PUBLISHED-TTL:PT1H
BEGIN:VTIMEZONE
TZID:America/New_York
BEGIN:DAYLIGHT
TZOFFSETFROM:-0500
TZOFFSETTO:-0400
TZNAME:EDT
DTSTART:20190310T070000
END:DAYLIGHT
BEGIN:STANDARD
TZOFFSETFROM:-0400
TZOFFSETTO:-0500
TZNAME:EST
DTSTART:20191103T060000
END:STANDARD
BEGIN:DAYLIGHT
TZOFFSETFROM:-0500
TZOFFSETTO:-0400
TZNAME:EDT
DTSTART:20200308T070000
END:DAYLIGHT
BEGIN:STANDARD
TZOFFSETFROM:-0400
TZOFFSETTO:-0500
TZNAME:EST
DTSTART:20201101T060000
END:STANDARD
BEGIN:DAYLIGHT
TZOFFSETFROM:-0500
TZOFFSETTO:-0400
TZNAME:EDT
DTSTART:20210314T070000
END:DAYLIGHT
BEGIN:STANDARD
TZOFFSETFROM:-0400
TZOFFSETTO:-0500
TZNAME:EST
DTSTART:20211107T060000
END:STANDARD
BEGIN:DAYLIGHT
TZOFFSETFROM:-0500
TZOFFSETTO:-0400
TZNAME:EDT
DTSTART:20220313T070000
END:DAYLIGHT
BEGIN:STANDARD
TZOFFSETFROM:-0400
TZOFFSETTO:-0500
TZNAME:EST
DTSTART:20221106T060000
END:STANDARD
BEGIN:DAYLIGHT
TZOFFSETFROM:-0500
TZOFFSETTO:-0400
TZNAME:EDT
DTSTART:20230312T070000
END:DAYLIGHT
BEGIN:STANDARD
TZOFFSETFROM:-0400
TZOFFSETTO:-0500
TZNAME:EST
DTSTART:20231105T060000
END:STANDARD
END:VTIMEZONE
BEGIN:VEVENT
DTSTART;TZID=America/New_York:20221022T130000
DTEND;TZID=America/New_York:20221022T160000
DTSTAMP:20260422T235810
CREATED:20220630T183924Z
LAST-MODIFIED:20220630T183924Z
UID:8543-1666443600-1666454400@artandhistory.org
SUMMARY:Creative Sculpture & Castings: 2D Miniature Workshop
DESCRIPTION:Saturday & Sunday\, October 22 – 23 | 1pm-4pm \nInstructor: Kent Arblaster\nLocation: Studio 10\nCost: $75 \nIn this 2-day workshop\, learn how to design and create your own 2D artwork inspired by J. Andre Smith’s Maitland Art Center reliefs. On day one\, you will tour the Maitland Art Center and select one of Smith’s reliefs to replicate. Afterward\, create a miniature version of the relief in wax sculpture and make a silicone rubber mold. On day two\, you will mix and pour acrylic into your mold for curing and finish your art with paints\, dyes\, and other decorative materials. \nWorkshop is for adults 18 and over. Registration is $75 (materials and tools included\, pewter available for purchase at $5 per piece). \nRegister>>
URL:https://artandhistory.org/event/creative-sculpture-castings-2d-miniature-workshop-2/
LOCATION:Art & History Museums – Maitland\, 231 W. Packwood Avenue\, Maitland\, FL\, 32751\, United States
CATEGORIES:Event,Sculpture,Workshops
ATTACH;FMTTYPE=image/jpeg:https://artandhistory.org/wp-content/uploads/Screenshot-2022-06-30-143833.jpg
END:VEVENT
BEGIN:VEVENT
DTSTART;TZID=America/New_York:20220918T130000
DTEND;TZID=America/New_York:20220918T160000
DTSTAMP:20260422T235810
CREATED:20220630T183053Z
LAST-MODIFIED:20220630T183053Z
UID:8540-1663506000-1663516800@artandhistory.org
SUMMARY:Creative Sculpture & Castings Workshop
DESCRIPTION:Sunday\, September 18 | 1pm-4pm \nInstructor: Kent Arblaster\nLocation: Studio 10\nCost: $55 \nCreate your own custom 2D miniature sculpture from over 20 design molds – all inspired by artist J. Andre Smith’s Maitland Art Center reliefs. This includes pouring and casting your miniature and then finishing it with paints\, dyes\, and other decorative materials. This is a fun and creative workshop for all skill levels. You can wear your finished art piece as jewelry or use it as decor for your home. \nWorkshop is for adults 18 and over. $55 (materials and tools included\, pewter available for purchase at $5 per piece). \nRegister>>
URL:https://artandhistory.org/event/creative-sculpture-castings-workshop/
LOCATION:Art & History Museums – Maitland\, 231 W. Packwood Avenue\, Maitland\, FL\, 32751\, United States
CATEGORIES:Event,Events,Jewelry Workshops,Sculpture,Workshops
ATTACH;FMTTYPE=image/jpeg:https://artandhistory.org/wp-content/uploads/Screenshot-2022-06-30-142850.jpg
END:VEVENT
BEGIN:VEVENT
DTSTART;TZID=America/New_York:20220903T130000
DTEND;TZID=America/New_York:20220904T160000
DTSTAMP:20260422T235810
CREATED:20220504T010414Z
LAST-MODIFIED:20220504T010414Z
UID:8336-1662210000-1662307200@artandhistory.org
SUMMARY:2D Miniature Workshop
DESCRIPTION:Saturday & Sunday\, September 3 – September 4  |  1pm-4pm \nInstructor: Kent Arblaster\nLocation: Studio 10 at the Maitland Art Center\nCost: $75 (materials and tools included\, pewter available for purchase at $5 per piece) \nIn this 2-day workshop\, learn how to design and create your own 2D artwork inspired by J. Andre Smith’s Maitland Art Center reliefs. On day one\, you will tour the Maitland Art Center and select one of Smith’s reliefs to replicate. Afterward\, create a miniature version of the relief in wax sculpture and make a silicone rubber mold. On day two\, you will mix and pour acrylic into your mold for curing and finish your art with paints\, dyes\, and other decorative materials. \nSelected Saturdays & Sundays (both days) \nSaturday (10AM-4PM) & Sunday (1-4PM) \nAdditional times and sessions will be added as needed. Schedule a session for your private group now. \nRegister >>
URL:https://artandhistory.org/event/2d-miniature-workshop-2/
LOCATION:A&H’s Maitland Art Center\, 231 W. Packwood Avenue\, Maitland\, FL\, 32751\, United States
CATEGORIES:Sculpture,Workshops
ATTACH;FMTTYPE=image/jpeg:https://artandhistory.org/wp-content/uploads/IMG_5895-scaled.jpg
END:VEVENT
BEGIN:VEVENT
DTSTART;TZID=America/New_York:20220807T130000
DTEND;TZID=America/New_York:20220807T160000
DTSTAMP:20260422T235810
CREATED:20220504T005857Z
LAST-MODIFIED:20220504T005936Z
UID:8333-1659877200-1659888000@artandhistory.org
SUMMARY:Creative Sculpture & Casting Workshop
DESCRIPTION:Sunday\, August 7  |  1pm-4pm \nInstructor: Kent Arblaster\nLocation: Studio 10 at the Maitland Art Center\nCost: $55 (materials and tools included\, pewter available for purchase at $5 per piece) \nCreate your own custom 2D miniature sculpture from over 20 design molds – all inspired by artist J. Andre Smith’s Maitland Art Center reliefs. This includes pouring and casting your miniature and then finishing it with paints\, dyes\, and other decorative materials. This is a fun and creative workshop for all skill levels. You can wear your finished art piece as jewelry or use it as decor for your home. \nThe perfect workshop for your private group or office team building exercises. Schedule a session for your private group now. Selected Sundays\, 1-4PM. \nRegister >>
URL:https://artandhistory.org/event/creative-scultpure-casting-workshop/
LOCATION:A&H’s Maitland Art Center\, 231 W. Packwood Avenue\, Maitland\, FL\, 32751\, United States
CATEGORIES:Sculpture,Workshops
ATTACH;FMTTYPE=image/jpeg:https://artandhistory.org/wp-content/uploads/IMG_5873-2-scaled.jpg
END:VEVENT
BEGIN:VEVENT
DTSTART;TZID=America/New_York:20220703T130000
DTEND;TZID=America/New_York:20220703T160000
DTSTAMP:20260422T235810
CREATED:20220504T005452Z
LAST-MODIFIED:20220504T005521Z
UID:8330-1656853200-1656864000@artandhistory.org
SUMMARY:Creative Sculpture & Casting Workshop
DESCRIPTION:Sunday\, July 3  |  1pm-4pm \nInstructor: Kent Arblaster\nLocation: Studio 10 at the Maitland Art Center\nCost: $55 (materials and tools included\, pewter available for purchase at $5 per piece) \nCreate your own custom 2D miniature sculpture from over 20 design molds – all inspired by artist J. Andre Smith’s Maitland Art Center reliefs. This includes pouring and casting your miniature and then finishing it with paints\, dyes\, and other decorative materials. This is a fun and creative workshop for all skill levels. You can wear your finished art piece as jewelry or use it as decor for your home. \nThe perfect workshop for your private group or office team building exercises. Schedule a session for your private group now. Selected Sundays\, 1-4PM. \nRegister >>\n 
URL:https://artandhistory.org/event/creative-sculpture-casting-workshop/
LOCATION:A&H’s Maitland Art Center\, 231 W. Packwood Avenue\, Maitland\, FL\, 32751\, United States
CATEGORIES:Sculpture,Workshops
ATTACH;FMTTYPE=image/jpeg:https://artandhistory.org/wp-content/uploads/IMG_5873-2-scaled.jpg
END:VEVENT
BEGIN:VEVENT
DTSTART;TZID=America/New_York:20220611T130000
DTEND;TZID=America/New_York:20220612T160000
DTSTAMP:20260422T235810
CREATED:20220303T000124Z
LAST-MODIFIED:20220303T000222Z
UID:8118-1654952400-1655049600@artandhistory.org
SUMMARY:2D Miniature Workshop
DESCRIPTION:Saturday\, June 11 and Sunday\, June 12  |  1pm-4pm \nInstructor: Kent Arblaster\nLocation: Studio 10 at the Maitland Art Center\nCost: $75 (materials and tools included\, pewter available for purchase at $5 per piece) \nIn this 2-day workshop\, learn how to design and create your own 2D artwork inspired by J. Andre Smith’s Maitland Art Center reliefs. On day one\, you will tour the Maitland Art Center and select one of Smith’s reliefs to replicate. Then you will create a miniature version of the relief in wax sculpture and make a silicone rubber mold. On day two\, you will mix and pour acrylic into your mold for curing. Finally\, you will decorate and take home your finished artwork. \nRegister>>
URL:https://artandhistory.org/event/2d-miniature-workshop/
LOCATION:A&H’s Maitland Art Center\, 231 W. Packwood Avenue\, Maitland\, FL\, 32751\, United States
CATEGORIES:Sculpture,Workshops
ATTACH;FMTTYPE=image/jpeg:https://artandhistory.org/wp-content/uploads/IMG_5895-scaled.jpg
END:VEVENT
BEGIN:VEVENT
DTSTART;TZID=America/New_York:20220521T130000
DTEND;TZID=America/New_York:20220521T160000
DTSTAMP:20260422T235810
CREATED:20220302T234823Z
LAST-MODIFIED:20220411T142822Z
UID:8116-1653138000-1653148800@artandhistory.org
SUMMARY:Creative Sculpture and Casting Workshop
DESCRIPTION:Sunday\, May 21  |  1pm-4pm \nInstructor: Kent Arblaster\nLocation: Studio 10 at the Maitland Art Center\nCost: $55 (materials and tools included\, pewter available for purchase at $5 per piece) \nCreate your own custom 2D miniature. Choose from over 20 design molds-all inspired by J. Andre Smith’s Maitland Art Center reliefs. Pour and cast your miniature\, then embellish it with paints\, dyes\, and other decorative materials. Use your finished art piece as decor or jewelry! \nRegister >>
URL:https://artandhistory.org/event/creative-sculpture-and-casting-workshop-2/
LOCATION:A&H’s Maitland Art Center\, 231 W. Packwood Avenue\, Maitland\, FL\, 32751\, United States
CATEGORIES:Sculpture,Workshops
ATTACH;FMTTYPE=image/jpeg:https://artandhistory.org/wp-content/uploads/IMG_5873-2-scaled.jpg
END:VEVENT
BEGIN:VEVENT
DTSTART;TZID=America/New_York:20220417T130000
DTEND;TZID=America/New_York:20220417T160000
DTSTAMP:20260422T235810
CREATED:20220302T234508Z
LAST-MODIFIED:20220331T182220Z
UID:8106-1650200400-1650211200@artandhistory.org
SUMMARY:Creative Sculpture and Casting Workshop
DESCRIPTION:Sunday\, April 17  |  1pm-4pm \nInstructor: Kent Arblaster\nLocation: Studio 10 at the Maitland Art Center\nCost: $55 (materials and tools included\, pewter available for purchase at $5 per piece) \nCreate your own custom 2D miniature. Choose from over 20 design molds-all inspired by J. Andre Smith’s Maitland Art Center reliefs. Pour and cast your miniature\, then embellish it with paints\, dyes\, and other decorative materials. Use your finished art piece as decor or jewelry! \nRegister >>
URL:https://artandhistory.org/event/creative-sculpture-and-casting-workshop/
LOCATION:A&H’s Maitland Art Center\, 231 W. Packwood Avenue\, Maitland\, FL\, 32751\, United States
CATEGORIES:Sculpture,Workshops
ATTACH;FMTTYPE=image/jpeg:https://artandhistory.org/wp-content/uploads/IMG_5873-2-scaled.jpg
END:VEVENT
BEGIN:VEVENT
DTSTART;TZID=America/New_York:20220319T130000
DTEND;TZID=America/New_York:20220319T160000
DTSTAMP:20260422T235810
CREATED:20211112T142156Z
LAST-MODIFIED:20211208T205750Z
UID:7875-1647694800-1647705600@artandhistory.org
SUMMARY:Creative Sculpture & Castings: 2D Miniature Workshop
DESCRIPTION:Saturday\, Mar 19- Sunday\, Mar 20 | 1pm-4pm \nInstructor: Kent Arblaster \nLocation: Maitland Art Center Studio 10 \nCost: $75 ( materials and tools included\, pewter available for pruchase at $5 per piece) \nIn this 2-day workshop\, learn how to design and create your own 2D artwork inspired by J. Andre Smith’s Maitland Art Center reliefs. On day one\, you will tour the Maitland Art Center and select one of Smith’s reliefs to replicate. Then you will create a miniature version of the relief in wax sculpture and make a silicone rubber mold. On day two\, you will mix and pour acrylic into your mold for curing. Finally\, you will decorate and take home your finished artwork. \nClick here to register!
URL:https://artandhistory.org/event/creative-sculpture-castings-2d-miniature-workshop/
LOCATION:Art & History Museums – Maitland\, 231 W. Packwood Avenue\, Maitland\, FL\, 32751\, United States
CATEGORIES:Sculpture,Workshops
END:VEVENT
BEGIN:VEVENT
DTSTART;TZID=America/New_York:20220306T130000
DTEND;TZID=America/New_York:20220306T160000
DTSTAMP:20260422T235810
CREATED:20211112T141845Z
LAST-MODIFIED:20211208T211201Z
UID:7869-1646571600-1646582400@artandhistory.org
SUMMARY:Creative Sculpture & Castings
DESCRIPTION:Sunday\, March 6 |  1pm-4pm \nInstructor: Kent Arblaster\nLocation: Studio 10 at the Maitland Art Center\nCost: $55 (materials and tools are included). Pewter will be available for purchase during the workshop at $5 per piece. \nCreate your own custom 2D miniature. Choose from over 20 design molds-all inspired by J. Andre Smith’s Maitland Art Center reliefs. Pour and cast your miniature\, then embellish it with paints\, dyes\, and other decorative materials. Use your finished art piece as decor or jewelry! \n______________________________________________________________________________________________________ \nWorkshop is for adults 18 and over. Registration is $55 (materials and tools are included). Pewter will be available for purchase during the workshop at $5 per piece. \nRegister>>
URL:https://artandhistory.org/event/creative-sculpture-castings-3/
LOCATION:Art & History Museums – Maitland\, 231 W. Packwood Avenue\, Maitland\, FL\, 32751\, United States
CATEGORIES:Sculpture,Workshops
ATTACH;FMTTYPE=image/png:https://artandhistory.org/wp-content/uploads/Screenshot-2021-08-17-141856-1.png
END:VEVENT
BEGIN:VEVENT
DTSTART;TZID=America/New_York:20220206T010000
DTEND;TZID=America/New_York:20220206T160000
DTSTAMP:20260422T235810
CREATED:20211111T215106Z
LAST-MODIFIED:20211208T211036Z
UID:7865-1644109200-1644163200@artandhistory.org
SUMMARY:Creative Sculpture & Castings
DESCRIPTION:Sunday\, February 6 |  1pm-4pm \nInstructor: Kent Arblaster\nLocation: Studio 10 at the Maitland Art Center\nCost: $55 (materials and tools are included). Pewter will be available for purchase during the workshop at $5 per piece. \nCreate your own custom 2D miniature. Choose from over 20 design molds-all inspired by J. Andre Smith’s Maitland Art Center reliefs. Pour and cast your miniature\, then embellish it with paints\, dyes\, and other decorative materials. Use your finished art piece as decor or jewelry! \n______________________________________________________________________________________________________ \nWorkshop is for adults 18 and over. Registration is $55 (materials and tools are included). Pewter will be available for purchase during the workshop at $5 per piece. \nRegister>>
URL:https://artandhistory.org/event/creative-sculpture-castings/
LOCATION:Art & History Museums – Maitland\, 231 W. Packwood Avenue\, Maitland\, FL\, 32751\, United States
CATEGORIES:Sculpture,Workshops
ATTACH;FMTTYPE=image/png:https://artandhistory.org/wp-content/uploads/Screenshot-2021-08-17-141856-1.png
END:VEVENT
BEGIN:VEVENT
DTSTART;TZID=America/New_York:20211204T130000
DTEND;TZID=America/New_York:20211204T160000
DTSTAMP:20260422T235810
CREATED:20210928T193742Z
LAST-MODIFIED:20211019T192102Z
UID:7792-1638622800-1638633600@artandhistory.org
SUMMARY:Creative Sculpture & Castings: 2D Miniature Workshop
DESCRIPTION:Saturday\, Dec 4 – Sunday\, Dec 5 | 1pm-4pm \nInstructor: Kent Arblaster \nLocation: Maitland Art Center Studio 10 \nCost: $75 ( materials and tools included\, pewter available for pruchase at $5 per piece) \nIn this 2-day workshop\, learn how to design and create your own 2D artwork inspired by J. Andre Smith’s Maitland Art Center reliefs. On day one\, you will tour the Maitland Art Center and select one of Smith’s reliefs to replicate. Then you will create a miniature version of the relief in wax sculpture and make a silicone rubber mold. On day two\, you will mix and pour acrylic into your mold for curing. Finally\, you will decorate and take home your finished artwork. \nFor more information and classes please visit artandhistory.org\n  \nClick here to register!
URL:https://artandhistory.org/event/creative-sculpture-castings-acrylic-pouring-decorating-workshop-2/
LOCATION:Art & History Museums – Maitland\, 231 W. Packwood Avenue\, Maitland\, FL\, 32751\, United States
CATEGORIES:Sculpture,Workshops
ATTACH;FMTTYPE=image/png:https://artandhistory.org/wp-content/uploads/Screenshot-2021-08-17-141856-1.png
END:VEVENT
BEGIN:VEVENT
DTSTART;TZID=America/New_York:20200328T103000
DTEND;TZID=America/New_York:20200328T140000
DTSTAMP:20260422T235810
CREATED:20200218T181327Z
LAST-MODIFIED:20200220T152607Z
UID:5408-1585391400-1585404000@artandhistory.org
SUMMARY:Basic Lifecasting/Bodycasting
DESCRIPTION:Saturday\, March 28  | 10:30am-2pm \nInstructor: Michael Moffett\nLocation: Studio 10 at the Maitland Art Center\nCost: $120 + $20 model fee \nThis is a basic lifecasting/bodycasting demonstration\, covering the use of silicone and alginate mold-making on hands and faces\, as well as casting into a positive hydrostone and other materials. Learn basic mold-making techniques for the beginner to advanced student using a live model. Build upon your skills next semester with a more advanced workshop! \nRegister >>
URL:https://artandhistory.org/event/basic-lifecasting-bodycasting/
LOCATION:Art & History Museums – Maitland\, 231 W. Packwood Avenue\, Maitland\, FL\, 32751\, United States
CATEGORIES:Sculpture,Workshops
END:VEVENT
END:VCALENDAR