BEGIN:VCALENDAR
VERSION:2.0
PRODID:-//A&amp;H - Art &amp; History Museums Maitland - ECPv6.15.20//NONSGML v1.0//EN
CALSCALE:GREGORIAN
METHOD:PUBLISH
X-WR-CALNAME:A&amp;H - Art &amp; History Museums Maitland
X-ORIGINAL-URL:https://artandhistory.org
X-WR-CALDESC:Events for A&amp;H - Art &amp; History Museums Maitland
REFRESH-INTERVAL;VALUE=DURATION:PT1H
X-Robots-Tag:noindex
X-PUBLISHED-TTL:PT1H
BEGIN:VTIMEZONE
TZID:America/New_York
BEGIN:DAYLIGHT
TZOFFSETFROM:-0500
TZOFFSETTO:-0400
TZNAME:EDT
DTSTART:20200308T070000
END:DAYLIGHT
BEGIN:STANDARD
TZOFFSETFROM:-0400
TZOFFSETTO:-0500
TZNAME:EST
DTSTART:20201101T060000
END:STANDARD
BEGIN:DAYLIGHT
TZOFFSETFROM:-0500
TZOFFSETTO:-0400
TZNAME:EDT
DTSTART:20210314T070000
END:DAYLIGHT
BEGIN:STANDARD
TZOFFSETFROM:-0400
TZOFFSETTO:-0500
TZNAME:EST
DTSTART:20211107T060000
END:STANDARD
BEGIN:DAYLIGHT
TZOFFSETFROM:-0500
TZOFFSETTO:-0400
TZNAME:EDT
DTSTART:20220313T070000
END:DAYLIGHT
BEGIN:STANDARD
TZOFFSETFROM:-0400
TZOFFSETTO:-0500
TZNAME:EST
DTSTART:20221106T060000
END:STANDARD
END:VTIMEZONE
BEGIN:VEVENT
DTSTART;TZID=America/New_York:20210102T130000
DTEND;TZID=America/New_York:20210102T160000
DTSTAMP:20260420T045019
CREATED:20201208T201203Z
LAST-MODIFIED:20201208T201255Z
UID:6632-1609592400-1609603200@artandhistory.org
SUMMARY:Saturday Painting Workshops: A Horse of Course
DESCRIPTION:Saturday Painting Workshops are a great way to expand your painting skills\, whatever your skill level! Join us this month to paint horses!\n\n\n\nThese workshops are a blend of painting and mixed media techniques\, exploring a looser style of painting and greater expression. Complete a project in each unique workshop! Workshops are appropriate for all learners. \nHorses are some of the best animals to paint! Learn how to capture animalistic expression and study perspective and anatomy. Come paint beautiful\, expressive horses! Saturday Painting Workshops are led by local artist and instructor PJ Svejda. \n\nREGISTER >> \n\nWorkshop is for adults 18 and over. Registration is $50. Please note that a material fee of $20 (in cash) is due to the instructor at the start of the workshop OR you can bring your own supplies (see required supply list at www.artandhistory.org/classes). \nLocation: Maitland Art Center-Studio 10\, 231 W. Packwood Ave.\, Maitland\, FL 32751. \nFor more information and classes please visit artandhistory.org
URL:https://artandhistory.org/event/saturday-painting-workshops-a-horse-of-course/
LOCATION:Maitland Art Center\, 231 W. Packwood Ave.\, Maitland\, FL\, 32751\, United States
CATEGORIES:Painting,Painting Workshops,Workshops
ATTACH;FMTTYPE=image/jpeg:https://artandhistory.org/wp-content/uploads/74e5a23847c16dfb9c183220500afccd-I97GPl.tmp_.jpg
END:VEVENT
BEGIN:VEVENT
DTSTART;TZID=America/New_York:20210103T093000
DTEND;TZID=America/New_York:20210103T103000
DTSTAMP:20260420T045019
CREATED:20201208T153047Z
LAST-MODIFIED:20201208T153047Z
UID:6740-1609666200-1609669800@artandhistory.org
SUMMARY:Easy Like Sunday Morning: Yoga in the Garden
DESCRIPTION:Level: Beginner | Style: Hatha\n9:30am – 10:30am\n$15 per class\, registration required\nJoin Dimitri Delazanos on Sunday morning for Yoga in the Garden\, at the Art & History Museum-Maitland’s . \nThis class favors beginners and weaves together breath and yoga poses in a slow flow. Expect a more leisurely pace than traditional Vinyasa. Students will be introduced to yoga postures through step-by-step verbal description and demonstration. Emphasis is placed on student understanding\, safety\, and stability within each pose. \nCheck out our 11am Detox and Go for intermediate students. \nMasks and social distancing are required for this outdoor class. Students are responsible for bringing their own water and yoga mat. \nREGISTER >>
URL:https://artandhistory.org/event/easy-like-sunday-morning-yoga-in-the-garden/
LOCATION:Art & History Museums – Maitland\, 231 W. Packwood Avenue\, Maitland\, FL\, 32751\, United States
CATEGORIES:Event,Events,Workshops
ATTACH;FMTTYPE=image/jpeg:https://artandhistory.org/wp-content/uploads/https___cdn.evbuc_.com_images_118613421_303807323185_1_original.jpeg
END:VEVENT
BEGIN:VEVENT
DTSTART;TZID=America/New_York:20210103T110000
DTEND;TZID=America/New_York:20210103T120000
DTSTAMP:20260420T045019
CREATED:20201208T154301Z
LAST-MODIFIED:20201208T154301Z
UID:6747-1609671600-1609675200@artandhistory.org
SUMMARY:Detox & Go: Yoga in the Garden
DESCRIPTION:Level: Intermediate | Style: Vinyasa\n11am – 12 pm\n$15 per class\, registration required\nJoin Dimitri Delazanos on Sunday morning for Yoga in the Garden\, at the Art & History Museums of Maitland. \nIndulge in a series of bends\, twists and folds in this detox Vinyasa style yoga class that encourages students to sweat. Students will stretch into the muscles of the respiratory system to enhance their capacity to breathe deeply and easily. And core work is a given! As a result\, students will walk away from this practice feeling refreshed\, renewed\, and rejuvenated. for intermediate students. \nMasks and social distancing are required for this outdoor class. Students are responsible to bring their own water and yoga mat. \nREGISTER >>
URL:https://artandhistory.org/event/detox-go-yoga-in-the-garden/
LOCATION:Art & History Museums – Maitland\, 231 W. Packwood Avenue\, Maitland\, FL\, 32751\, United States
CATEGORIES:Event,Events,Workshops
ATTACH;FMTTYPE=image/jpeg:https://artandhistory.org/wp-content/uploads/https___cdn.evbuc_.com_images_118614967_303807323185_1_original.jpeg
END:VEVENT
BEGIN:VEVENT
DTSTART;TZID=America/New_York:20210110T100000
DTEND;TZID=America/New_York:20210110T130000
DTSTAMP:20260420T045019
CREATED:20201120T203736Z
LAST-MODIFIED:20201120T203747Z
UID:6634-1610272800-1610283600@artandhistory.org
SUMMARY:Sunday Jewelry Workshops: Stackable Ring Set
DESCRIPTION:Complete a different project in each Sunday Jewelry Workshop! Join us this month to learn to create a stackable ring set. Beginners welcome!\n\n\n\nIf you have little or no experience in metal work\, this workshop is for you! You will learn the three steps of cut\, weld\, and polish to create a set of three rings in your size and style. This workshop is taught by longtime Maitland Art Center instructor and artist Jim Hosner. \nWorkshop is for adults 18 and over. Registration is $50. Please note that a material fee of $5 (in cash) is due to the instructor at the start of the workshop. \nREGISTER >>
URL:https://artandhistory.org/event/sunday-jewelry-workshops-stackable-ring-set-2/
LOCATION:Maitland Art Center\, 231 W. Packwood Ave.\, Maitland\, FL\, 32751\, United States
CATEGORIES:Jewelry,Jewelry Workshops,Workshops
ATTACH;FMTTYPE=image/jpeg:https://artandhistory.org/wp-content/uploads/9cb5d61bf99dc3c76d7e13455359609c-qH8ItR.tmp_.jpg
END:VEVENT
BEGIN:VEVENT
DTSTART;TZID=America/New_York:20210110T100000
DTEND;TZID=America/New_York:20210110T160000
DTSTAMP:20260420T045019
CREATED:20200810T174130Z
LAST-MODIFIED:20201120T203642Z
UID:6393-1610272800-1610294400@artandhistory.org
SUMMARY:Basic Papermaking Workshop with Judith Segall
DESCRIPTION:Create paper using recycled materials using pouring techniques\, embedding\, lamination\, and coloration of handmade paper.\n\n\n\nTaking a trip around the world with different fibers\, one will learn that paper is still made by hand in many third world countries\, even today. Students will learn sheet forming and pouring techniques\, embedding\, lamination\, and coloration of handmade paper\, and will go home with a few finished pieces of art. Students please bring with you any materials you would like to recycle such as flowers\, dried plants\, paper\, vegetable peelings and paper. Be prepared to get wet during the process of the workshop. \nWorkshop is for adults 18 and over. Material fee of $25 in cash due to the instructor at the start of the workshop. \nWorkshop is located at the Studios at Lily\, 830 Lake Lily Drive\, Maitland\, FL 32751. \nRegister >>
URL:https://artandhistory.org/event/basic-papermaking-workshop-with-judith-segall-2/
LOCATION:Art & History Museums – Maitland\, 231 W. Packwood Ave\, Maitland\, FL\, 32751\, United States
CATEGORIES:Fiber Art,Workshops
ATTACH;FMTTYPE=image/jpeg:https://artandhistory.org/wp-content/uploads/dc25d47f8447e1fa510372f7a35761be-h7kJBo.tmp_.jpg
END:VEVENT
BEGIN:VEVENT
DTSTART;TZID=America/New_York:20210115T100000
DTEND;TZID=America/New_York:20210115T130000
DTSTAMP:20260420T045019
CREATED:20201120T201616Z
LAST-MODIFIED:20211111T210125Z
UID:6639-1610704800-1610715600@artandhistory.org
SUMMARY:Metal Clay Jewelry Workshops: Silver Leaf Necklace
DESCRIPTION:Saturday\, January 15 | 10am-1pm\nInstructor: Marion Fague-Bass\nLocation: Cottage at Lake Lily + Maitland Art Center\nCost: $60 + $50 materials fee \nUse a real leaf from home or from the Art Center to design a beautiful pendant\, charm\, or earrings. You will receive 10 grams of fine silver metal clay\, and learn how to roll the leaf into the clay to replicate the texture of the real thing. You can add a sparkling cubic zirconia if you like! Included in the materials fee is one (1) sterling silver chain OR two (2) sterling silver ear wires. The pieces will be fired after class and will be available for pick-up the following week at the Art Center. \nWorkshop is for adults 18 and over. Registration is $60. Please note that a material fee of $50 (in cash) is due to the instructor at the start of the workshop. \nRegister >>
URL:https://artandhistory.org/event/metal-clay-jewelry-workshops-silver-leaf-necklace/
LOCATION:Maitland Art Center\, 231 W. Packwood Ave.\, Maitland\, FL\, 32751\, United States
CATEGORIES:Jewelry,Jewelry Workshops,Workshops
ATTACH;FMTTYPE=image/png:https://artandhistory.org/wp-content/uploads/Screenshot_20201223-231013_2.png
END:VEVENT
BEGIN:VEVENT
DTSTART;TZID=America/New_York:20210116T110000
DTEND;TZID=America/New_York:20210116T150000
DTSTAMP:20260420T045019
CREATED:20201120T203448Z
LAST-MODIFIED:20210105T204720Z
UID:6635-1610794800-1610809200@artandhistory.org
SUMMARY:Metal Clay Jewelry Workshops: Earring Extravaganza
DESCRIPTION:Complete a different project in each Metal Clay Jewelry Workshop! Join us this month to learn to create 2-4 pairs of fine silver earrings.\n\n\n\nStudents will learn basic metal clay techniques including using templates and textures as well as setting faceted gemstones to create 2-4 pairs of fine silver earrings. Metal clay can be rolled\, stamped\, cut\, and manipulated like other clays\, but once fired is 99.9% pure silver. Students will finish their pieces to the dry greenware stage. All pieces will be fired after the workshop and available for pick-up the following week. For beginners. \nWorkshop is for adults 18 and over. Registration is $65. Please note that a material fee of $65 (in cash) is due to the instructor at the start of the workshop. \nREGISTER >>
URL:https://artandhistory.org/event/metal-clay-jewelry-workshops-earring-extravaganza/
LOCATION:Maitland Art Center\, 231 W. Packwood Ave.\, Maitland\, FL\, 32751\, United States
CATEGORIES:Jewelry,Jewelry Workshops,Workshops
ATTACH;FMTTYPE=image/png:https://artandhistory.org/wp-content/uploads/Screenshot_20201223-231418_2.png
END:VEVENT
BEGIN:VEVENT
DTSTART;TZID=America/New_York:20210117T100000
DTEND;TZID=America/New_York:20210117T140000
DTSTAMP:20260420T045019
CREATED:20201120T203037Z
LAST-MODIFIED:20201127T045845Z
UID:6636-1610877600-1610892000@artandhistory.org
SUMMARY:Jewelry Workshop: Pearl & Bead Stringing
DESCRIPTION:Join us for this workshop to learn to knot and string your own pearls\, old or new! Techniques will allow for future pearl or bead projects.\n\n\nHave you ever wanted to learn to string pearls? Do you want to restring your heirloom Grandmother’s pearls? Anyone can learn to string! Join us and do one or both! During this workshop you will learn to knot pearls from instructor Anastacia Santspree. If you have a strand you want to restring bring it in! Materials fees provide you with your own bead board\, strand of freshwater pearls or beads\, white gloves\, beading awl & thread\, clasp\, cutters\, and informational sheets to take home. Techniques taught in class will be applicable for your future pearl or bead stringing projects! \nWorkshop is for ages 15 and over. Registration is $50. Please note that a material fee of $25 (in cash) is due to the instructor at the start of the workshop. \nREGISTER >> \nThis workshop will also be offered on Tuesday\, January 19\, 2021 from 6-9 PM EST. To register for this alternate date and time please click here.
URL:https://artandhistory.org/event/jewelry-workshop-pearl-bead-stringing-2/
LOCATION:Maitland Art Center\, 231 W. Packwood Ave.\, Maitland\, FL\, 32751\, United States
CATEGORIES:Jewelry,Jewelry Workshops,Workshops
ATTACH;FMTTYPE=image/jpeg:https://artandhistory.org/wp-content/uploads/35d06e306af556d81811df3f8e6a06b8-Ljtvn7.tmp_.jpg
END:VEVENT
BEGIN:VEVENT
DTSTART;TZID=America/New_York:20210119T180000
DTEND;TZID=America/New_York:20210119T210000
DTSTAMP:20260420T045019
CREATED:20201120T202841Z
LAST-MODIFIED:20201120T202851Z
UID:6637-1611079200-1611090000@artandhistory.org
SUMMARY:Jewelry Workshop: Pearl & Bead Stringing
DESCRIPTION:Join us for this workshop to learn to knot and string your own pearls\, old or new! Techniques will allow for future pearl or bead projects.\n\n\nHave you ever wanted to learn to string pearls? Do you want to restring your heirloom Grandmother’s pearls? Anyone can learn to string! Join us and do one or both! During this workshop you will learn to knot pearls from instructor Anastacia Santspree. If you have a strand you want to restring bring it in! Materials fees provide you with your own bead board\, strand of freshwater pearls or beads\, white gloves\, beading awl & thread\, clasp\, cutters\, and informational sheets to take home. Techniques taught in class will be applicable for your future pearl or bead stringing projects! \nWorkshop is for ages 15 and over. Registration is $50. Please note that a material fee of $25 (in cash) is due to the instructor at the start of the workshop. \nREGISTER >> \nThis workshop will also be offered on Sunday\, January 17\, 2021 from 10 AM-2 PM EST. To register for this alternate date and time please click here.
URL:https://artandhistory.org/event/jewelry-workshop-pearl-bead-stringing/
LOCATION:Maitland Art Center\, 231 W. Packwood Ave.\, Maitland\, FL\, 32751\, United States
CATEGORIES:Jewelry,Jewelry Workshops,Workshops
ATTACH;FMTTYPE=image/jpeg:https://artandhistory.org/wp-content/uploads/a3b3812f12057f11fd5f0c0d06ed492f-Lrrv1L.tmp_.jpg
END:VEVENT
END:VCALENDAR