BEGIN:VCALENDAR
VERSION:2.0
PRODID:-//A&amp;H - Art &amp; History Museums Maitland - ECPv6.15.20//NONSGML v1.0//EN
CALSCALE:GREGORIAN
METHOD:PUBLISH
X-WR-CALNAME:A&amp;H - Art &amp; History Museums Maitland
X-ORIGINAL-URL:https://artandhistory.org
X-WR-CALDESC:Events for A&amp;H - Art &amp; History Museums Maitland
REFRESH-INTERVAL;VALUE=DURATION:PT1H
X-Robots-Tag:noindex
X-PUBLISHED-TTL:PT1H
BEGIN:VTIMEZONE
TZID:America/New_York
BEGIN:DAYLIGHT
TZOFFSETFROM:-0500
TZOFFSETTO:-0400
TZNAME:EDT
DTSTART:20200308T070000
END:DAYLIGHT
BEGIN:STANDARD
TZOFFSETFROM:-0400
TZOFFSETTO:-0500
TZNAME:EST
DTSTART:20201101T060000
END:STANDARD
BEGIN:DAYLIGHT
TZOFFSETFROM:-0500
TZOFFSETTO:-0400
TZNAME:EDT
DTSTART:20210314T070000
END:DAYLIGHT
BEGIN:STANDARD
TZOFFSETFROM:-0400
TZOFFSETTO:-0500
TZNAME:EST
DTSTART:20211107T060000
END:STANDARD
BEGIN:DAYLIGHT
TZOFFSETFROM:-0500
TZOFFSETTO:-0400
TZNAME:EDT
DTSTART:20220313T070000
END:DAYLIGHT
BEGIN:STANDARD
TZOFFSETFROM:-0400
TZOFFSETTO:-0500
TZNAME:EST
DTSTART:20221106T060000
END:STANDARD
END:VTIMEZONE
BEGIN:VEVENT
DTSTART;TZID=America/New_York:20210403T130000
DTEND;TZID=America/New_York:20210403T160000
DTSTAMP:20260419T220509
CREATED:20201120T173047Z
LAST-MODIFIED:20201120T173104Z
UID:6647-1617454800-1617465600@artandhistory.org
SUMMARY:Saturday Painting Workshops: Drippy Birds
DESCRIPTION:Saturday Painting Workshops are a great way to expand your painting skills\, whatever your skill level! Join us this month to paint birds!\n\n\n\nThese workshops are a blend of painting and mixed media techniques\, exploring a looser style of painting and greater expression. Complete a project in each unique workshop! Workshops are appropriate for all learners. \nThis class is all about being loose and expressive! Learn to paint birds in a contemporary style! Saturday Painting Workshops are led by local artist and instructor PJ Svejda. \nWorkshop is for adults 18 and over. Registration is $50. Please note that a material fee of $20 (in cash) is due to the instructor at the start of the workshop OR you can bring your own supplies (see required supply list at www.artandhistory.org/classes). \nLocation: Maitland Art Center-Studio 10\, 231 W. Packwood Ave.\, Maitland\, FL 32751. \nRegister >>
URL:https://artandhistory.org/event/saturday-painting-workshops-drippy-birds/
LOCATION:Maitland Art Center\, 231 W. Packwood Ave.\, Maitland\, FL\, 32751\, United States
CATEGORIES:Painting,Painting Workshops,Workshops
ATTACH;FMTTYPE=image/jpeg:https://artandhistory.org/wp-content/uploads/499dc80d5d2d98126772761c4cb77c52-IJTRyP.tmp_.jpg
END:VEVENT
BEGIN:VEVENT
DTSTART;TZID=America/New_York:20210410T100000
DTEND;TZID=America/New_York:20210410T140000
DTSTAMP:20260419T220509
CREATED:20210305T211547Z
LAST-MODIFIED:20210308T202833Z
UID:6996-1618048800-1618063200@artandhistory.org
SUMMARY:Metal Clay: Charming Charms
DESCRIPTION:Instructor: Marion Fague-Bass \nLocation: Maitland Art Center Studio 10 \nCost: $65 + $55 materials fee \nIn this workshop you will learn how to use a silicone compound to make reusable molds from a variety of small items that you bring from home or are available from the instructor. Then\, using your handmade molds and fine silver metal clay\, you will create charms for bracelets\, earrings\, or pendants. Additionally\, you will learn how to set gemstones and embed jump rings into your creation. All pieces will be fired after the workshop and available for pick-up the following week. For beginners or intermediate level students. \nRegister >>
URL:https://artandhistory.org/event/charming-charms/
LOCATION:231 W. Packwood Avenue\, Maitland\, 32751\, United States
CATEGORIES:Jewelry,Jewelry Workshops,Workshops
ATTACH;FMTTYPE=image/jpeg:https://artandhistory.org/wp-content/uploads/charming-charms-samples.jpg
END:VEVENT
BEGIN:VEVENT
DTSTART;TZID=America/New_York:20210411T100000
DTEND;TZID=America/New_York:20210411T130000
DTSTAMP:20260419T220509
CREATED:20210305T211432Z
LAST-MODIFIED:20210308T203215Z
UID:6993-1618135200-1618146000@artandhistory.org
SUMMARY:Sunday Jewelry Workshops: Stackable Ring Set
DESCRIPTION:Instructor: Jim Hosner \nLocation: Maitland Art Center Studio 5 \nCost: $50 + $5 materials fee \nIf you have little or no experience in metal work\, this workshop is for you! You will learn the three steps of cut\, weld\, and polish to create a set of three rings in your size and style. \nRegister >>
URL:https://artandhistory.org/event/stackable-ring-set/
LOCATION:231 W. Packwood Avenue\, Maitland\, 32751\, United States
CATEGORIES:Jewelry,Jewelry Workshops,Workshops
ATTACH;FMTTYPE=image/jpeg:https://artandhistory.org/wp-content/uploads/d8b2914b17a236deacb7d269da13e53b-7gkJnT.tmp_.jpg
END:VEVENT
BEGIN:VEVENT
DTSTART;TZID=America/New_York:20210425T100000
DTEND;TZID=America/New_York:20210425T130000
DTSTAMP:20260419T220509
CREATED:20210305T211424Z
LAST-MODIFIED:20210308T211645Z
UID:6987-1619344800-1619355600@artandhistory.org
SUMMARY:Intro to Jewelry Making
DESCRIPTION:Instructor: Anastacia Santspree \nLocation: Maitland Art Center Studio 5 \nCost: $50 + $35 materials fee \nLearn the basics of jewelry making! This is a great introduction to the art of creating beautiful jewelry. In this workshop you will complete one metal project without soldering. You will learn to use a jeweler’s saw\, cut jump rings\, cut metal sheet\, and various polishing techniques to create a beautiful pendant. The materials fee will provide you with your own set of jewelry pliers\, files\, other tools\, and informational sheets to take home. Techniques taught in class and the tools you take home will be applicable for your future jewelry projects. \nREGISTER >> \nOther dates for this workshop: \nTuesday\, April 27 | 6pm-9pm \nSunday\, May 16 | 10am-1pm \nTuesday\, May 18 | 6pm-9pm
URL:https://artandhistory.org/event/intro-to-jewelry-making/
LOCATION:231 W. Packwood Avenue\, Maitland\, 32751\, United States
CATEGORIES:Jewelry,Jewelry Workshops,Workshops
ATTACH;FMTTYPE=image/jpeg:https://artandhistory.org/wp-content/uploads//RG2_0366-byRobertoGonzalez-crop.jpg
END:VEVENT
BEGIN:VEVENT
DTSTART;TZID=America/New_York:20210427T180000
DTEND;TZID=America/New_York:20210427T210000
DTSTAMP:20260419T220509
CREATED:20210305T211424Z
LAST-MODIFIED:20210308T175748Z
UID:6988-1619546400-1619557200@artandhistory.org
SUMMARY:Intro to Jewelry Making
DESCRIPTION:Instructor: Anastacia Santspree \nLocation: Maitland Art Center Studio 5 \nCost: $50 + $35 materials fee \nLearn the basics of jewelry making! This is a great introduction to the art of creating beautiful jewelry. In this workshop you will complete one metal project without soldering. You will learn to use a jeweler’s saw\, cut jump rings\, cut metal sheet\, and various polishing techniques to create a beautiful pendant. The materials fee will provide you with your own set of jewelry pliers\, files\, other tools\, and informational sheets to take home. Techniques taught in class and the tools you take home will be applicable for your future jewelry projects. \nREGISTER >> \nOther dates for this workshop: \nSunday\, April 25 | 6pm-9pm \nSunday\, May 16 | 10am-1pm \nTuesday\, May 18 | 6pm-9pm
URL:https://artandhistory.org/event/intro-to-jewelry-making-2/
LOCATION:231 W. Packwood Avenue\, Maitland\, 32751\, United States
CATEGORIES:Jewelry,Jewelry Workshops,Workshops
ATTACH;FMTTYPE=image/jpeg:https://artandhistory.org/wp-content/uploads//RG2_0366-byRobertoGonzalez-crop.jpg
END:VEVENT
END:VCALENDAR