BEGIN:VCALENDAR
VERSION:2.0
PRODID:-//A&amp;H - Art &amp; History Museums Maitland - ECPv6.15.20//NONSGML v1.0//EN
CALSCALE:GREGORIAN
METHOD:PUBLISH
X-ORIGINAL-URL:https://artandhistory.org
X-WR-CALDESC:Events for A&amp;H - Art &amp; History Museums Maitland
REFRESH-INTERVAL;VALUE=DURATION:PT1H
X-Robots-Tag:noindex
X-PUBLISHED-TTL:PT1H
BEGIN:VTIMEZONE
TZID:America/New_York
BEGIN:DAYLIGHT
TZOFFSETFROM:-0500
TZOFFSETTO:-0400
TZNAME:EDT
DTSTART:20200308T070000
END:DAYLIGHT
BEGIN:STANDARD
TZOFFSETFROM:-0400
TZOFFSETTO:-0500
TZNAME:EST
DTSTART:20201101T060000
END:STANDARD
BEGIN:DAYLIGHT
TZOFFSETFROM:-0500
TZOFFSETTO:-0400
TZNAME:EDT
DTSTART:20210314T070000
END:DAYLIGHT
BEGIN:STANDARD
TZOFFSETFROM:-0400
TZOFFSETTO:-0500
TZNAME:EST
DTSTART:20211107T060000
END:STANDARD
BEGIN:DAYLIGHT
TZOFFSETFROM:-0500
TZOFFSETTO:-0400
TZNAME:EDT
DTSTART:20220313T070000
END:DAYLIGHT
BEGIN:STANDARD
TZOFFSETFROM:-0400
TZOFFSETTO:-0500
TZNAME:EST
DTSTART:20221106T060000
END:STANDARD
END:VTIMEZONE
BEGIN:VEVENT
DTSTART;TZID=America/New_York:20210502T100000
DTEND;TZID=America/New_York:20210502T130000
DTSTAMP:20260419T202316
CREATED:20210305T211424Z
LAST-MODIFIED:20210308T185214Z
UID:6985-1619949600-1619960400@artandhistory.org
SUMMARY:Wire Wrapping Pendants
DESCRIPTION:Instructor: Anastacia Santspree \nLocation: Maitland Art Center Studio 5 \nCost: $50 + $25 materials fee \nLearn to wire wrap marbles\, gemstones\, and crystals. Anyone can learn these techniques to create beautiful\, wire wrapped pendants. In this workshop you will learn basic wire wrapping for retro childhood marbles\, gemstone pendants\, or crystals. The materials fee will provide you with your own set of jewelry pliers; choice of marbles\, gemstones\, and crystals; wrapping wire; one chain for your finished piece; and informational sheets to take home. Techniques taught in class and the tools you take home will be applicable for your future jewelry projects. \nRegister >> \nOther dates for this workshop: \nTuesday\, May 4 | 6pm-9pm
URL:https://artandhistory.org/event/wire-wrapping-pendants/
LOCATION:231 W. Packwood Avenue\, Maitland\, 32751\, United States
CATEGORIES:Jewelry,Jewelry Workshops,Workshops
ATTACH;FMTTYPE=image/jpeg:https://artandhistory.org/wp-content/uploads/6e718c9617e51abee6ced658c7ec3e44-HnUjxD.tmp_.jpg
END:VEVENT
BEGIN:VEVENT
DTSTART;TZID=America/New_York:20210504T180000
DTEND;TZID=America/New_York:20210504T210000
DTSTAMP:20260419T202316
CREATED:20210305T211424Z
LAST-MODIFIED:20210308T184312Z
UID:6986-1620151200-1620162000@artandhistory.org
SUMMARY:Wire Wrapping Pendants
DESCRIPTION:Instructor: Anastacia Santspree \nLocation: Maitland Art Center Studio 5 \nCost: $50 + $25 materials fee \nLearn to wire wrap marbles\, gemstones\, and crystals. Anyone can learn these techniques to create beautiful\, wire wrapped pendants. In this workshop you will learn basic wire wrapping for retro childhood marbles\, gemstone pendants\, or crystals. The materials fee will provide you with your own set of jewelry pliers; choice of marbles\, gemstones\, and crystals; wrapping wire; one chain for your finished piece; and informational sheets to take home. Techniques taught in class and the tools you take home will be applicable for your future jewelry projects. \nRegister >> \nOther dates for this workshop: \nSunday\, May 2 | 10am-1pm
URL:https://artandhistory.org/event/wire-wrapping-pendants-2/
LOCATION:231 W. Packwood Avenue\, Maitland\, 32751\, United States
CATEGORIES:Jewelry,Jewelry Workshops,Workshops
ATTACH;FMTTYPE=image/jpeg:https://artandhistory.org/wp-content/uploads/6e718c9617e51abee6ced658c7ec3e44-HnUjxD.tmp_.jpg
END:VEVENT
BEGIN:VEVENT
DTSTART;TZID=America/New_York:20210509T100000
DTEND;TZID=America/New_York:20210509T130000
DTSTAMP:20260419T202316
CREATED:20210305T211547Z
LAST-MODIFIED:20210308T203629Z
UID:6994-1620554400-1620565200@artandhistory.org
SUMMARY:Sunday Jewelry Workshops: Spinner Ring
DESCRIPTION:Instructor: Jim Hosner \nLocation: Maitland Art Center Studio 5 \nCost: $50 + $5 materials fee \nLearn to create a ring with a unique form! In this workshop\, you will make an anticlastic ring which flares out at the ends\, allowing a second ring to spin freely around the outside. \nRegister >>
URL:https://artandhistory.org/event/spinner-ring/
LOCATION:231 W. Packwood Avenue\, Maitland\, 32751\, United States
CATEGORIES:Jewelry,Jewelry Workshops,Workshops
ATTACH;FMTTYPE=image/jpeg:https://artandhistory.org/wp-content/uploads/d8e0a60f78d531685d951716b30bef54-X1MDsM.tmp_.jpg
END:VEVENT
BEGIN:VEVENT
DTSTART;TZID=America/New_York:20210516T100000
DTEND;TZID=America/New_York:20210516T130000
DTSTAMP:20260419T202316
CREATED:20210305T211424Z
LAST-MODIFIED:20210308T175920Z
UID:6989-1621159200-1621170000@artandhistory.org
SUMMARY:Intro to Jewelry Making
DESCRIPTION:Instructor: Anastacia Santspree \nLocation: Maitland Art Center Studio 5 \nCost: $50 + $35 materials fee \nLearn the basics of jewelry making! This is a great introduction to the art of creating beautiful jewelry. In this workshop you will complete one metal project without soldering. You will learn to use a jeweler’s saw\, cut jump rings\, cut metal sheet\, and various polishing techniques to create a beautiful pendant. The materials fee will provide you with your own set of jewelry pliers\, files\, other tools\, and informational sheets to take home. Techniques taught in class and the tools you take home will be applicable for your future jewelry projects. \nRegister >> \nOther dates for this workshop: \nSunday\, April 25 | 10am-1pm \nTuesday\, April 27 | 6pm-9pm \nTuesday\, May 18 | 6pm-9pm
URL:https://artandhistory.org/event/intro-to-jewelry-making-3/
LOCATION:231 W. Packwood Avenue\, Maitland\, 32751\, United States
CATEGORIES:Jewelry,Jewelry Workshops,Workshops
ATTACH;FMTTYPE=image/jpeg:https://artandhistory.org/wp-content/uploads//RG2_0366-byRobertoGonzalez-crop.jpg
END:VEVENT
BEGIN:VEVENT
DTSTART;TZID=America/New_York:20210518T180000
DTEND;TZID=America/New_York:20210518T210000
DTSTAMP:20260419T202316
CREATED:20210305T110032Z
LAST-MODIFIED:20210308T180028Z
UID:6990-1621360800-1621371600@artandhistory.org
SUMMARY:Intro to Jewelry Making
DESCRIPTION:Instructor: Anastacia Santspree \nLocation: Maitland Art Center Studio 5 \nCost: $50 + $35 materials fee \nLearn the basics of jewelry making! This is a great introduction to the art of creating beautiful jewelry. In this workshop you will complete one metal project without soldering. You will learn to use a jeweler’s saw\, cut jump rings\, cut metal sheet\, and various polishing techniques to create a beautiful pendant. The materials fee will provide you with your own set of jewelry pliers\, files\, other tools\, and informational sheets to take home. Techniques taught in class and the tools you take home will be applicable for your future jewelry projects. \nRegister >> \nOther dates for this workshop: \nSunday\, April 25 | 10am-1pm \nTuesday\, April 27 | 6pm-9pm \nSunday\, May 16 | 10am-1pm
URL:https://artandhistory.org/event/intro-to-jewelry-making-4/
LOCATION:231 W. Packwood Avenue\, Maitland\, 32751\, United States
CATEGORIES:Jewelry,Jewelry Workshops,Workshops
ATTACH;FMTTYPE=image/jpeg:https://artandhistory.org/wp-content/uploads//RG2_0366-byRobertoGonzalez-crop.jpg
END:VEVENT
BEGIN:VEVENT
DTSTART;TZID=America/New_York:20210521T100000
DTEND;TZID=America/New_York:20210522T160000
DTSTAMP:20260419T202316
CREATED:20210305T211611Z
LAST-MODIFIED:20210308T212509Z
UID:7001-1621591200-1621699200@artandhistory.org
SUMMARY:Encaustic Everything
DESCRIPTION:2-day workshop: Friday-Saturday\, May 21-22 | 10am-4pm \nInstructor: Shelley Jean \nLocation: The Studios at Lake Lily \nCost: $345\, all materials included \nEncaustic is an artistic medium consisting of hot\, pigmented beeswax. Encaustic painting is an ancient technique\, but it has become increasingly popular with contemporary artists. Come delve into the versatility of this fascinating process that encourages experimentation! In this comprehensive 2-day workshop\, students will learn about encaustic history\, safety\, surfaces\, and fusing. A variety of techniques will be explored\, such as incising\, layering\, pigment sticks\, mark-making\, mixed media collage\, mono-printing\, and incorporating photos. Students will make multiple pieces of art by utilizing the learned techniques. All materials will be supplied. All skill levels are welcome! \nRegister >>
URL:https://artandhistory.org/event/encaustic-everything/
LOCATION:The Studios at Lake Lily\, 820 Lake Lily Drive\, Maitland\, FL\, 32751\, United States
CATEGORIES:Encaustics,Workshops
ATTACH;FMTTYPE=image/png:https://artandhistory.org/wp-content/uploads/PastedGraphic-2-1.png
END:VEVENT
BEGIN:VEVENT
DTSTART;TZID=America/New_York:20210522T100000
DTEND;TZID=America/New_York:20210522T140000
DTSTAMP:20260419T202316
CREATED:20210305T211547Z
LAST-MODIFIED:20210316T151801Z
UID:6997-1621677600-1621692000@artandhistory.org
SUMMARY:Metal Clay: Botanical Beauties
DESCRIPTION:Instructor: Marion Fague-Bass \nLocation: Maitland Art Center Studio 10 \nCost: $65 + $55 materials fee \nLearn how to use a silicone compound to make reusable molds from natural plant materials. You may bring items from your own yard or forage right on the Art Center grounds! Small leaves\, tiny flowers\, and weeds work best. Then\, using your handmade molds and metal clay\, you will create charms for bracelets\, earrings\, or pendants. All pieces will be fired after the workshop and available for pick-up the following week. Included in the materials fee is 10 grams of fine silver metal clay and your choice of one sterling silver chain\, one leather cord with clasp\, one pair of sterling silver ear wires\, OR one lobster claw spring clasp. Additional materials will be available to purchase during the workshop only. For beginners or intermediate level students. \nRegister >>
URL:https://artandhistory.org/event/botanical-beauties/
LOCATION:231 W. Packwood Avenue\, Maitland\, 32751\, United States
CATEGORIES:Jewelry,Jewelry Workshops,Workshops
ATTACH;FMTTYPE=image/jpeg:https://artandhistory.org/wp-content/uploads/botanical-beauties-samples-scaled.jpg
END:VEVENT
BEGIN:VEVENT
DTSTART;TZID=America/New_York:20210529T100000
DTEND;TZID=America/New_York:20210529T140000
DTSTAMP:20260419T202316
CREATED:20210305T211556Z
LAST-MODIFIED:20210316T151842Z
UID:6998-1622282400-1622296800@artandhistory.org
SUMMARY:Tiny Treasure Trinket Box
DESCRIPTION:Instructor: Marion Fague-Bass \nLocation: Maitland Art Center Studio 10 \nCost: $65 + $75 materials fee \nCreate a tiny treasure box with a loose-fitting lid in this workshop with Marion! Your box will be small (approximately 1 cubic inch) and perfect for holding a precious trinket: a coin from your honeymoon in Italy\, a button from your child’s favorite shirt\, or maybe a ring from your grandmother. Using 20 grams of fine silver metal clay and a variety of textures and molds\, you can make your treasure box in the shape of your choice. You will learn how to fit and attach a bottom to your box and how to create a lid with a rim. Boxes will be finished to the dried greenware stage. All pieces will be fired after the workshop and available for pick-up the following week. \nRegister >>
URL:https://artandhistory.org/event/tiny-treasure-trinket-box/
LOCATION:231 W. Packwood Avenue\, Maitland\, 32751\, United States
CATEGORIES:Jewelry,Jewelry Workshops,Workshops
ATTACH;FMTTYPE=image/jpeg:https://artandhistory.org/wp-content/uploads/tiny-trinket-treasure-box-2.jpg
END:VEVENT
END:VCALENDAR