BEGIN:VCALENDAR
VERSION:2.0
PRODID:-//A&amp;H - Art &amp; History Museums Maitland - ECPv6.15.20//NONSGML v1.0//EN
CALSCALE:GREGORIAN
METHOD:PUBLISH
X-WR-CALNAME:A&amp;H - Art &amp; History Museums Maitland
X-ORIGINAL-URL:https://artandhistory.org
X-WR-CALDESC:Events for A&amp;H - Art &amp; History Museums Maitland
REFRESH-INTERVAL;VALUE=DURATION:PT1H
X-Robots-Tag:noindex
X-PUBLISHED-TTL:PT1H
BEGIN:VTIMEZONE
TZID:America/New_York
BEGIN:DAYLIGHT
TZOFFSETFROM:-0500
TZOFFSETTO:-0400
TZNAME:EDT
DTSTART:20200308T070000
END:DAYLIGHT
BEGIN:STANDARD
TZOFFSETFROM:-0400
TZOFFSETTO:-0500
TZNAME:EST
DTSTART:20201101T060000
END:STANDARD
BEGIN:DAYLIGHT
TZOFFSETFROM:-0500
TZOFFSETTO:-0400
TZNAME:EDT
DTSTART:20210314T070000
END:DAYLIGHT
BEGIN:STANDARD
TZOFFSETFROM:-0400
TZOFFSETTO:-0500
TZNAME:EST
DTSTART:20211107T060000
END:STANDARD
BEGIN:DAYLIGHT
TZOFFSETFROM:-0500
TZOFFSETTO:-0400
TZNAME:EDT
DTSTART:20220313T070000
END:DAYLIGHT
BEGIN:STANDARD
TZOFFSETFROM:-0400
TZOFFSETTO:-0500
TZNAME:EST
DTSTART:20221106T060000
END:STANDARD
END:VTIMEZONE
BEGIN:VEVENT
DTSTART;TZID=America/New_York:20210605T130000
DTEND;TZID=America/New_York:20210605T160000
DTSTAMP:20260419T171012
CREATED:20210305T211557Z
LAST-MODIFIED:20210308T205220Z
UID:7000-1622898000-1622908800@artandhistory.org
SUMMARY:Saturday Painting Workshops: Tropical Plants
DESCRIPTION:Instructor: PJ Svejda \nLocation: Maitland Art Center Studio 10 \nCost: $50 + $20 materials fee (or bring your own supplies) \nThis acrylic painting workshop will allow you to play with paint! Experiment with drips\, stains\, and adding texture with a gel medium! Florida is known for its beautiful foliage. This class will be all about capturing the beautiful colors\, shapes\, and textures found in the tropical plants that surround us! \nRegister >> \nLove Saturday Painting Workshops with PJ? Don’t miss Drippy Birds on April 3!
URL:https://artandhistory.org/event/saturday-painting-workshops-tropical-plants/
LOCATION:231 W. Packwood Avenue\, Maitland\, 32751\, United States
CATEGORIES:Painting,Painting Workshops,Workshops
ATTACH;FMTTYPE=image/jpeg:https://artandhistory.org/wp-content/uploads/pj-flowers.jpg
END:VEVENT
BEGIN:VEVENT
DTSTART;TZID=America/New_York:20210606T100000
DTEND;TZID=America/New_York:20210606T130000
DTSTAMP:20260419T171012
CREATED:20210305T211432Z
LAST-MODIFIED:20210308T211538Z
UID:6991-1622973600-1622984400@artandhistory.org
SUMMARY:Pearl Stringing
DESCRIPTION:Instructor: Anastacia Santspree \nLocation: Maitland Art Center Studio 5 \nCost: $50 + $25 materials fee \nHave you ever wanted to learn to string pearls? Do you want to restring your Grandmother’s heirloom pearls? Anyone can learn to string! During this workshop you will learn to knot a string of pearls. The materials fee will provide you with your own bead board; pearls; white gloves; beading awl & thread; clasp; cutters; and informational sheets to take home. Techniques taught in class will be applicable for your future pearl or bead stringing projects. \nRegister >> \nOther dates for this workshop: \nTuesday\, June 8 | 6pm-9pm
URL:https://artandhistory.org/event/pearl-stringing/
LOCATION:231 W. Packwood Avenue\, Maitland\, 32751\, United States
CATEGORIES:Jewelry,Jewelry Workshops,Workshops
ATTACH;FMTTYPE=image/jpeg:https://artandhistory.org/wp-content/uploads/IMG_8258-1.jpg
END:VEVENT
BEGIN:VEVENT
DTSTART;TZID=America/New_York:20210608T180000
DTEND;TZID=America/New_York:20210608T210000
DTSTAMP:20260419T171012
CREATED:20210305T211432Z
LAST-MODIFIED:20210308T210940Z
UID:6992-1623175200-1623186000@artandhistory.org
SUMMARY:Pearl Stringing
DESCRIPTION:Instructor: Anastacia Santspree \nLocation: Maitland Art Center Studio 5 \nCost: $50 + $25 materials fee \nHave you ever wanted to learn to string pearls? Do you want to restring your Grandmother’s heirloom pearls? Anyone can learn to string! During this workshop you will learn to knot a string of pearls. The materials fee will provide you with your own bead board; pearls; white gloves; beading awl & thread; clasp; cutters; and informational sheets to take home. Techniques taught in class will be applicable for your future pearl or bead stringing projects. \nRegister >> \nOther dates for this workshop: \nSunday\, June 6 | 10am-1pm
URL:https://artandhistory.org/event/pearl-stringing-2/
LOCATION:231 W. Packwood Avenue\, Maitland\, 32751\, United States
CATEGORIES:Jewelry,Jewelry Workshops,Workshops
ATTACH;FMTTYPE=image/jpeg:https://artandhistory.org/wp-content/uploads/IMG_8258-1.jpg
END:VEVENT
BEGIN:VEVENT
DTSTART;TZID=America/New_York:20210613T100000
DTEND;TZID=America/New_York:20210613T130000
DTSTAMP:20260419T171012
CREATED:20210512T211319Z
LAST-MODIFIED:20210518T060726Z
UID:7298-1623578400-1623589200@artandhistory.org
SUMMARY:Sunday Jewelry Workshops: Stackable Ring Set
DESCRIPTION:Sunday\, June 13 | 10am-1pm \nInstructor: Jim Hosner \nLocation: Maitland Art Center Studio 5 \nCost: $50 + $5 materials fee \nIf you have little or no experience in metal work\, this workshop is for you! You will learn the three steps of cut\, weld\, and polish to create a set of three rings in your size and style. \nThis workshop is for adults 18 and over. Registration is $50. Please note that a materials fee of $5 (in cash) is due to the instructor at the start of the workshop. \nRegister >> \n  \n 
URL:https://artandhistory.org/event/sunday-jewelry-workshops-stackable-ring-set-3/
LOCATION:Art & History Museums – Maitland\, 231 W. Packwood Avenue\, Maitland\, FL\, 32751\, United States
CATEGORIES:Jewelry,Jewelry Workshops,Workshops
ATTACH;FMTTYPE=image/jpeg:https://artandhistory.org/wp-content/uploads/spinner.jpeg
END:VEVENT
BEGIN:VEVENT
DTSTART;TZID=America/New_York:20210627T100000
DTEND;TZID=America/New_York:20210627T130000
DTSTAMP:20260419T171012
CREATED:20210518T063348Z
LAST-MODIFIED:20210518T063603Z
UID:7338-1624788000-1624798800@artandhistory.org
SUMMARY:Jewelry Workshop: Pearl & Bead Stringing
DESCRIPTION:Sunday\, June 27 | 10 am-1 pm \nor Tuesday\, June 29 | 6 pm-9 pm \nInstructor: Anastacia Santspree \nLocation: Studio 5 at the Maitland Art Center \nCost: $50 + $25 materials fee \nHave you ever wanted to learn to string pearls? Do you want to restring your heirloom Grandmother’s pearls? Join us and do one or both! During this workshop you will learn to knot pearls. If you have a strand you want to restring\, bring it in! Techniques taught in the workshop and the tools you take home will be applicable for your future pearl or bead stringing projects. \nWorkshop is for ages 15 and over. Registration is $50. Please note that a materials fee of $25 (in cash) is due to the instructor at the start of the workshop. \nRegister >> \n  \n 
URL:https://artandhistory.org/event/jewelry-workshop-pearl-bead-stringing-3/
LOCATION:Art & History Museums – Maitland\, 231 W. Packwood Avenue\, Maitland\, FL\, 32751\, United States
CATEGORIES:Jewelry,Jewelry Workshops,Workshops
ATTACH;FMTTYPE=image/jpeg:https://artandhistory.org/wp-content/uploads/https___cdn.evbuc_.com_images_133844331_303807323185_1_original.jpg
END:VEVENT
BEGIN:VEVENT
DTSTART;TZID=America/New_York:20210629T180000
DTEND;TZID=America/New_York:20210629T210000
DTSTAMP:20260419T171012
CREATED:20210518T063348Z
LAST-MODIFIED:20210518T063604Z
UID:7341-1624989600-1625000400@artandhistory.org
SUMMARY:Jewelry Workshop: Pearl & Bead Stringing
DESCRIPTION:Sunday\, June 27 | 10 am-1 pm \nor Tuesday\, June 29 | 6 pm-9 pm \nInstructor: Anastacia Santspree \nLocation: Studio 5 at the Maitland Art Center \nCost: $50 + $25 materials fee \nHave you ever wanted to learn to string pearls? Do you want to restring your heirloom Grandmother’s pearls? Join us and do one or both! During this workshop you will learn to knot pearls. If you have a strand you want to restring\, bring it in! Techniques taught in the workshop and the tools you take home will be applicable for your future pearl or bead stringing projects. \nWorkshop is for ages 15 and over. Registration is $50. Please note that a materials fee of $25 (in cash) is due to the instructor at the start of the workshop. \nRegister >> \n  \n 
URL:https://artandhistory.org/event/jewelry-workshop-pearl-bead-stringing-3-2021-06-29/
LOCATION:Art & History Museums – Maitland\, 231 W. Packwood Avenue\, Maitland\, FL\, 32751\, United States
CATEGORIES:Jewelry,Jewelry Workshops,Workshops
ATTACH;FMTTYPE=image/jpeg:https://artandhistory.org/wp-content/uploads/https___cdn.evbuc_.com_images_133844331_303807323185_1_original.jpg
END:VEVENT
END:VCALENDAR