BEGIN:VCALENDAR
VERSION:2.0
PRODID:-//A&amp;H - Art &amp; History Museums Maitland - ECPv6.15.20//NONSGML v1.0//EN
CALSCALE:GREGORIAN
METHOD:PUBLISH
X-ORIGINAL-URL:https://artandhistory.org
X-WR-CALDESC:Events for A&amp;H - Art &amp; History Museums Maitland
REFRESH-INTERVAL;VALUE=DURATION:PT1H
X-Robots-Tag:noindex
X-PUBLISHED-TTL:PT1H
BEGIN:VTIMEZONE
TZID:America/New_York
BEGIN:DAYLIGHT
TZOFFSETFROM:-0500
TZOFFSETTO:-0400
TZNAME:EDT
DTSTART:20190310T070000
END:DAYLIGHT
BEGIN:STANDARD
TZOFFSETFROM:-0400
TZOFFSETTO:-0500
TZNAME:EST
DTSTART:20191103T060000
END:STANDARD
BEGIN:DAYLIGHT
TZOFFSETFROM:-0500
TZOFFSETTO:-0400
TZNAME:EDT
DTSTART:20200308T070000
END:DAYLIGHT
BEGIN:STANDARD
TZOFFSETFROM:-0400
TZOFFSETTO:-0500
TZNAME:EST
DTSTART:20201101T060000
END:STANDARD
BEGIN:DAYLIGHT
TZOFFSETFROM:-0500
TZOFFSETTO:-0400
TZNAME:EDT
DTSTART:20210314T070000
END:DAYLIGHT
BEGIN:STANDARD
TZOFFSETFROM:-0400
TZOFFSETTO:-0500
TZNAME:EST
DTSTART:20211107T060000
END:STANDARD
END:VTIMEZONE
BEGIN:VEVENT
DTSTART;TZID=America/New_York:20200308T130000
DTEND;TZID=America/New_York:20200308T160000
DTSTAMP:20260420T194148
CREATED:20200218T141945Z
LAST-MODIFIED:20200218T143208Z
UID:5393-1583672400-1583683200@artandhistory.org
SUMMARY:Sunday Jewelry Workshops: Tube Setting Stones
DESCRIPTION:Sunday\, March 8  |  1pm-4pm\nInstructor: Jim Hosner\nLocation: Studio 5 at the Maitland Art Center\nCost: $50 + materials fee (ranging from $10-50 depending on project\, cash only due at start of workshop) \nLearn to tube set stones adding to the design of your jewelry. Familiarity with hand tools and jewelry-making is beneficial. \nRegister >>
URL:https://artandhistory.org/event/sunday-jewelry-workshops-tube-setting-stones/
LOCATION:Art & History Museums – Maitland\, 231 W. Packwood Avenue\, Maitland\, FL\, 32751\, United States
CATEGORIES:Jewelry,Jewelry Workshops,Workshops
END:VEVENT
BEGIN:VEVENT
DTSTART;TZID=America/New_York:20200308T130000
DTEND;TZID=America/New_York:20200308T160000
DTSTAMP:20260420T194148
CREATED:20200218T145210Z
LAST-MODIFIED:20200218T145210Z
UID:5400-1583672400-1583683200@artandhistory.org
SUMMARY:Second Sundays Macramé Series: Wall Hanging Knot Sampler
DESCRIPTION:Sunday\, March 8  | 1pm-4pm \nInstructor: Victoria Walsh aka Macramé Momma\nLocation: Studio 10 at the Maitland Art Center\nCost: $30 + $10 materials fee \nLearn ten beautiful\, beginner macramé knots in this knot sampler wall hanging course with Macramé Momma. Macra-MAKE something special for your home and learn all the basic knots to get started on most macramé projects! Learn about the different kinds of macramé cord and rope available and receive a hand-illustrated instructional guide for each knot so you can recreate them at home! Materials and light snacks\, as well as a studio and campus tour\, are all included. \nRegister >>
URL:https://artandhistory.org/event/second-sundays-macrame-series-wall-hanging-knot-sampler/
LOCATION:Art & History Museums – Maitland\, 231 W. Packwood Avenue\, Maitland\, FL\, 32751\, United States
CATEGORIES:Fiber Art,Workshops
END:VEVENT
END:VCALENDAR