BEGIN:VCALENDAR
VERSION:2.0
PRODID:-//A&amp;H - Art &amp; History Museums Maitland - ECPv6.15.20//NONSGML v1.0//EN
CALSCALE:GREGORIAN
METHOD:PUBLISH
X-ORIGINAL-URL:https://artandhistory.org
X-WR-CALDESC:Events for A&amp;H - Art &amp; History Museums Maitland
REFRESH-INTERVAL;VALUE=DURATION:PT1H
X-Robots-Tag:noindex
X-PUBLISHED-TTL:PT1H
BEGIN:VTIMEZONE
TZID:America/New_York
BEGIN:DAYLIGHT
TZOFFSETFROM:-0500
TZOFFSETTO:-0400
TZNAME:EDT
DTSTART:20190310T070000
END:DAYLIGHT
BEGIN:STANDARD
TZOFFSETFROM:-0400
TZOFFSETTO:-0500
TZNAME:EST
DTSTART:20191103T060000
END:STANDARD
BEGIN:DAYLIGHT
TZOFFSETFROM:-0500
TZOFFSETTO:-0400
TZNAME:EDT
DTSTART:20200308T070000
END:DAYLIGHT
BEGIN:STANDARD
TZOFFSETFROM:-0400
TZOFFSETTO:-0500
TZNAME:EST
DTSTART:20201101T060000
END:STANDARD
BEGIN:DAYLIGHT
TZOFFSETFROM:-0500
TZOFFSETTO:-0400
TZNAME:EDT
DTSTART:20210314T070000
END:DAYLIGHT
BEGIN:STANDARD
TZOFFSETFROM:-0400
TZOFFSETTO:-0500
TZNAME:EST
DTSTART:20211107T060000
END:STANDARD
END:VTIMEZONE
BEGIN:VEVENT
DTSTART;TZID=America/New_York:20200328T103000
DTEND;TZID=America/New_York:20200328T140000
DTSTAMP:20260420T194123
CREATED:20200218T181327Z
LAST-MODIFIED:20200220T152607Z
UID:5408-1585391400-1585404000@artandhistory.org
SUMMARY:Basic Lifecasting/Bodycasting
DESCRIPTION:Saturday\, March 28  | 10:30am-2pm \nInstructor: Michael Moffett\nLocation: Studio 10 at the Maitland Art Center\nCost: $120 + $20 model fee \nThis is a basic lifecasting/bodycasting demonstration\, covering the use of silicone and alginate mold-making on hands and faces\, as well as casting into a positive hydrostone and other materials. Learn basic mold-making techniques for the beginner to advanced student using a live model. Build upon your skills next semester with a more advanced workshop! \nRegister >>
URL:https://artandhistory.org/event/basic-lifecasting-bodycasting/
LOCATION:Art & History Museums – Maitland\, 231 W. Packwood Avenue\, Maitland\, FL\, 32751\, United States
CATEGORIES:Sculpture,Workshops
END:VEVENT
END:VCALENDAR