BEGIN:VCALENDAR
VERSION:2.0
PRODID:-//A&amp;H - Art &amp; History Museums Maitland - ECPv6.15.20//NONSGML v1.0//EN
CALSCALE:GREGORIAN
METHOD:PUBLISH
X-ORIGINAL-URL:https://artandhistory.org
X-WR-CALDESC:Events for A&amp;H - Art &amp; History Museums Maitland
REFRESH-INTERVAL;VALUE=DURATION:PT1H
X-Robots-Tag:noindex
X-PUBLISHED-TTL:PT1H
BEGIN:VTIMEZONE
TZID:America/New_York
BEGIN:DAYLIGHT
TZOFFSETFROM:-0500
TZOFFSETTO:-0400
TZNAME:EDT
DTSTART:20190310T070000
END:DAYLIGHT
BEGIN:STANDARD
TZOFFSETFROM:-0400
TZOFFSETTO:-0500
TZNAME:EST
DTSTART:20191103T060000
END:STANDARD
BEGIN:DAYLIGHT
TZOFFSETFROM:-0500
TZOFFSETTO:-0400
TZNAME:EDT
DTSTART:20200308T070000
END:DAYLIGHT
BEGIN:STANDARD
TZOFFSETFROM:-0400
TZOFFSETTO:-0500
TZNAME:EST
DTSTART:20201101T060000
END:STANDARD
BEGIN:DAYLIGHT
TZOFFSETFROM:-0500
TZOFFSETTO:-0400
TZNAME:EDT
DTSTART:20210314T070000
END:DAYLIGHT
BEGIN:STANDARD
TZOFFSETFROM:-0400
TZOFFSETTO:-0500
TZNAME:EST
DTSTART:20211107T060000
END:STANDARD
END:VTIMEZONE
BEGIN:VEVENT
DTSTART;TZID=America/New_York:20200621T130000
DTEND;TZID=America/New_York:20200621T160000
DTSTAMP:20260420T153051
CREATED:20200221T201444Z
LAST-MODIFIED:20200512T231257Z
UID:5480-1592744400-1592755200@artandhistory.org
SUMMARY:Sunday Jewelry Workshops: Stackable Ring Set
DESCRIPTION:Complete a different project in each Sunday Jewelry Workshop!\n\n\n\nIf you have little or no experience in metal work this class is for you. You learn the three steps of cut\, weld\, polish to create a set of three rings in your size and style. This workshop is taught by longtime Maitland Art Center instructor and artist Jim Hosner in Studio 4. \nRegister >> \nCost: $50; + Materials fee $10. Please bring cash materials fee to workshop.
URL:https://artandhistory.org/event/sunday-jewelry-workshops-make-a-ring-2/
LOCATION:Art & History Museums – Maitland\, 231 W. Packwood Ave\, Maitland\, FL\, 32751\, United States
CATEGORIES:Workshops
ATTACH;FMTTYPE=image/jpeg:https://artandhistory.org/wp-content/uploads/59912c165b4dd7ec2c6dbde758c3aee3.jpg
END:VEVENT
END:VCALENDAR