BEGIN:VCALENDAR
VERSION:2.0
PRODID:-//A&amp;H - Art &amp; History Museums Maitland - ECPv6.15.20//NONSGML v1.0//EN
CALSCALE:GREGORIAN
METHOD:PUBLISH
X-WR-CALNAME:A&amp;H - Art &amp; History Museums Maitland
X-ORIGINAL-URL:https://artandhistory.org
X-WR-CALDESC:Events for A&amp;H - Art &amp; History Museums Maitland
REFRESH-INTERVAL;VALUE=DURATION:PT1H
X-Robots-Tag:noindex
X-PUBLISHED-TTL:PT1H
BEGIN:VTIMEZONE
TZID:America/New_York
BEGIN:DAYLIGHT
TZOFFSETFROM:-0500
TZOFFSETTO:-0400
TZNAME:EDT
DTSTART:20190310T070000
END:DAYLIGHT
BEGIN:STANDARD
TZOFFSETFROM:-0400
TZOFFSETTO:-0500
TZNAME:EST
DTSTART:20191103T060000
END:STANDARD
BEGIN:DAYLIGHT
TZOFFSETFROM:-0500
TZOFFSETTO:-0400
TZNAME:EDT
DTSTART:20200308T070000
END:DAYLIGHT
BEGIN:STANDARD
TZOFFSETFROM:-0400
TZOFFSETTO:-0500
TZNAME:EST
DTSTART:20201101T060000
END:STANDARD
BEGIN:DAYLIGHT
TZOFFSETFROM:-0500
TZOFFSETTO:-0400
TZNAME:EDT
DTSTART:20210314T070000
END:DAYLIGHT
BEGIN:STANDARD
TZOFFSETFROM:-0400
TZOFFSETTO:-0500
TZNAME:EST
DTSTART:20211107T060000
END:STANDARD
END:VTIMEZONE
BEGIN:VEVENT
DTSTART;TZID=America/New_York:20200711T130000
DTEND;TZID=America/New_York:20200711T160000
DTSTAMP:20260420T140302
CREATED:20200221T201413Z
LAST-MODIFIED:20200519T135715Z
UID:5451-1594472400-1594483200@artandhistory.org
SUMMARY:Saturday Painting Workshops: Horses
DESCRIPTION:Saturday Painting Workshops are a great way to expand your painting skills\, whatever your skill level! Join us in July to paint horses!\n\n\n\nThese workshops are a blend of painting and mixed media techniques\, exploring a looser style of painting and greater expression. Complete a project in each unique workshop. Workshops are appropriate for all learners. Anatomy\, light and shadow will be the skills learned as we paint beautiful horses. Saturday Painting Workshops are led by local artist and instructor PJ Svejda in Studio 10 at the Maitland Art Center. \nRegister >> \nPlease note this workshop has a materials fee of $20 (due in cash at the beginning of the workshop)\, or you can bring your own supplies (see supply list at www.artandhistory.org/classes)
URL:https://artandhistory.org/event/saturday-painting-workshops-horses/
LOCATION:Art & History Museums – Maitland\, 231 W. Packwood Ave\, Maitland\, FL\, 32751\, United States
CATEGORIES:Workshops
ATTACH;FMTTYPE=image/jpeg:https://artandhistory.org/wp-content/uploads/3832d55efa11be180e2d7a98edbd2b56.jpg
END:VEVENT
BEGIN:VEVENT
DTSTART;TZID=America/New_York:20200711T130000
DTEND;TZID=America/New_York:20200711T160000
DTSTAMP:20260420T140302
CREATED:20200221T201429Z
LAST-MODIFIED:20200509T212335Z
UID:5466-1594472400-1594483200@artandhistory.org
SUMMARY:Beginning Silk Screen Workshop
DESCRIPTION:A&H Artist-in-Action Jacoub Reyes leads this beginners’ silk screening workshop!\n\n\n\nLearn how to create your own screen print and take home an edition of 5 prints! This course will go over the basics of how to transfer and image onto your screen and how to print duplicates. Please bring hand drawn images that can be painted. If you would rather silk screen a shirt\, please bring your own shirt and you may do so instead of the edition of prints. \nRegister >> \nThis workshop has a $25 materials fee\, which can be paid in cash at the beginning of the workshop. This is in addition to the workshop registration fee. \nThis workshop takes place in the Studios at Lake Lily\, not the Maitland Art Center main campus. Please note the location on your ticket. \nAbout Jacoub \nJacoub Reyes is a multi-disciplinary artist living and working in Orlando\, Florida. He has been featured in several publications such as The American Institute of Graphic Arts\, Centric\, and Artborne Magazine. A recipient of the Southern Graphics International grant award\, J.R. Hopes scholarship\, Master Scrounge Printer award by Ke Francis and other accolades. \nLearn more about Jacoub on his website.
URL:https://artandhistory.org/event/beginning-silk-screen-workshop-2/
LOCATION:The Studios at Lake Lily\, 820 Lake Lily Drive\, Maitland\, FL\, 32751\, United States
CATEGORIES:Workshops
ATTACH;FMTTYPE=image/jpeg:https://artandhistory.org/wp-content/uploads/5d0105f8ffd7c831f569759c15e61405.jpg
END:VEVENT
END:VCALENDAR