BEGIN:VCALENDAR
VERSION:2.0
PRODID:-//A&amp;H - Art &amp; History Museums Maitland - ECPv6.15.20//NONSGML v1.0//EN
CALSCALE:GREGORIAN
METHOD:PUBLISH
X-WR-CALNAME:A&amp;H - Art &amp; History Museums Maitland
X-ORIGINAL-URL:https://artandhistory.org
X-WR-CALDESC:Events for A&amp;H - Art &amp; History Museums Maitland
REFRESH-INTERVAL;VALUE=DURATION:PT1H
X-Robots-Tag:noindex
X-PUBLISHED-TTL:PT1H
BEGIN:VTIMEZONE
TZID:America/New_York
BEGIN:DAYLIGHT
TZOFFSETFROM:-0500
TZOFFSETTO:-0400
TZNAME:EDT
DTSTART:20190310T070000
END:DAYLIGHT
BEGIN:STANDARD
TZOFFSETFROM:-0400
TZOFFSETTO:-0500
TZNAME:EST
DTSTART:20191103T060000
END:STANDARD
BEGIN:DAYLIGHT
TZOFFSETFROM:-0500
TZOFFSETTO:-0400
TZNAME:EDT
DTSTART:20200308T070000
END:DAYLIGHT
BEGIN:STANDARD
TZOFFSETFROM:-0400
TZOFFSETTO:-0500
TZNAME:EST
DTSTART:20201101T060000
END:STANDARD
BEGIN:DAYLIGHT
TZOFFSETFROM:-0500
TZOFFSETTO:-0400
TZNAME:EDT
DTSTART:20210314T070000
END:DAYLIGHT
BEGIN:STANDARD
TZOFFSETFROM:-0400
TZOFFSETTO:-0500
TZNAME:EST
DTSTART:20211107T060000
END:STANDARD
END:VTIMEZONE
BEGIN:VEVENT
DTSTART;TZID=America/New_York:20200712T130000
DTEND;TZID=America/New_York:20200712T160000
DTSTAMP:20260420T140302
CREATED:20200221T201433Z
LAST-MODIFIED:20200512T230511Z
UID:5470-1594558800-1594569600@artandhistory.org
SUMMARY:Sunday Jewelry Workshops: Spinner Ring
DESCRIPTION:Complete a different project in each Sunday Jewelry Workshop! Beginners welcome!\n\n\n\nLearn to create a ring with an anticlastic shape which flares out on each side like a trumpet. This allows a second ring to spin freely around the outside of the first. This workshop is taught by longtime Maitland Art Center instructor and artist Jim Hosner. \nRegister >> \nCost: $50; + Materials fee $10. Please bring cash to pay the instructor directly for materials.
URL:https://artandhistory.org/event/sunday-jewelry-workshops-tube-setting-stones-2/
LOCATION:Art & History Museums – Maitland\, 231 W. Packwood Ave\, Maitland\, FL\, 32751\, United States
CATEGORIES:Workshops
ATTACH;FMTTYPE=image/jpeg:https://artandhistory.org/wp-content/uploads/59912c165b4dd7ec2c6dbde758c3aee3.jpg
END:VEVENT
END:VCALENDAR