BEGIN:VCALENDAR
VERSION:2.0
PRODID:-//A&amp;H - Art &amp; History Museums Maitland - ECPv6.15.20//NONSGML v1.0//EN
CALSCALE:GREGORIAN
METHOD:PUBLISH
X-WR-CALNAME:A&amp;H - Art &amp; History Museums Maitland
X-ORIGINAL-URL:https://artandhistory.org
X-WR-CALDESC:Events for A&amp;H - Art &amp; History Museums Maitland
REFRESH-INTERVAL;VALUE=DURATION:PT1H
X-Robots-Tag:noindex
X-PUBLISHED-TTL:PT1H
BEGIN:VTIMEZONE
TZID:America/New_York
BEGIN:DAYLIGHT
TZOFFSETFROM:-0500
TZOFFSETTO:-0400
TZNAME:EDT
DTSTART:20190310T070000
END:DAYLIGHT
BEGIN:STANDARD
TZOFFSETFROM:-0400
TZOFFSETTO:-0500
TZNAME:EST
DTSTART:20191103T060000
END:STANDARD
BEGIN:DAYLIGHT
TZOFFSETFROM:-0500
TZOFFSETTO:-0400
TZNAME:EDT
DTSTART:20200308T070000
END:DAYLIGHT
BEGIN:STANDARD
TZOFFSETFROM:-0400
TZOFFSETTO:-0500
TZNAME:EST
DTSTART:20201101T060000
END:STANDARD
BEGIN:DAYLIGHT
TZOFFSETFROM:-0500
TZOFFSETTO:-0400
TZNAME:EDT
DTSTART:20210314T070000
END:DAYLIGHT
BEGIN:STANDARD
TZOFFSETFROM:-0400
TZOFFSETTO:-0500
TZNAME:EST
DTSTART:20211107T060000
END:STANDARD
END:VTIMEZONE
BEGIN:VEVENT
DTSTART;TZID=America/New_York:20201205T130000
DTEND;TZID=America/New_York:20201205T160000
DTSTAMP:20260420T073043
CREATED:20200810T174142Z
LAST-MODIFIED:20200810T203800Z
UID:6406-1607173200-1607184000@artandhistory.org
SUMMARY:Saturday Painting Workshops: Dog Portraits
DESCRIPTION:Saturday Painting Workshops are a great way to expand your painting skills\, whatever your skill level!\n\n\n\nThese workshops are a blend of painting and mixed media techniques\, exploring a looser style of painting and greater expression. Complete a project in each unique workshop. Workshops are appropriate for all learners. \nPaint your own dog! Come learn color recipes\, brush technique and drawing techniques to accurately portray your pooch! Each student will be working from a straight forward headshot of their own pup. Saturday Painting Workshops are led by local artist and instructor PJ Svejda in Studio 10 at the Maitland Art Center. \nPlease note this workshop has a materials fee of $20 (due in cash at the beginning of the workshop)\, or you can bring your own supplies (see supply list at www.artandhistory.org/classes) \nRegister >>
URL:https://artandhistory.org/event/saturday-painting-workshops-dog-portraits/
LOCATION:Art & History Museums – Maitland\, 231 W. Packwood Ave\, Maitland\, FL\, 32751\, United States
CATEGORIES:Painting Workshops,Workshops
ATTACH;FMTTYPE=image/jpeg:https://artandhistory.org/wp-content/uploads/99454f300646899430b84e97eaf166be-zh34xS.tmp_.jpg
END:VEVENT
END:VCALENDAR