BEGIN:VCALENDAR
VERSION:2.0
PRODID:-//A&amp;H - Art &amp; History Museums Maitland - ECPv6.15.20//NONSGML v1.0//EN
CALSCALE:GREGORIAN
METHOD:PUBLISH
X-WR-CALNAME:A&amp;H - Art &amp; History Museums Maitland
X-ORIGINAL-URL:https://artandhistory.org
X-WR-CALDESC:Events for A&amp;H - Art &amp; History Museums Maitland
REFRESH-INTERVAL;VALUE=DURATION:PT1H
X-Robots-Tag:noindex
X-PUBLISHED-TTL:PT1H
BEGIN:VTIMEZONE
TZID:America/New_York
BEGIN:DAYLIGHT
TZOFFSETFROM:-0500
TZOFFSETTO:-0400
TZNAME:EDT
DTSTART:20200308T070000
END:DAYLIGHT
BEGIN:STANDARD
TZOFFSETFROM:-0400
TZOFFSETTO:-0500
TZNAME:EST
DTSTART:20201101T060000
END:STANDARD
BEGIN:DAYLIGHT
TZOFFSETFROM:-0500
TZOFFSETTO:-0400
TZNAME:EDT
DTSTART:20210314T070000
END:DAYLIGHT
BEGIN:STANDARD
TZOFFSETFROM:-0400
TZOFFSETTO:-0500
TZNAME:EST
DTSTART:20211107T060000
END:STANDARD
BEGIN:DAYLIGHT
TZOFFSETFROM:-0500
TZOFFSETTO:-0400
TZNAME:EDT
DTSTART:20220313T070000
END:DAYLIGHT
BEGIN:STANDARD
TZOFFSETFROM:-0400
TZOFFSETTO:-0500
TZNAME:EST
DTSTART:20221106T060000
END:STANDARD
END:VTIMEZONE
BEGIN:VEVENT
DTSTART;TZID=America/New_York:20210110T100000
DTEND;TZID=America/New_York:20210110T130000
DTSTAMP:20260420T061205
CREATED:20201120T203736Z
LAST-MODIFIED:20201120T203747Z
UID:6634-1610272800-1610283600@artandhistory.org
SUMMARY:Sunday Jewelry Workshops: Stackable Ring Set
DESCRIPTION:Complete a different project in each Sunday Jewelry Workshop! Join us this month to learn to create a stackable ring set. Beginners welcome!\n\n\n\nIf you have little or no experience in metal work\, this workshop is for you! You will learn the three steps of cut\, weld\, and polish to create a set of three rings in your size and style. This workshop is taught by longtime Maitland Art Center instructor and artist Jim Hosner. \nWorkshop is for adults 18 and over. Registration is $50. Please note that a material fee of $5 (in cash) is due to the instructor at the start of the workshop. \nREGISTER >>
URL:https://artandhistory.org/event/sunday-jewelry-workshops-stackable-ring-set-2/
LOCATION:Maitland Art Center\, 231 W. Packwood Ave.\, Maitland\, FL\, 32751\, United States
CATEGORIES:Jewelry,Jewelry Workshops,Workshops
ATTACH;FMTTYPE=image/jpeg:https://artandhistory.org/wp-content/uploads/9cb5d61bf99dc3c76d7e13455359609c-qH8ItR.tmp_.jpg
END:VEVENT
BEGIN:VEVENT
DTSTART;TZID=America/New_York:20210110T100000
DTEND;TZID=America/New_York:20210110T160000
DTSTAMP:20260420T061205
CREATED:20200810T174130Z
LAST-MODIFIED:20201120T203642Z
UID:6393-1610272800-1610294400@artandhistory.org
SUMMARY:Basic Papermaking Workshop with Judith Segall
DESCRIPTION:Create paper using recycled materials using pouring techniques\, embedding\, lamination\, and coloration of handmade paper.\n\n\n\nTaking a trip around the world with different fibers\, one will learn that paper is still made by hand in many third world countries\, even today. Students will learn sheet forming and pouring techniques\, embedding\, lamination\, and coloration of handmade paper\, and will go home with a few finished pieces of art. Students please bring with you any materials you would like to recycle such as flowers\, dried plants\, paper\, vegetable peelings and paper. Be prepared to get wet during the process of the workshop. \nWorkshop is for adults 18 and over. Material fee of $25 in cash due to the instructor at the start of the workshop. \nWorkshop is located at the Studios at Lily\, 830 Lake Lily Drive\, Maitland\, FL 32751. \nRegister >>
URL:https://artandhistory.org/event/basic-papermaking-workshop-with-judith-segall-2/
LOCATION:Art & History Museums – Maitland\, 231 W. Packwood Ave\, Maitland\, FL\, 32751\, United States
CATEGORIES:Fiber Art,Workshops
ATTACH;FMTTYPE=image/jpeg:https://artandhistory.org/wp-content/uploads/dc25d47f8447e1fa510372f7a35761be-h7kJBo.tmp_.jpg
END:VEVENT
END:VCALENDAR