BEGIN:VCALENDAR
VERSION:2.0
PRODID:-//A&amp;H - Art &amp; History Museums Maitland - ECPv6.15.20//NONSGML v1.0//EN
CALSCALE:GREGORIAN
METHOD:PUBLISH
X-ORIGINAL-URL:https://artandhistory.org
X-WR-CALDESC:Events for A&amp;H - Art &amp; History Museums Maitland
REFRESH-INTERVAL;VALUE=DURATION:PT1H
X-Robots-Tag:noindex
X-PUBLISHED-TTL:PT1H
BEGIN:VTIMEZONE
TZID:America/New_York
BEGIN:DAYLIGHT
TZOFFSETFROM:-0500
TZOFFSETTO:-0400
TZNAME:EDT
DTSTART:20200308T070000
END:DAYLIGHT
BEGIN:STANDARD
TZOFFSETFROM:-0400
TZOFFSETTO:-0500
TZNAME:EST
DTSTART:20201101T060000
END:STANDARD
BEGIN:DAYLIGHT
TZOFFSETFROM:-0500
TZOFFSETTO:-0400
TZNAME:EDT
DTSTART:20210314T070000
END:DAYLIGHT
BEGIN:STANDARD
TZOFFSETFROM:-0400
TZOFFSETTO:-0500
TZNAME:EST
DTSTART:20211107T060000
END:STANDARD
BEGIN:DAYLIGHT
TZOFFSETFROM:-0500
TZOFFSETTO:-0400
TZNAME:EDT
DTSTART:20220313T070000
END:DAYLIGHT
BEGIN:STANDARD
TZOFFSETFROM:-0400
TZOFFSETTO:-0500
TZNAME:EST
DTSTART:20221106T060000
END:STANDARD
END:VTIMEZONE
BEGIN:VEVENT
DTSTART;TZID=America/New_York:20210221T100000
DTEND;TZID=America/New_York:20210221T140000
DTSTAMP:20260420T031723
CREATED:20201120T195724Z
LAST-MODIFIED:20201120T195733Z
UID:6641-1613901600-1613916000@artandhistory.org
SUMMARY:Jewelry Workshop: Wire Wrapping Pendants
DESCRIPTION:Learn basic wire wrapping techniques to create pendants using retro marbles\, gemstones\, crystals\, and more!\n\n\nLearn to wire wrap marbles\, gemstones\, and crystals! Anyone can learn these techniques to create beautiful\, wire wrapped pendants. In this workshop you will learn basic wire wrapping for those cool retro childhood marbles\, gemstones\, and crystals. The material fee will provide you with your own set of jewelry pliers; choice of marbles\, gemstones\, and crystals; wrapping wire; chain for your finished piece; and informational sheets to take home. Techniques taught in class and the tools you take home will be applicable for your future jewelry projects. \nWorkshop is for ages 15 and over. Registration is $50. Please note that a material fee of $25 (in cash) is due to the instructor at the start of the workshop. \nREGISTER >> \nThis workshop will also be offered on Tuesday\, February 23\, 2021 from 6-9 PM EST. To register for this alternate date and time please click here. \n 
URL:https://artandhistory.org/event/jewelry-workshop-wire-wrapping-pendants-2/
LOCATION:Maitland Art Center\, 231 W. Packwood Ave.\, Maitland\, FL\, 32751\, United States
CATEGORIES:Jewelry,Jewelry Workshops,Workshops
ATTACH;FMTTYPE=image/jpeg:https://artandhistory.org/wp-content/uploads/6e718c9617e51abee6ced658c7ec3e44-HnUjxD.tmp_.jpg
END:VEVENT
END:VCALENDAR