BEGIN:VCALENDAR
VERSION:2.0
PRODID:-//A&amp;H - Art &amp; History Museums Maitland - ECPv6.15.20//NONSGML v1.0//EN
CALSCALE:GREGORIAN
METHOD:PUBLISH
X-ORIGINAL-URL:https://artandhistory.org
X-WR-CALDESC:Events for A&amp;H - Art &amp; History Museums Maitland
REFRESH-INTERVAL;VALUE=DURATION:PT1H
X-Robots-Tag:noindex
X-PUBLISHED-TTL:PT1H
BEGIN:VTIMEZONE
TZID:America/New_York
BEGIN:DAYLIGHT
TZOFFSETFROM:-0500
TZOFFSETTO:-0400
TZNAME:EDT
DTSTART:20200308T070000
END:DAYLIGHT
BEGIN:STANDARD
TZOFFSETFROM:-0400
TZOFFSETTO:-0500
TZNAME:EST
DTSTART:20201101T060000
END:STANDARD
BEGIN:DAYLIGHT
TZOFFSETFROM:-0500
TZOFFSETTO:-0400
TZNAME:EDT
DTSTART:20210314T070000
END:DAYLIGHT
BEGIN:STANDARD
TZOFFSETFROM:-0400
TZOFFSETTO:-0500
TZNAME:EST
DTSTART:20211107T060000
END:STANDARD
BEGIN:DAYLIGHT
TZOFFSETFROM:-0500
TZOFFSETTO:-0400
TZNAME:EDT
DTSTART:20220313T070000
END:DAYLIGHT
BEGIN:STANDARD
TZOFFSETFROM:-0400
TZOFFSETTO:-0500
TZNAME:EST
DTSTART:20221106T060000
END:STANDARD
END:VTIMEZONE
BEGIN:VEVENT
DTSTART;TZID=America/New_York:20210314T100000
DTEND;TZID=America/New_York:20210314T130000
DTSTAMP:20260420T014153
CREATED:20201120T191545Z
LAST-MODIFIED:20201120T191555Z
UID:6645-1615716000-1615726800@artandhistory.org
SUMMARY:Sunday Jewelry Workshops: Tube Set Stone
DESCRIPTION:Complete a different project in each Sunday Jewelry Workshop! Join us this month to create a ring with a tube set stone. Beginners welcome!\n\n\nIn this class\, students will learn the basic tube setting technique by creating a ring with a silver tube setting. Students will fabricate a ring from sterling silver wire\, then add a premade tube setting and set a stone. This workshop is taught by longtime Maitland Art Center instructor and artist Jim Hosner. \nWorkshop is for adults 18 and over. Registration is $50. Please note that a material fee of $10 (in cash) is due to the instructor at the start of the workshop. \nREGISTER >>
URL:https://artandhistory.org/event/sunday-jewelry-workshops-tube-set-stone/
LOCATION:Maitland Art Center\, 231 W. Packwood Ave.\, Maitland\, FL\, 32751\, United States
CATEGORIES:Jewelry,Jewelry Workshops,Workshops
ATTACH;FMTTYPE=image/jpeg:https://artandhistory.org/wp-content/uploads/d8b2914b17a236deacb7d269da13e53b-7gkJnT.tmp_.jpg
END:VEVENT
END:VCALENDAR