BEGIN:VCALENDAR
VERSION:2.0
PRODID:-//A&amp;H - Art &amp; History Museums Maitland - ECPv6.15.20//NONSGML v1.0//EN
CALSCALE:GREGORIAN
METHOD:PUBLISH
X-ORIGINAL-URL:https://artandhistory.org
X-WR-CALDESC:Events for A&amp;H - Art &amp; History Museums Maitland
REFRESH-INTERVAL;VALUE=DURATION:PT1H
X-Robots-Tag:noindex
X-PUBLISHED-TTL:PT1H
BEGIN:VTIMEZONE
TZID:America/New_York
BEGIN:DAYLIGHT
TZOFFSETFROM:-0500
TZOFFSETTO:-0400
TZNAME:EDT
DTSTART:20200308T070000
END:DAYLIGHT
BEGIN:STANDARD
TZOFFSETFROM:-0400
TZOFFSETTO:-0500
TZNAME:EST
DTSTART:20201101T060000
END:STANDARD
BEGIN:DAYLIGHT
TZOFFSETFROM:-0500
TZOFFSETTO:-0400
TZNAME:EDT
DTSTART:20210314T070000
END:DAYLIGHT
BEGIN:STANDARD
TZOFFSETFROM:-0400
TZOFFSETTO:-0500
TZNAME:EST
DTSTART:20211107T060000
END:STANDARD
BEGIN:DAYLIGHT
TZOFFSETFROM:-0500
TZOFFSETTO:-0400
TZNAME:EDT
DTSTART:20220313T070000
END:DAYLIGHT
BEGIN:STANDARD
TZOFFSETFROM:-0400
TZOFFSETTO:-0500
TZNAME:EST
DTSTART:20221106T060000
END:STANDARD
END:VTIMEZONE
BEGIN:VEVENT
DTSTART;TZID=America/New_York:20210411T100000
DTEND;TZID=America/New_York:20210411T130000
DTSTAMP:20260420T001849
CREATED:20210305T211432Z
LAST-MODIFIED:20210308T203215Z
UID:6993-1618135200-1618146000@artandhistory.org
SUMMARY:Sunday Jewelry Workshops: Stackable Ring Set
DESCRIPTION:Instructor: Jim Hosner \nLocation: Maitland Art Center Studio 5 \nCost: $50 + $5 materials fee \nIf you have little or no experience in metal work\, this workshop is for you! You will learn the three steps of cut\, weld\, and polish to create a set of three rings in your size and style. \nRegister >>
URL:https://artandhistory.org/event/stackable-ring-set/
LOCATION:231 W. Packwood Avenue\, Maitland\, 32751\, United States
CATEGORIES:Jewelry,Jewelry Workshops,Workshops
ATTACH;FMTTYPE=image/jpeg:https://artandhistory.org/wp-content/uploads/d8b2914b17a236deacb7d269da13e53b-7gkJnT.tmp_.jpg
END:VEVENT
END:VCALENDAR