BEGIN:VCALENDAR
VERSION:2.0
PRODID:-//A&amp;H - Art &amp; History Museums Maitland - ECPv6.15.20//NONSGML v1.0//EN
CALSCALE:GREGORIAN
METHOD:PUBLISH
X-ORIGINAL-URL:https://artandhistory.org
X-WR-CALDESC:Events for A&amp;H - Art &amp; History Museums Maitland
REFRESH-INTERVAL;VALUE=DURATION:PT1H
X-Robots-Tag:noindex
X-PUBLISHED-TTL:PT1H
BEGIN:VTIMEZONE
TZID:America/New_York
BEGIN:DAYLIGHT
TZOFFSETFROM:-0500
TZOFFSETTO:-0400
TZNAME:EDT
DTSTART:20200308T070000
END:DAYLIGHT
BEGIN:STANDARD
TZOFFSETFROM:-0400
TZOFFSETTO:-0500
TZNAME:EST
DTSTART:20201101T060000
END:STANDARD
BEGIN:DAYLIGHT
TZOFFSETFROM:-0500
TZOFFSETTO:-0400
TZNAME:EDT
DTSTART:20210314T070000
END:DAYLIGHT
BEGIN:STANDARD
TZOFFSETFROM:-0400
TZOFFSETTO:-0500
TZNAME:EST
DTSTART:20211107T060000
END:STANDARD
BEGIN:DAYLIGHT
TZOFFSETFROM:-0500
TZOFFSETTO:-0400
TZNAME:EDT
DTSTART:20220313T070000
END:DAYLIGHT
BEGIN:STANDARD
TZOFFSETFROM:-0400
TZOFFSETTO:-0500
TZNAME:EST
DTSTART:20221106T060000
END:STANDARD
END:VTIMEZONE
BEGIN:VEVENT
DTSTART;TZID=America/New_York:20210521T100000
DTEND;TZID=America/New_York:20210522T160000
DTSTAMP:20260419T220933
CREATED:20210305T211611Z
LAST-MODIFIED:20210308T212509Z
UID:7001-1621591200-1621699200@artandhistory.org
SUMMARY:Encaustic Everything
DESCRIPTION:2-day workshop: Friday-Saturday\, May 21-22 | 10am-4pm \nInstructor: Shelley Jean \nLocation: The Studios at Lake Lily \nCost: $345\, all materials included \nEncaustic is an artistic medium consisting of hot\, pigmented beeswax. Encaustic painting is an ancient technique\, but it has become increasingly popular with contemporary artists. Come delve into the versatility of this fascinating process that encourages experimentation! In this comprehensive 2-day workshop\, students will learn about encaustic history\, safety\, surfaces\, and fusing. A variety of techniques will be explored\, such as incising\, layering\, pigment sticks\, mark-making\, mixed media collage\, mono-printing\, and incorporating photos. Students will make multiple pieces of art by utilizing the learned techniques. All materials will be supplied. All skill levels are welcome! \nRegister >>
URL:https://artandhistory.org/event/encaustic-everything/
LOCATION:The Studios at Lake Lily\, 820 Lake Lily Drive\, Maitland\, FL\, 32751\, United States
CATEGORIES:Encaustics,Workshops
ATTACH;FMTTYPE=image/png:https://artandhistory.org/wp-content/uploads/PastedGraphic-2-1.png
END:VEVENT
BEGIN:VEVENT
DTSTART;TZID=America/New_York:20210522T100000
DTEND;TZID=America/New_York:20210522T140000
DTSTAMP:20260419T220933
CREATED:20210305T211547Z
LAST-MODIFIED:20210316T151801Z
UID:6997-1621677600-1621692000@artandhistory.org
SUMMARY:Metal Clay: Botanical Beauties
DESCRIPTION:Instructor: Marion Fague-Bass \nLocation: Maitland Art Center Studio 10 \nCost: $65 + $55 materials fee \nLearn how to use a silicone compound to make reusable molds from natural plant materials. You may bring items from your own yard or forage right on the Art Center grounds! Small leaves\, tiny flowers\, and weeds work best. Then\, using your handmade molds and metal clay\, you will create charms for bracelets\, earrings\, or pendants. All pieces will be fired after the workshop and available for pick-up the following week. Included in the materials fee is 10 grams of fine silver metal clay and your choice of one sterling silver chain\, one leather cord with clasp\, one pair of sterling silver ear wires\, OR one lobster claw spring clasp. Additional materials will be available to purchase during the workshop only. For beginners or intermediate level students. \nRegister >>
URL:https://artandhistory.org/event/botanical-beauties/
LOCATION:231 W. Packwood Avenue\, Maitland\, 32751\, United States
CATEGORIES:Jewelry,Jewelry Workshops,Workshops
ATTACH;FMTTYPE=image/jpeg:https://artandhistory.org/wp-content/uploads/botanical-beauties-samples-scaled.jpg
END:VEVENT
END:VCALENDAR