BEGIN:VCALENDAR
VERSION:2.0
PRODID:-//A&amp;H - Art &amp; History Museums Maitland - ECPv6.15.20//NONSGML v1.0//EN
CALSCALE:GREGORIAN
METHOD:PUBLISH
X-WR-CALNAME:A&amp;H - Art &amp; History Museums Maitland
X-ORIGINAL-URL:https://artandhistory.org
X-WR-CALDESC:Events for A&amp;H - Art &amp; History Museums Maitland
REFRESH-INTERVAL;VALUE=DURATION:PT1H
X-Robots-Tag:noindex
X-PUBLISHED-TTL:PT1H
BEGIN:VTIMEZONE
TZID:America/New_York
BEGIN:DAYLIGHT
TZOFFSETFROM:-0500
TZOFFSETTO:-0400
TZNAME:EDT
DTSTART:20200308T070000
END:DAYLIGHT
BEGIN:STANDARD
TZOFFSETFROM:-0400
TZOFFSETTO:-0500
TZNAME:EST
DTSTART:20201101T060000
END:STANDARD
BEGIN:DAYLIGHT
TZOFFSETFROM:-0500
TZOFFSETTO:-0400
TZNAME:EDT
DTSTART:20210314T070000
END:DAYLIGHT
BEGIN:STANDARD
TZOFFSETFROM:-0400
TZOFFSETTO:-0500
TZNAME:EST
DTSTART:20211107T060000
END:STANDARD
BEGIN:DAYLIGHT
TZOFFSETFROM:-0500
TZOFFSETTO:-0400
TZNAME:EDT
DTSTART:20220313T070000
END:DAYLIGHT
BEGIN:STANDARD
TZOFFSETFROM:-0400
TZOFFSETTO:-0500
TZNAME:EST
DTSTART:20221106T060000
END:STANDARD
END:VTIMEZONE
BEGIN:VEVENT
DTSTART;TZID=America/New_York:20210529T100000
DTEND;TZID=America/New_York:20210529T140000
DTSTAMP:20260419T220813
CREATED:20210305T211556Z
LAST-MODIFIED:20210316T151842Z
UID:6998-1622282400-1622296800@artandhistory.org
SUMMARY:Tiny Treasure Trinket Box
DESCRIPTION:Instructor: Marion Fague-Bass \nLocation: Maitland Art Center Studio 10 \nCost: $65 + $75 materials fee \nCreate a tiny treasure box with a loose-fitting lid in this workshop with Marion! Your box will be small (approximately 1 cubic inch) and perfect for holding a precious trinket: a coin from your honeymoon in Italy\, a button from your child’s favorite shirt\, or maybe a ring from your grandmother. Using 20 grams of fine silver metal clay and a variety of textures and molds\, you can make your treasure box in the shape of your choice. You will learn how to fit and attach a bottom to your box and how to create a lid with a rim. Boxes will be finished to the dried greenware stage. All pieces will be fired after the workshop and available for pick-up the following week. \nRegister >>
URL:https://artandhistory.org/event/tiny-treasure-trinket-box/
LOCATION:231 W. Packwood Avenue\, Maitland\, 32751\, United States
CATEGORIES:Jewelry,Jewelry Workshops,Workshops
ATTACH;FMTTYPE=image/jpeg:https://artandhistory.org/wp-content/uploads/tiny-trinket-treasure-box-2.jpg
END:VEVENT
END:VCALENDAR