BEGIN:VCALENDAR
VERSION:2.0
PRODID:-//A&amp;H - Art &amp; History Museums Maitland - ECPv6.15.20//NONSGML v1.0//EN
CALSCALE:GREGORIAN
METHOD:PUBLISH
X-WR-CALNAME:A&amp;H - Art &amp; History Museums Maitland
X-ORIGINAL-URL:https://artandhistory.org
X-WR-CALDESC:Events for A&amp;H - Art &amp; History Museums Maitland
REFRESH-INTERVAL;VALUE=DURATION:PT1H
X-Robots-Tag:noindex
X-PUBLISHED-TTL:PT1H
BEGIN:VTIMEZONE
TZID:America/New_York
BEGIN:DAYLIGHT
TZOFFSETFROM:-0500
TZOFFSETTO:-0400
TZNAME:EDT
DTSTART:20200308T070000
END:DAYLIGHT
BEGIN:STANDARD
TZOFFSETFROM:-0400
TZOFFSETTO:-0500
TZNAME:EST
DTSTART:20201101T060000
END:STANDARD
BEGIN:DAYLIGHT
TZOFFSETFROM:-0500
TZOFFSETTO:-0400
TZNAME:EDT
DTSTART:20210314T070000
END:DAYLIGHT
BEGIN:STANDARD
TZOFFSETFROM:-0400
TZOFFSETTO:-0500
TZNAME:EST
DTSTART:20211107T060000
END:STANDARD
BEGIN:DAYLIGHT
TZOFFSETFROM:-0500
TZOFFSETTO:-0400
TZNAME:EDT
DTSTART:20220313T070000
END:DAYLIGHT
BEGIN:STANDARD
TZOFFSETFROM:-0400
TZOFFSETTO:-0500
TZNAME:EST
DTSTART:20221106T060000
END:STANDARD
END:VTIMEZONE
BEGIN:VEVENT
DTSTART;TZID=America/New_York:20210627T100000
DTEND;TZID=America/New_York:20210627T130000
DTSTAMP:20260419T171111
CREATED:20210518T063348Z
LAST-MODIFIED:20210518T063603Z
UID:7338-1624788000-1624798800@artandhistory.org
SUMMARY:Jewelry Workshop: Pearl & Bead Stringing
DESCRIPTION:Sunday\, June 27 | 10 am-1 pm \nor Tuesday\, June 29 | 6 pm-9 pm \nInstructor: Anastacia Santspree \nLocation: Studio 5 at the Maitland Art Center \nCost: $50 + $25 materials fee \nHave you ever wanted to learn to string pearls? Do you want to restring your heirloom Grandmother’s pearls? Join us and do one or both! During this workshop you will learn to knot pearls. If you have a strand you want to restring\, bring it in! Techniques taught in the workshop and the tools you take home will be applicable for your future pearl or bead stringing projects. \nWorkshop is for ages 15 and over. Registration is $50. Please note that a materials fee of $25 (in cash) is due to the instructor at the start of the workshop. \nRegister >> \n  \n 
URL:https://artandhistory.org/event/jewelry-workshop-pearl-bead-stringing-3/
LOCATION:Art & History Museums – Maitland\, 231 W. Packwood Avenue\, Maitland\, FL\, 32751\, United States
CATEGORIES:Jewelry,Jewelry Workshops,Workshops
ATTACH;FMTTYPE=image/jpeg:https://artandhistory.org/wp-content/uploads/https___cdn.evbuc_.com_images_133844331_303807323185_1_original.jpg
END:VEVENT
END:VCALENDAR