BEGIN:VCALENDAR
VERSION:2.0
PRODID:-//A&amp;H - Art &amp; History Museums Maitland - ECPv6.15.20//NONSGML v1.0//EN
CALSCALE:GREGORIAN
METHOD:PUBLISH
X-WR-CALNAME:A&amp;H - Art &amp; History Museums Maitland
X-ORIGINAL-URL:https://artandhistory.org
X-WR-CALDESC:Events for A&amp;H - Art &amp; History Museums Maitland
REFRESH-INTERVAL;VALUE=DURATION:PT1H
X-Robots-Tag:noindex
X-PUBLISHED-TTL:PT1H
BEGIN:VTIMEZONE
TZID:America/New_York
BEGIN:DAYLIGHT
TZOFFSETFROM:-0500
TZOFFSETTO:-0400
TZNAME:EDT
DTSTART:20200308T070000
END:DAYLIGHT
BEGIN:STANDARD
TZOFFSETFROM:-0400
TZOFFSETTO:-0500
TZNAME:EST
DTSTART:20201101T060000
END:STANDARD
BEGIN:DAYLIGHT
TZOFFSETFROM:-0500
TZOFFSETTO:-0400
TZNAME:EDT
DTSTART:20210314T070000
END:DAYLIGHT
BEGIN:STANDARD
TZOFFSETFROM:-0400
TZOFFSETTO:-0500
TZNAME:EST
DTSTART:20211107T060000
END:STANDARD
BEGIN:DAYLIGHT
TZOFFSETFROM:-0500
TZOFFSETTO:-0400
TZNAME:EDT
DTSTART:20220313T070000
END:DAYLIGHT
BEGIN:STANDARD
TZOFFSETFROM:-0400
TZOFFSETTO:-0500
TZNAME:EST
DTSTART:20221106T060000
END:STANDARD
END:VTIMEZONE
BEGIN:VEVENT
DTSTART;TZID=America/New_York:20210727T180000
DTEND;TZID=America/New_York:20210727T210000
DTSTAMP:20260419T171111
CREATED:20210518T182059Z
LAST-MODIFIED:20210518T182059Z
UID:7361-1627408800-1627419600@artandhistory.org
SUMMARY:Jewelry Workshop: Wire Wrapping Pendants
DESCRIPTION:Sunday\, July 25 | 10 am-1 pm \nor Tuesday\, July 27 | 6 pm-9 pm \nInstructor: Anastacia Santspree\nLocation: Studio 5 at the Maitland Art Center\nCost: $50 + $25 materials fee \nLearn to wire wrap marbles\, gemstones\, and crystals! Anyone can learn these techniques to create beautiful\, wire wrapped pendants. In this workshop you will learn basic wire wrapping for retro childhood marbles\, gemstone pendants\, or crystals. Techniques taught in the workshop and the tools you take home will be applicable for your future jewelry projects. \nRegister >>
URL:https://artandhistory.org/event/jewelry-workshop-wire-wrapping-pendants-3-2021-07-27/
LOCATION:Art & History Museums – Maitland\, 231 W. Packwood Avenue\, Maitland\, FL\, 32751\, United States
CATEGORIES:Jewelry,Jewelry Workshops,Workshops
ATTACH;FMTTYPE=image/jpeg:https://artandhistory.org/wp-content/uploads/https___cdn.evbuc_.com_images_134330019_506049698825_1_original.jpg
END:VEVENT
END:VCALENDAR