BEGIN:VCALENDAR
VERSION:2.0
PRODID:-//A&amp;H - Art &amp; History Museums Maitland - ECPv6.15.20//NONSGML v1.0//EN
CALSCALE:GREGORIAN
METHOD:PUBLISH
X-WR-CALNAME:A&amp;H - Art &amp; History Museums Maitland
X-ORIGINAL-URL:https://artandhistory.org
X-WR-CALDESC:Events for A&amp;H - Art &amp; History Museums Maitland
REFRESH-INTERVAL;VALUE=DURATION:PT1H
X-Robots-Tag:noindex
X-PUBLISHED-TTL:PT1H
BEGIN:VTIMEZONE
TZID:America/New_York
BEGIN:DAYLIGHT
TZOFFSETFROM:-0500
TZOFFSETTO:-0400
TZNAME:EDT
DTSTART:20200308T070000
END:DAYLIGHT
BEGIN:STANDARD
TZOFFSETFROM:-0400
TZOFFSETTO:-0500
TZNAME:EST
DTSTART:20201101T060000
END:STANDARD
BEGIN:DAYLIGHT
TZOFFSETFROM:-0500
TZOFFSETTO:-0400
TZNAME:EDT
DTSTART:20210314T070000
END:DAYLIGHT
BEGIN:STANDARD
TZOFFSETFROM:-0400
TZOFFSETTO:-0500
TZNAME:EST
DTSTART:20211107T060000
END:STANDARD
BEGIN:DAYLIGHT
TZOFFSETFROM:-0500
TZOFFSETTO:-0400
TZNAME:EDT
DTSTART:20220313T070000
END:DAYLIGHT
BEGIN:STANDARD
TZOFFSETFROM:-0400
TZOFFSETTO:-0500
TZNAME:EST
DTSTART:20221106T060000
END:STANDARD
END:VTIMEZONE
BEGIN:VEVENT
DTSTART;TZID=America/New_York:20210801T100000
DTEND;TZID=America/New_York:20210801T130000
DTSTAMP:20260419T153442
CREATED:20210518T185115Z
LAST-MODIFIED:20210518T185115Z
UID:7366-1627812000-1627822800@artandhistory.org
SUMMARY:Jewelry Workshop: Intro to Jewelry
DESCRIPTION:Sunday\, August 1 | 10am-1pm \nor Tuesday\, August 3 | 6pm-9pm \nInstructor: Anastacia Santspree\nLocation: Studio 5 at the Maitland Art Center\nCost: $50 + $35 materials fee \nLearn the basics of jewelry making! This is a great introduction to the art of creating beautiful jewelry. In this workshop you will complete one metal project without soldering. You will learn to use a jeweler’s saw\, cut jump rings\, cut metal sheet\, and various polishing techniques to create a beautiful pendant. Techniques taught in the workshop and the tools you take home will be applicable for your future jewelry projects. \nRegister >>
URL:https://artandhistory.org/event/jewelry-workshop-intro-to-jewelry/
LOCATION:Art & History Museums – Maitland\, 231 W. Packwood Avenue\, Maitland\, FL\, 32751\, United States
CATEGORIES:Jewelry,Jewelry Workshops,Workshops
ATTACH;FMTTYPE=image/jpeg:https://artandhistory.org/wp-content/uploads/RG2_0366-byRobertoGonzalez-crop-1024x676-1.jpg
END:VEVENT
END:VCALENDAR