BEGIN:VCALENDAR
VERSION:2.0
PRODID:-//A&amp;H - Art &amp; History Museums Maitland - ECPv6.15.20//NONSGML v1.0//EN
CALSCALE:GREGORIAN
METHOD:PUBLISH
X-WR-CALNAME:A&amp;H - Art &amp; History Museums Maitland
X-ORIGINAL-URL:https://artandhistory.org
X-WR-CALDESC:Events for A&amp;H - Art &amp; History Museums Maitland
REFRESH-INTERVAL;VALUE=DURATION:PT1H
X-Robots-Tag:noindex
X-PUBLISHED-TTL:PT1H
BEGIN:VTIMEZONE
TZID:America/New_York
BEGIN:DAYLIGHT
TZOFFSETFROM:-0500
TZOFFSETTO:-0400
TZNAME:EDT
DTSTART:20200308T070000
END:DAYLIGHT
BEGIN:STANDARD
TZOFFSETFROM:-0400
TZOFFSETTO:-0500
TZNAME:EST
DTSTART:20201101T060000
END:STANDARD
BEGIN:DAYLIGHT
TZOFFSETFROM:-0500
TZOFFSETTO:-0400
TZNAME:EDT
DTSTART:20210314T070000
END:DAYLIGHT
BEGIN:STANDARD
TZOFFSETFROM:-0400
TZOFFSETTO:-0500
TZNAME:EST
DTSTART:20211107T060000
END:STANDARD
BEGIN:DAYLIGHT
TZOFFSETFROM:-0500
TZOFFSETTO:-0400
TZNAME:EDT
DTSTART:20220313T070000
END:DAYLIGHT
BEGIN:STANDARD
TZOFFSETFROM:-0400
TZOFFSETTO:-0500
TZNAME:EST
DTSTART:20221106T060000
END:STANDARD
END:VTIMEZONE
BEGIN:VEVENT
DTSTART;TZID=America/New_York:20210808T100000
DTEND;TZID=America/New_York:20210808T130000
DTSTAMP:20260419T153442
CREATED:20210518T185810Z
LAST-MODIFIED:20210518T185810Z
UID:7370-1628416800-1628427600@artandhistory.org
SUMMARY:Sunday Jewelry Workshops: Bezel Set Stone Ring
DESCRIPTION:Sunday\, August 8 |  10am-1pm \nInstructor: Jim Hosner\nLocation: Studio 5 at the Maitland Art Center\nCost: $50 + $10 materials fee \nA bezel is a thin band of metal at the base of the stone to hold it in place. Students will fabricate a silver ring with a bezel\, then set a stone into it using a burnisher. No experience is required! \nRegister >>
URL:https://artandhistory.org/event/sunday-jewelry-workshops-bezel-set-stone-ring/
LOCATION:Art & History Museums – Maitland\, 231 W. Packwood Avenue\, Maitland\, FL\, 32751\, United States
CATEGORIES:Jewelry,Jewelry Workshops,Workshops
ATTACH;FMTTYPE=image/jpeg:https://artandhistory.org/wp-content/uploads/https___cdn.evbuc_.com_images_135207495_506049698825_1_original.jpg
END:VEVENT
END:VCALENDAR