BEGIN:VCALENDAR
VERSION:2.0
PRODID:-//A&amp;H - Art &amp; History Museums Maitland - ECPv6.15.20//NONSGML v1.0//EN
CALSCALE:GREGORIAN
METHOD:PUBLISH
X-WR-CALNAME:A&amp;H - Art &amp; History Museums Maitland
X-ORIGINAL-URL:https://artandhistory.org
X-WR-CALDESC:Events for A&amp;H - Art &amp; History Museums Maitland
REFRESH-INTERVAL;VALUE=DURATION:PT1H
X-Robots-Tag:noindex
X-PUBLISHED-TTL:PT1H
BEGIN:VTIMEZONE
TZID:America/New_York
BEGIN:DAYLIGHT
TZOFFSETFROM:-0500
TZOFFSETTO:-0400
TZNAME:EDT
DTSTART:20200308T070000
END:DAYLIGHT
BEGIN:STANDARD
TZOFFSETFROM:-0400
TZOFFSETTO:-0500
TZNAME:EST
DTSTART:20201101T060000
END:STANDARD
BEGIN:DAYLIGHT
TZOFFSETFROM:-0500
TZOFFSETTO:-0400
TZNAME:EDT
DTSTART:20210314T070000
END:DAYLIGHT
BEGIN:STANDARD
TZOFFSETFROM:-0400
TZOFFSETTO:-0500
TZNAME:EST
DTSTART:20211107T060000
END:STANDARD
BEGIN:DAYLIGHT
TZOFFSETFROM:-0500
TZOFFSETTO:-0400
TZNAME:EDT
DTSTART:20220313T070000
END:DAYLIGHT
BEGIN:STANDARD
TZOFFSETFROM:-0400
TZOFFSETTO:-0500
TZNAME:EST
DTSTART:20221106T060000
END:STANDARD
END:VTIMEZONE
BEGIN:VEVENT
DTSTART;TZID=America/New_York:20210821T100000
DTEND;TZID=America/New_York:20210821T140000
DTSTAMP:20260421T040235
CREATED:20210518T192748Z
LAST-MODIFIED:20210519T153307Z
UID:7374-1629540000-1629554400@artandhistory.org
SUMMARY:Metal Clay Jewelry Workshops: Tube Beads
DESCRIPTION:Saturday\, August 21 |  10am-2pm \nInstructor: Marion Fague-Bass\nLocation: Studio 10 at the Maitland Art Center\nCost: $65 + $50 materials fee \nTube-shaped beads made from metal clay are great to use in combination with other beads or alone as accents on necklaces or bracelets. In this workshop\, you will learn how to texture and form tube-shaped beads in your choice of style. All pieces will be fired after the workshop and available for pick-up the following week. Included in the materials fee is 10 grams of fine silver metal clay. Additional metal clay will be available to purchase during the workshop only. For beginners or intermediate level students. \nRegister >>
URL:https://artandhistory.org/event/metal-clay-jewelry-workshops-tube-beads/
LOCATION:Art & History Museums – Maitland\, 231 W. Packwood Avenue\, Maitland\, FL\, 32751\, United States
CATEGORIES:Jewelry,Jewelry Workshops,Workshops
ATTACH;FMTTYPE=image/jpeg:https://artandhistory.org/wp-content/uploads/tbe-beads.jpg
END:VEVENT
END:VCALENDAR