BEGIN:VCALENDAR
VERSION:2.0
PRODID:-//A&amp;H - Art &amp; History Museums Maitland - ECPv6.15.20//NONSGML v1.0//EN
CALSCALE:GREGORIAN
METHOD:PUBLISH
X-WR-CALNAME:A&amp;H - Art &amp; History Museums Maitland
X-ORIGINAL-URL:https://artandhistory.org
X-WR-CALDESC:Events for A&amp;H - Art &amp; History Museums Maitland
REFRESH-INTERVAL;VALUE=DURATION:PT1H
X-Robots-Tag:noindex
X-PUBLISHED-TTL:PT1H
BEGIN:VTIMEZONE
TZID:America/New_York
BEGIN:DAYLIGHT
TZOFFSETFROM:-0500
TZOFFSETTO:-0400
TZNAME:EDT
DTSTART:20160313T070000
END:DAYLIGHT
BEGIN:STANDARD
TZOFFSETFROM:-0400
TZOFFSETTO:-0500
TZNAME:EST
DTSTART:20161106T060000
END:STANDARD
BEGIN:DAYLIGHT
TZOFFSETFROM:-0500
TZOFFSETTO:-0400
TZNAME:EDT
DTSTART:20170312T070000
END:DAYLIGHT
BEGIN:STANDARD
TZOFFSETFROM:-0400
TZOFFSETTO:-0500
TZNAME:EST
DTSTART:20171105T060000
END:STANDARD
BEGIN:DAYLIGHT
TZOFFSETFROM:-0500
TZOFFSETTO:-0400
TZNAME:EDT
DTSTART:20180311T070000
END:DAYLIGHT
BEGIN:STANDARD
TZOFFSETFROM:-0400
TZOFFSETTO:-0500
TZNAME:EST
DTSTART:20181104T060000
END:STANDARD
END:VTIMEZONE
BEGIN:VEVENT
DTSTART;TZID=America/New_York:20170922T120000
DTEND;TZID=America/New_York:20170922T123000
DTSTAMP:20260425T071232
CREATED:20170817T130431Z
LAST-MODIFIED:20170817T130431Z
UID:2032-1506081600-1506083400@artandhistory.org
SUMMARY:Tour of Selections from the Permanent Collection
DESCRIPTION:Join A&H’s Collections Registrar\, Tiffany Owens\, for a special tour of the Selections from the Permanent Collection exhibition in Maitland Art Center. Learn more about the three sections of the exhibition — André On Verso\, Bok Fellows\, and Permanent Collection post-Smith and the Bok Fellows\, before the exhibition ends on September 24. The tour is included in the regular Maitland Art Center admission price. Don’t miss this one-time opportunity for behind-the-scenes details on the featured works\, our processes for displaying them\,  and the A&H’s collections as a whole.
URL:https://artandhistory.org/event/tour-selections-permanent-collection/
LOCATION:A&H’s Maitland Art Center\, 231 W. Packwood Avenue\, Maitland\, FL\, 32751\, United States
CATEGORIES:Event
END:VEVENT
BEGIN:VEVENT
DTSTART;TZID=America/New_York:20170927T180000
DTEND;TZID=America/New_York:20170927T190000
DTSTAMP:20260425T071232
CREATED:20170828T190645Z
LAST-MODIFIED:20170828T190645Z
UID:2056-1506535200-1506538800@artandhistory.org
SUMMARY:Annual Member Meeting
DESCRIPTION:Join us for an exclusive sneak peek of everything NEW at the A&H during the 2017-2018 Season\, including: \n\nSeason Preview by A&H’s NEW Executive Director\nDiscover our NEW approach to weaving art and history themes throughout campus\nKeynote Speaker ­– celebrated Orlando Sentinel Columnist Joy Wallace Dickinson\nVolunteer of the Year award presentation\nComplimentary appetizers\n\nExclusive to current A&H members: \n\nVoting on A&H’s Board of Directors and its Officers (You must be an active A&H Member by August 27 to be eligible to vote.)\nReceiving annual reports and other valuable membership information\n\nRSVP requested but not required: info@artandhistory.org.
URL:https://artandhistory.org/event/annual-member-meeting/
LOCATION:Art & History Museums – Maitland\, 231 W. Packwood Avenue\, Maitland\, FL\, 32751\, United States
END:VEVENT
END:VCALENDAR