BEGIN:VCALENDAR
VERSION:2.0
PRODID:-//A&amp;H - Art &amp; History Museums Maitland - ECPv6.15.20//NONSGML v1.0//EN
CALSCALE:GREGORIAN
METHOD:PUBLISH
X-ORIGINAL-URL:https://artandhistory.org
X-WR-CALDESC:Events for A&amp;H - Art &amp; History Museums Maitland
REFRESH-INTERVAL;VALUE=DURATION:PT1H
X-Robots-Tag:noindex
X-PUBLISHED-TTL:PT1H
BEGIN:VTIMEZONE
TZID:America/New_York
BEGIN:DAYLIGHT
TZOFFSETFROM:-0500
TZOFFSETTO:-0400
TZNAME:EDT
DTSTART:20220313T070000
END:DAYLIGHT
BEGIN:STANDARD
TZOFFSETFROM:-0400
TZOFFSETTO:-0500
TZNAME:EST
DTSTART:20221106T060000
END:STANDARD
BEGIN:DAYLIGHT
TZOFFSETFROM:-0500
TZOFFSETTO:-0400
TZNAME:EDT
DTSTART:20230312T070000
END:DAYLIGHT
BEGIN:STANDARD
TZOFFSETFROM:-0400
TZOFFSETTO:-0500
TZNAME:EST
DTSTART:20231105T060000
END:STANDARD
BEGIN:DAYLIGHT
TZOFFSETFROM:-0500
TZOFFSETTO:-0400
TZNAME:EDT
DTSTART:20240310T070000
END:DAYLIGHT
BEGIN:STANDARD
TZOFFSETFROM:-0400
TZOFFSETTO:-0500
TZNAME:EST
DTSTART:20241103T060000
END:STANDARD
BEGIN:DAYLIGHT
TZOFFSETFROM:-0500
TZOFFSETTO:-0400
TZNAME:EDT
DTSTART:20250309T070000
END:DAYLIGHT
BEGIN:STANDARD
TZOFFSETFROM:-0400
TZOFFSETTO:-0500
TZNAME:EST
DTSTART:20251102T060000
END:STANDARD
BEGIN:DAYLIGHT
TZOFFSETFROM:-0500
TZOFFSETTO:-0400
TZNAME:EDT
DTSTART:20260308T070000
END:DAYLIGHT
BEGIN:STANDARD
TZOFFSETFROM:-0400
TZOFFSETTO:-0500
TZNAME:EST
DTSTART:20261101T060000
END:STANDARD
BEGIN:DAYLIGHT
TZOFFSETFROM:-0500
TZOFFSETTO:-0400
TZNAME:EDT
DTSTART:20270314T070000
END:DAYLIGHT
BEGIN:STANDARD
TZOFFSETFROM:-0400
TZOFFSETTO:-0500
TZNAME:EST
DTSTART:20271107T060000
END:STANDARD
BEGIN:DAYLIGHT
TZOFFSETFROM:-0500
TZOFFSETTO:-0400
TZNAME:EDT
DTSTART:20280312T070000
END:DAYLIGHT
BEGIN:STANDARD
TZOFFSETFROM:-0400
TZOFFSETTO:-0500
TZNAME:EST
DTSTART:20281105T060000
END:STANDARD
BEGIN:DAYLIGHT
TZOFFSETFROM:-0500
TZOFFSETTO:-0400
TZNAME:EDT
DTSTART:20290311T070000
END:DAYLIGHT
BEGIN:STANDARD
TZOFFSETFROM:-0400
TZOFFSETTO:-0500
TZNAME:EST
DTSTART:20291104T060000
END:STANDARD
END:VTIMEZONE
BEGIN:VEVENT
DTSTART;TZID=America/New_York:20230303T110000
DTEND;TZID=America/New_York:20280303T160000
DTSTAMP:20260422T064216
CREATED:20221214T171417Z
LAST-MODIFIED:20240602T010148Z
UID:9315-1677841200-1835712000@artandhistory.org
SUMMARY:Maitland's Attic: A Journey Through A Small City's Past
DESCRIPTION:  \nThis exhibition is an interactive\, hands-on exploration into the history of Maitland and its surrounding areas! \n\nThere were a lot of things that did not happen in Maitland. There were no great battles fought on the soil\, nor was it home to any infamous individuals. The town was not the epicenter of any great social movements\, nor was it home to discoveries that would better humankind. Maitland was\, and continues to be\, a small town\, like so many others.\n\nThe story of Maitland is a story of seemingly ordinary people who lived through extraordinary times\, a place where people made their homes while dramatic events unfolded in other parts of the world. People labored here\, raised their families\, loved\, lost\, thought\, and created. The objects in the museum’s collection reflect the brightness of these lives against the backdrop of a changing and often troubled world.\n\n\nEach artifact tells a story specific to a place and time. They are the carriers of the memories of the people who owned them\, who felt that they were important enough to their own story to preserve them. Many of them are the prototypes of the objects that we use and hold dear today\, objects which will one day carry our own memories forward.\nWelcome to Maitland’s Attic\, a gathering place of the unique items that tell of Maitland’s past. From the everyday to the downright weird\, these objects and their stories open a window onto important moments throughout the history of the town\, and the people who called it home.\n\n\n\n¡Esta exhibición es interactivo y de primera mano adentro de la historia de Maitland y las áreas cercanas! \nEn Maitland no ocurrieron muchas cosas. En su suelo no se libraron grandes batallas\, ni fue cuna deindividuos infames. No fue el epicentro de grandes movimientos sociales ni de descubrimientosrevolucionarios. \nLa historia de Maitland es la historia de personas aparentemente corrientes que vivieron tiemposextraordinarios\, un lugar donde la gente estableció su hogar mientras se desarrollaban acontecimientosdramáticos en otras partes del mundo. La gente trabajaba aquí\, criaba a sus familias\, amaba\, perdía\,pensaba y creaba. Los objetos de la colección del museo reflejan el brillo de estas vidas en el contextode un mundo cambiante y a menudo turbulento. \nCada artefacto cuenta una historia específica de un lugar y una época. En conjunto\, son portadores delos recuerdos de las personas que los poseyeron\, que consideraron que eran lo bastante importantespara su historia como para conservarlos. Muchos de ellos son prototipos de los objetos que usamos yapreciamos hoy\, objetos que un día serán portadores de nuestros propios recuerdos.Bienvenido a Maitland’s Attic\, un lugar donde se reúnen objetos únicos que hablan del pasado deMaitland. Desde los más cotidianos hasta los más extraños\, estos objetos abren una ventana amomentos importantes de la historia de la ciudad y a las personas que decidieron llamarla su hogar.
URL:https://artandhistory.org/event/maitland-history-museum-permanent-exhibition-debut/
LOCATION:Art & History Museums – Maitland\, 231 W. Packwood Avenue\, Maitland\, FL\, 32751\, United States
CATEGORIES:Event,Events,Exhibition
ATTACH;FMTTYPE=image/png:https://artandhistory.org/wp-content/uploads/Pastel-Gradient-Christian-Easter-Facebook-Cover.png
END:VEVENT
BEGIN:VEVENT
DTSTART;TZID=America/New_York:20250125T110000
DTEND;TZID=America/New_York:20250413T160000
DTSTAMP:20260422T064216
CREATED:20240930T162124Z
LAST-MODIFIED:20251103T203235Z
UID:10861-1737802800-1744560000@artandhistory.org
SUMMARY:Future Nature: The Silent Conversations of Sinuhé Vega Negrin
DESCRIPTION:Future Nature: The Silent Conversations of Sinuhé Vega Negrin showcases paintings and ceramic sculptures that delve into themes of ecological and human fragility. Inspired by the Dutch Vanitas tradition\, Negrin’s new works evoke contemplation on mortality and the pursuit of divine wisdom through earthly reflections. His paintings depict balancing sculptural heads and vessels within lush tropical landscapes\, symbolizing humanity’s precarious mental constructs and our disconnection from nature. Negrin’s conversation centers on our future relationship with the natural world\, calling for greater ecological awareness and a renewed spiritual connection. These pieces invite viewers to reflect on their role in envisioning a future nature\, where the need for a harmonious coexistence with nature is paramount\, and where human and ecological resilience are intertwined.
URL:https://artandhistory.org/event/futurenature/
LOCATION:Art & History Museums – Maitland\, 231 W. Packwood Ave\, Maitland\, FL\, 32751\, United States
CATEGORIES:Event,Events,Past Exhibitions
ATTACH;FMTTYPE=image/jpeg:https://artandhistory.org/wp-content/uploads/Sinuhe-Vega-The-Harvest-Oil-on-Birchwood-2024.jpg
END:VEVENT
BEGIN:VEVENT
DTSTART;TZID=America/New_York:20250301T100000
DTEND;TZID=America/New_York:20250301T104500
DTSTAMP:20260422T064216
CREATED:20241218T171044Z
LAST-MODIFIED:20241218T171044Z
UID:11006-1740823200-1740825900@artandhistory.org
SUMMARY:Historic Architecture Tour
DESCRIPTION:An exotic art adventure just 15 minutes from downtown Orlando! See more than 2\,000 carvings\, sculptures\, & murals on a guided tour of the beautiful gardens & architecture of this National Historic Landmark. \n$4-6\, includes admission to 3 museum and grounds for the day / Free for members \nClick here to reserve your tickets>>
URL:https://artandhistory.org/event/historic-architecture-tour-32/
LOCATION:Art & History Museums – Maitland\, 231 W. Packwood Ave\, Maitland\, FL\, 32751\, United States
CATEGORIES:Event,Events
ATTACH;FMTTYPE=image/png:https://artandhistory.org/wp-content/uploads/Architecture-Tour.png
END:VEVENT
BEGIN:VEVENT
DTSTART;TZID=America/New_York:20250302T103000
DTEND;TZID=America/New_York:20250302T123000
DTSTAMP:20260422T064216
CREATED:20241007T212827Z
LAST-MODIFIED:20241007T212827Z
UID:10907-1740911400-1740918600@artandhistory.org
SUMMARY:Cyanotype Printing
DESCRIPTION:Instructor: Abbey Kish \nLocation: Cottage at Lake Lily \nCost: $50 + $15 material fees \nMaterials fees must be paid in cash directly to the instructor\, and are due on the day of the workshop. \nCyanotype printing is the earliest form of photographic printing invented in the 1800’s. Using a simple chemical solution & sunlight\, cyanotypes are a brilliant blue where light hits and white where the light is obscured. Enjoy a bit of the magic\, science\, history\, and art in creating these beautiful blueprints. We will be printing on paper but cyanotypes can also be printed on fabric if you wish to bring a cotton/linen t-shirt\, tote bag\, or other such items. You may also bring items for printing such as jewelry\, trinkets\, small toys\, or anything with an interesting silhouette. \nRegister Here>>
URL:https://artandhistory.org/event/cyanotype-printing/
LOCATION:The Cottage at Lake Lily\, 701 Lake Lily Dr.\, Maitland\, FL\, 32751\, United States
CATEGORIES:Event,Events,Workshops
ATTACH;FMTTYPE=image/jpeg:https://artandhistory.org/wp-content/uploads/Scanner-Collage-Cyanotype-Abbey-Kish.jpg
END:VEVENT
BEGIN:VEVENT
DTSTART;TZID=America/New_York:20250308T100000
DTEND;TZID=America/New_York:20250308T104500
DTSTAMP:20260422T064216
CREATED:20250305T204237Z
LAST-MODIFIED:20250305T204237Z
UID:11415-1741428000-1741430700@artandhistory.org
SUMMARY:Historic Architecture Tour
DESCRIPTION:An exotic art adventure just 15 minutes from downtown Orlando! See more than 2\,000 carvings\, sculptures\, & murals on a guided tour of the beautiful gardens & architecture of this National Historic Landmark. \n$4-6\, includes admission to 3 museum and grounds for the day / Free for members! \nClick here to reserve your tickets>>
URL:https://artandhistory.org/event/historic-architecture-tour-33/
LOCATION:Art & History Museums – Maitland\, 231 W. Packwood Ave\, Maitland\, FL\, 32751\, United States
CATEGORIES:Event,Events
ATTACH;FMTTYPE=image/png:https://artandhistory.org/wp-content/uploads/Architecture-Tour.png
END:VEVENT
BEGIN:VEVENT
DTSTART;TZID=America/New_York:20250313T100000
DTEND;TZID=America/New_York:20250313T104500
DTSTAMP:20260422T064216
CREATED:20250305T204418Z
LAST-MODIFIED:20250305T204418Z
UID:11417-1741860000-1741862700@artandhistory.org
SUMMARY:Historic Architecture Tour
DESCRIPTION:An exotic art adventure just 15 minutes from downtown Orlando! See more than 2\,000 carvings\, sculptures\, & murals on a guided tour of the beautiful gardens & architecture of this National Historic Landmark. \n$4-6\, includes admission to 3 museum and grounds for the day / Free for members! \nClick here to reserve your tickets>>
URL:https://artandhistory.org/event/historic-architecture-tour-34/
LOCATION:Art & History Museums – Maitland\, 231 W. Packwood Ave\, Maitland\, FL\, 32751\, United States
CATEGORIES:Event,Events
ATTACH;FMTTYPE=image/png:https://artandhistory.org/wp-content/uploads/Architecture-Tour-2.png
END:VEVENT
BEGIN:VEVENT
DTSTART;TZID=America/New_York:20250316T150000
DTEND;TZID=America/New_York:20250316T170000
DTSTAMP:20260422T064216
CREATED:20250113T225651Z
LAST-MODIFIED:20250120T190543Z
UID:11222-1742137200-1742144400@artandhistory.org
SUMMARY:A&H Book Club
DESCRIPTION:Make new friends at the A&H Members-Only Book Club! Share your opinions on fascinating topics in the realms of art and history. At the end of each meeting\, we’ll vote on what book to read together next. We will meet in Studio 10. \nMarch’s Book: Paris in Ruins: Love\, War\, and the Birth of Impressionism\, by Sebastian Smee. \nBook Club meetings are just $5 (which includes refreshments). Space is limited so you must register in advance. \nThis event is for A&H members only. If you’re not a current A&H member\, you must join or renew before Book Club date. \nRegister now >> \nIf you have any questions or need to verify your membership status\, contact Jessi at jvanpelt@artandhistory.org.
URL:https://artandhistory.org/event/ah-book-club-10/
LOCATION:Maitland Art Center Studio 10\, 210 W. Packwood Ave.\, Maitland\, FL\, 32751\, United States
CATEGORIES:Event,Events
ATTACH;FMTTYPE=image/jpeg:https://artandhistory.org/wp-content/uploads/Book-Club-meeting-sm.jpg
END:VEVENT
BEGIN:VEVENT
DTSTART;TZID=America/New_York:20250319T100000
DTEND;TZID=America/New_York:20250319T230000
DTSTAMP:20260422T064216
CREATED:20221212T212152Z
LAST-MODIFIED:20221212T212152Z
UID:9712-1742378400-1742425200@artandhistory.org
SUMMARY:Little Creatives and Me
DESCRIPTION:Songs\, stories and art time\, especially for babies and toddlers and their very special person. \nJoin us in the main garden on the historic grounds of the Art & History Museums. We’ll have a themed circle and story time plus an art activity especially for littles! A snack will be provided too. Recommend age: under 3\, and their very special person (parent\, grandparent\, caregiver). Older siblings are always welcome! \nSpace is limited and registration will close 2 days before the program date. Register>> \nPlease arrive about 5 minutes early to give yourself time to park and walk over to the main garden. We will begin promptly at 10 am. If you’d like\, please bring a picnic blanket for your family. \nThis program is brought to you free of charge by the Art & History Museums of Maitland.
URL:https://artandhistory.org/event/little-creatives-and-me-2025-03-19/
LOCATION:Art & History Museums – Maitland\, 231 W. Packwood Avenue\, Maitland\, FL\, 32751\, United States
CATEGORIES:Event,Events
ATTACH;FMTTYPE=image/jpeg:https://artandhistory.org/wp-content/uploads/IMG-7230-1-scaled.jpg
END:VEVENT
BEGIN:VEVENT
DTSTART;TZID=America/New_York:20250326T173000
DTEND;TZID=America/New_York:20250326T200000
DTSTAMP:20260422T064216
CREATED:20241105T215433Z
LAST-MODIFIED:20250310T183859Z
UID:10937-1743010200-1743019200@artandhistory.org
SUMMARY:Dine Al Fresco with the Artist: Community Dinner
DESCRIPTION:Guests are invited to join artist Sinuhé Vega Negrin and A&H staff for a vegetarian potluck dinner in the center’s Main Garden\, where they will hear from Negrin and A&H Chief Curator Dan Hess as they break bread together. The evening will conclude with a tour of the exhibition. All are welcome and encouraged to bring a dish to share. Utensils will be provided\, and dishes must be nut-free.  \nThis evening event is presented during our monthly Last Wednesday hours\, when we open our gallery free of charge with a cash bar from 5:30-8pm. Learn more here. \nSign Up Here>>\nFuture Nature: The Silent Conversations of Sinuhé Vega Negrin showcases paintings and ceramic sculptures that delve into themes of ecological and human fragility. Inspired by the Dutch Vanitas tradition\, Negrin’s new works evoke contemplation on mortality and the pursuit of divine wisdom through earthly reflections. His paintings depict balancing sculptural heads and vessels within lush tropical landscapes\, symbolizing humanity’s precarious mental constructs and our disconnection from nature. Negrin’s conversation centers on our future relationship with the natural world\, calling for greater ecological awareness and a renewed spiritual connection. These pieces invite viewers to reflect on their role in envisioning a future nature\, where the need for a harmonious coexistence with nature is paramount\, and where human and ecological resilience are intertwined. Plan your visit >>
URL:https://artandhistory.org/event/dine-al-fresco-with-the-artist-community-dinner/
LOCATION:Maitland Art Center North Garden\, 210 W. Packwood Ave.\, Maitland\, FL\, 32751\, United States
CATEGORIES:Event,Events
ATTACH;FMTTYPE=image/png:https://artandhistory.org/wp-content/uploads/Community-Dinner_-Future-Nature.png
END:VEVENT
BEGIN:VEVENT
DTSTART;TZID=America/New_York:20250326T173000
DTEND;TZID=America/New_York:20250326T200000
DTSTAMP:20260422T064216
CREATED:20241218T171951Z
LAST-MODIFIED:20250114T201143Z
UID:11016-1743010200-1743019200@artandhistory.org
SUMMARY:Last Wednesdays at A&H
DESCRIPTION:Enjoy free gallery admission\, grab a drink from our cash bar\, and discover the beauty of our main garden after hours every Last Wednesday of the month. Jumpstart conversations with free tours of our current gallery exhibitions by our Chief Curator or a free lecture by a visiting expert in art or history every month from 6-7pm! Find your creative community every Last Wednesday at the Art & History Museums of Maitland. \nClick here to reserve your spot>>
URL:https://artandhistory.org/event/last-wednesdays-at-ah-8/
LOCATION:Art & History Museums – Maitland\, 231 W. Packwood Ave\, Maitland\, FL\, 32751\, United States
CATEGORIES:Event,Events
ATTACH;FMTTYPE=image/jpeg:https://artandhistory.org/wp-content/uploads/Last-Weds.jpg
END:VEVENT
BEGIN:VEVENT
DTSTART;TZID=America/New_York:20250329T180000
DTEND;TZID=America/New_York:20250329T220000
DTSTAMP:20260422T064216
CREATED:20241218T173440Z
LAST-MODIFIED:20241218T173634Z
UID:11022-1743271200-1743285600@artandhistory.org
SUMMARY:A&H: The Art Party
DESCRIPTION:Join us for an exciting night on the beautiful Maitland Art Center campus. At the fourth annual A&H: The Art Party\, guests will enjoy light bite food stations\, cocktails\, interaction with resident artists\, live painting\, live auction of art and unique experiences\, fabulous silent auction\, photo opportunities\, and more – and take home exclusive swag along with memories of a unforgettable time. All proceeds benefit the Museums and our community outreach programs. \nVIP Tickets include: light bite food stations by Central Florida’s best caterers\, open bar\, swag bag\, poster print\, entertainment.\nUltimate VIP tickets include: all VIP ticket perks\, plus reserved seats and champagne service.\nUltimate VIP Tables include: all Ultimate VIP ticket perks\, with a reserved table for 8 people. \nFor more information & tickets click here>>\nQuestions? Contact Director of Development Jessi VanPelt at: jvanpelt@artandhistory.org / 407.539.2181 x260
URL:https://artandhistory.org/event/ah-the-art-party/
LOCATION:Art & History Museums – Maitland\, 231 W. Packwood Ave\, Maitland\, FL\, 32751\, United States
CATEGORIES:Event,Events
ATTACH;FMTTYPE=image/png:https://artandhistory.org/wp-content/uploads/The-Art-Party.png
END:VEVENT
END:VCALENDAR