BEGIN:VCALENDAR
VERSION:2.0
PRODID:-//A&amp;H - Art &amp; History Museums Maitland - ECPv6.15.20//NONSGML v1.0//EN
CALSCALE:GREGORIAN
METHOD:PUBLISH
X-ORIGINAL-URL:https://artandhistory.org
X-WR-CALDESC:Events for A&amp;H - Art &amp; History Museums Maitland
REFRESH-INTERVAL;VALUE=DURATION:PT1H
X-Robots-Tag:noindex
X-PUBLISHED-TTL:PT1H
BEGIN:VTIMEZONE
TZID:America/New_York
BEGIN:DAYLIGHT
TZOFFSETFROM:-0500
TZOFFSETTO:-0400
TZNAME:EDT
DTSTART:20220313T070000
END:DAYLIGHT
BEGIN:STANDARD
TZOFFSETFROM:-0400
TZOFFSETTO:-0500
TZNAME:EST
DTSTART:20221106T060000
END:STANDARD
BEGIN:DAYLIGHT
TZOFFSETFROM:-0500
TZOFFSETTO:-0400
TZNAME:EDT
DTSTART:20230312T070000
END:DAYLIGHT
BEGIN:STANDARD
TZOFFSETFROM:-0400
TZOFFSETTO:-0500
TZNAME:EST
DTSTART:20231105T060000
END:STANDARD
BEGIN:DAYLIGHT
TZOFFSETFROM:-0500
TZOFFSETTO:-0400
TZNAME:EDT
DTSTART:20240310T070000
END:DAYLIGHT
BEGIN:STANDARD
TZOFFSETFROM:-0400
TZOFFSETTO:-0500
TZNAME:EST
DTSTART:20241103T060000
END:STANDARD
BEGIN:DAYLIGHT
TZOFFSETFROM:-0500
TZOFFSETTO:-0400
TZNAME:EDT
DTSTART:20250309T070000
END:DAYLIGHT
BEGIN:STANDARD
TZOFFSETFROM:-0400
TZOFFSETTO:-0500
TZNAME:EST
DTSTART:20251102T060000
END:STANDARD
BEGIN:DAYLIGHT
TZOFFSETFROM:-0500
TZOFFSETTO:-0400
TZNAME:EDT
DTSTART:20260308T070000
END:DAYLIGHT
BEGIN:STANDARD
TZOFFSETFROM:-0400
TZOFFSETTO:-0500
TZNAME:EST
DTSTART:20261101T060000
END:STANDARD
BEGIN:DAYLIGHT
TZOFFSETFROM:-0500
TZOFFSETTO:-0400
TZNAME:EDT
DTSTART:20270314T070000
END:DAYLIGHT
BEGIN:STANDARD
TZOFFSETFROM:-0400
TZOFFSETTO:-0500
TZNAME:EST
DTSTART:20271107T060000
END:STANDARD
BEGIN:DAYLIGHT
TZOFFSETFROM:-0500
TZOFFSETTO:-0400
TZNAME:EDT
DTSTART:20280312T070000
END:DAYLIGHT
BEGIN:STANDARD
TZOFFSETFROM:-0400
TZOFFSETTO:-0500
TZNAME:EST
DTSTART:20281105T060000
END:STANDARD
BEGIN:DAYLIGHT
TZOFFSETFROM:-0500
TZOFFSETTO:-0400
TZNAME:EDT
DTSTART:20290311T070000
END:DAYLIGHT
BEGIN:STANDARD
TZOFFSETFROM:-0400
TZOFFSETTO:-0500
TZNAME:EST
DTSTART:20291104T060000
END:STANDARD
END:VTIMEZONE
BEGIN:VEVENT
DTSTART;TZID=America/New_York:20230303T110000
DTEND;TZID=America/New_York:20280303T160000
DTSTAMP:20260422T011841
CREATED:20221214T171417Z
LAST-MODIFIED:20240602T010148Z
UID:9315-1677841200-1835712000@artandhistory.org
SUMMARY:Maitland's Attic: A Journey Through A Small City's Past
DESCRIPTION:  \nThis exhibition is an interactive\, hands-on exploration into the history of Maitland and its surrounding areas! \n\nThere were a lot of things that did not happen in Maitland. There were no great battles fought on the soil\, nor was it home to any infamous individuals. The town was not the epicenter of any great social movements\, nor was it home to discoveries that would better humankind. Maitland was\, and continues to be\, a small town\, like so many others.\n\nThe story of Maitland is a story of seemingly ordinary people who lived through extraordinary times\, a place where people made their homes while dramatic events unfolded in other parts of the world. People labored here\, raised their families\, loved\, lost\, thought\, and created. The objects in the museum’s collection reflect the brightness of these lives against the backdrop of a changing and often troubled world.\n\n\nEach artifact tells a story specific to a place and time. They are the carriers of the memories of the people who owned them\, who felt that they were important enough to their own story to preserve them. Many of them are the prototypes of the objects that we use and hold dear today\, objects which will one day carry our own memories forward.\nWelcome to Maitland’s Attic\, a gathering place of the unique items that tell of Maitland’s past. From the everyday to the downright weird\, these objects and their stories open a window onto important moments throughout the history of the town\, and the people who called it home.\n\n\n\n¡Esta exhibición es interactivo y de primera mano adentro de la historia de Maitland y las áreas cercanas! \nEn Maitland no ocurrieron muchas cosas. En su suelo no se libraron grandes batallas\, ni fue cuna deindividuos infames. No fue el epicentro de grandes movimientos sociales ni de descubrimientosrevolucionarios. \nLa historia de Maitland es la historia de personas aparentemente corrientes que vivieron tiemposextraordinarios\, un lugar donde la gente estableció su hogar mientras se desarrollaban acontecimientosdramáticos en otras partes del mundo. La gente trabajaba aquí\, criaba a sus familias\, amaba\, perdía\,pensaba y creaba. Los objetos de la colección del museo reflejan el brillo de estas vidas en el contextode un mundo cambiante y a menudo turbulento. \nCada artefacto cuenta una historia específica de un lugar y una época. En conjunto\, son portadores delos recuerdos de las personas que los poseyeron\, que consideraron que eran lo bastante importantespara su historia como para conservarlos. Muchos de ellos son prototipos de los objetos que usamos yapreciamos hoy\, objetos que un día serán portadores de nuestros propios recuerdos.Bienvenido a Maitland’s Attic\, un lugar donde se reúnen objetos únicos que hablan del pasado deMaitland. Desde los más cotidianos hasta los más extraños\, estos objetos abren una ventana amomentos importantes de la historia de la ciudad y a las personas que decidieron llamarla su hogar.
URL:https://artandhistory.org/event/maitland-history-museum-permanent-exhibition-debut/
LOCATION:Art & History Museums – Maitland\, 231 W. Packwood Avenue\, Maitland\, FL\, 32751\, United States
CATEGORIES:Event,Events,Exhibition
ATTACH;FMTTYPE=image/png:https://artandhistory.org/wp-content/uploads/Pastel-Gradient-Christian-Easter-Facebook-Cover.png
END:VEVENT
BEGIN:VEVENT
DTSTART;TZID=America/New_York:20250426T110000
DTEND;TZID=America/New_York:20250713T160000
DTSTAMP:20260422T011841
CREATED:20240930T163219Z
LAST-MODIFIED:20250627T164502Z
UID:10864-1745665200-1752422400@artandhistory.org
SUMMARY:LOSS
DESCRIPTION:LOSS explores the emotional layers of loss through abstract representation. Viewers can navigate the physical pieces and nuanced lighting\, creating a contemplative space to reflect on their own experiences. \nSt. Petersburg-based sculptor Michael Massaro transforms discarded materials—stone\, wood\, metal\, rubber\, plastic\, and textiles—into contemplative works of art. Through his nonverbal commentary\, Massaro explores a world in flux\, reflecting on the loss of human rights and environmental stability. By bringing together these disparate\, forgotten objects\, he creates unexpected reflections on harmony and discord—offering a visual meditation on resilience\, renewal\, and the stories hidden within what we view as disposable. Massaro was awarded his BFA from the University of Tampa. Plan your visit >>
URL:https://artandhistory.org/event/lossexhibition/
LOCATION:Art & History Museums – Maitland\, 231 W. Packwood Ave\, Maitland\, FL\, 32751\, United States
CATEGORIES:Event,Events,Exhibition
ATTACH;FMTTYPE=image/jpeg:https://artandhistory.org/wp-content/uploads/loss-scaled.jpg
END:VEVENT
BEGIN:VEVENT
DTSTART;TZID=America/New_York:20250502T080000
DTEND;TZID=America/New_York:20250502T130000
DTSTAMP:20260422T011841
CREATED:20241218T182323Z
LAST-MODIFIED:20250113T172940Z
UID:11055-1746172800-1746190800@artandhistory.org
SUMMARY:Homeschool Day at the Telephone Museum
DESCRIPTION:Your homeschool students (grades K – 5) are invited to step back into time as they explore communications technology and the history of the telephone at A&H’s Telephone Museum. In our interactive guided tour\, children can try their hand at working the switching station\, hands-on displays and discover the story of the Winter Park Telephone Company\, founded in Maitland Florida by Carl Galloway. \nAfterwards\, join our education team as we combine art and technology! We’ll first learn about two important art concepts of lines and space\, and then use this information to create 3D art sculptures featuring vintage telephone wires. Sculptures will be ready to take home at the conclusion of the program! \nThe cost is $10 per child for the guided tour and includes all the art supplies! Sculpture creating is for students only\, but adults are welcome to help their student(s)! Chaperones are $5 each. \nAfter the program\, you’re invited to have a picnic lunch right next door at Quinn Strong Park. \nSpace is limited! Please note: Preregistration on Eventbrite is required\, and walk-ins / refunds are not available for Homeschool Days. \nPre-register here>> \nIf you have any questions about our homeschool day\, please feel free to contact our education team at education@artandhistory.org.
URL:https://artandhistory.org/event/homeschool-day-at-the-telephone-museum-2/
LOCATION:Art & History Museums – Maitland\, 231 W. Packwood Ave\, Maitland\, FL\, 32751\, United States
CATEGORIES:Event,Events
ATTACH;FMTTYPE=image/jpeg:https://artandhistory.org/wp-content/uploads/Homeschool-Day-@-Telephone-Museum-May-2-2024.jpg
END:VEVENT
BEGIN:VEVENT
DTSTART;TZID=America/New_York:20250503T100000
DTEND;TZID=America/New_York:20250503T160000
DTSTAMP:20260422T011841
CREATED:20250127T172419Z
LAST-MODIFIED:20250203T171313Z
UID:11336-1746266400-1746288000@artandhistory.org
SUMMARY:Drawing Self-Portraits in Black & White
DESCRIPTION:Instructor: Gisela Romero \nLocation: Maitland Art Center Studio 10 \nCost: $150 + $25 material fees \nMaterials fees must be paid in cash directly to the instructor\, and are due on the day of the workshop. \nThis workshop invites participants to create expressive black-and-white self-portraits using a combination of drawing techniques. This would also be a wonderful Mother’s Day activity! Participants will explore their identities\, emotions\, and personal narratives through art. Open to all levels! Key Takeaways for Participants: \n\nLearn various black-and-white drawing techniques such as pencil\, charcoal\, and ink drawing.\nCreate a self-portrait that reflects their personal identity\, mood\, or significant emotion.\nExplore the power of simplicity and contrast in visual expression.\nGain insight into how art can serve as a medium for self-reflection and personal growth.\nHave fun!\n\nRegister Here>>
URL:https://artandhistory.org/event/drawing-self-portraits-in-black-white/
LOCATION:Maitland Art Center Studio 10\, 210 W. Packwood Ave.\, Maitland\, FL\, 32751\, United States
CATEGORIES:Event,Events,Workshops
ATTACH;FMTTYPE=image/png:https://artandhistory.org/wp-content/uploads/B-W-Portraits.png
END:VEVENT
BEGIN:VEVENT
DTSTART;TZID=America/New_York:20250503T110000
DTEND;TZID=America/New_York:20250503T140000
DTSTAMP:20260422T011841
CREATED:20250127T172654Z
LAST-MODIFIED:20250203T171508Z
UID:11338-1746270000-1746280800@artandhistory.org
SUMMARY:Lego Block Relief Printing
DESCRIPTION:Instructor: Ryan Price \nLocation: Cottage at Lake Lily \nCost: $50 + $10 material fees \nMaterials fees must be paid in cash directly to the instructor\, and are due on the day of the workshop. \nParticipants will use Legos as a bases to create abstract designs that they will then use a brayer to ink up and do a rubbing with a wooden spoon or run it through the press. For multicolor designs\, the instructor will also demonstrate how to create a registration for lining up the print in the same area on the paper. \nThis workshop is designed to teach participants the basic ideas behind relief printmaking. Using the Legos to “build” your design broadens the audience to those who may not have strong drawing skills or background in the arts but are interested in printmaking. Each participants leaves with prints of their own and new knowledge about relief printmaking. Open to all levels! \nRegister Here>>
URL:https://artandhistory.org/event/lego-block-relief-printing-4/
LOCATION:The Cottage at Lake Lily\, 701 Lake Lily Dr.\, Maitland\, FL\, 32751\, United States
CATEGORIES:Event,Events,Workshops
ATTACH;FMTTYPE=image/png:https://artandhistory.org/wp-content/uploads/Lego-Relief-Print.png
END:VEVENT
BEGIN:VEVENT
DTSTART;TZID=America/New_York:20250509T183000
DTEND;TZID=America/New_York:20250509T203000
DTSTAMP:20260422T011841
CREATED:20241218T183327Z
LAST-MODIFIED:20250408T212240Z
UID:11064-1746815400-1746822600@artandhistory.org
SUMMARY:Spring Studio Show
DESCRIPTION:Enjoy live music while picnicking in the Maitland Art Center’s beautiful gardens. Plus\, a campus-wide Open House invites you to visit Artists in Action in their studios and Art School classrooms. \nWe’ll have live music with Don Soledad\, and a bar with beer\, wine\, and sodas. You’re welcome to bring your own picnic foods\, blankets\, and camp chairs to relax amongst the beautiful garden landscaping. Feel free to bring your own non-alcoholic drinks too but leave the alcoholic drinks to us. Bring friends or a date! (Or your mom\, since Mother’s Day is that weekend! A table with museum merchandise will also be set up for Mother’s Day shopping!) \nThe Artist in Action studios will be open for visitors\, along with Art School classrooms. Chat with artists and art instructors while you enjoy a stroll around campus\, drink in hand! \nAdmission to this event is FREE! However\, donations of any size are gratefully accepted with your order or at the event\, in order to support our many free community programs. \nThis event is FREE thanks to the generous sponsorship of Stewardship Matters. \nClick here to reserve your free tickets>>
URL:https://artandhistory.org/event/spring-studio-show-2/
LOCATION:Art & History Museums – Maitland\, 231 W. Packwood Ave\, Maitland\, FL\, 32751\, United States
CATEGORIES:Event,Events
ATTACH;FMTTYPE=image/png:https://artandhistory.org/wp-content/uploads/hgfsdgfgg.png
END:VEVENT
BEGIN:VEVENT
DTSTART;TZID=America/New_York:20250511T093000
DTEND;TZID=America/New_York:20250511T123000
DTSTAMP:20260422T011841
CREATED:20250127T173258Z
LAST-MODIFIED:20250128T220523Z
UID:11344-1746955800-1746966600@artandhistory.org
SUMMARY:Bookbinding: Cork Cover\, Long Stitch
DESCRIPTION:Instructor: Silvana Martins \nLocation: Maitland Art Center Studio 10 \nCost: $100 + $20 material fees \nMaterials fees must be paid in cash directly to the instructor\, and are due on the day of the workshop. \nLet’s make a beautiful book together in this wonderful activity for Mother’s Day! In this workshop\, you’ll learn how to bind a book using a Long Stitch. We’ll use cork fabric for the cover\, and fill it with beautiful Stonehenge Paper\, ideal for watercolor\, pencil\, markers\, oil pastels\, and more. All Materials included. Open to all levels. \nRegister Here>>
URL:https://artandhistory.org/event/bookbinding-cork-cover-long-stitch/
LOCATION:Maitland Art Center Studio 10\, 210 W. Packwood Ave.\, Maitland\, FL\, 32751\, United States
CATEGORIES:Event,Events,Workshops
ATTACH;FMTTYPE=image/jpeg:https://artandhistory.org/wp-content/uploads/Cork-Cover-scaled.jpeg
END:VEVENT
BEGIN:VEVENT
DTSTART;TZID=America/New_York:20250511T110000
DTEND;TZID=America/New_York:20250511T130000
DTSTAMP:20260422T011841
CREATED:20250127T172914Z
LAST-MODIFIED:20250128T184808Z
UID:11341-1746961200-1746968400@artandhistory.org
SUMMARY:Linocut Florals
DESCRIPTION:Instructor: Abbey Kish \nLocation: Cottage at Lake Lily \nCost: $45 + $10 material fees \nMaterials fees must be paid in cash directly to the instructor\, and are due on the day of the workshop. \nEasy & fun printmaking class for beginners and teens! We will be using an easy carve linoleum to create floral designs – perfect for Mother’s Day! Students will be guided through the whole carving and printing process. Paper\, cardstock\, and tea towels will be provided as options for printing – but students are encouraged to bring other items to print on such as tote bags or t-shirts. \nRegister Here>>
URL:https://artandhistory.org/event/linocut-florals/
LOCATION:The Cottage at Lake Lily\, 701 Lake Lily Dr.\, Maitland\, FL\, 32751\, United States
CATEGORIES:Event,Events,Workshops
ATTACH;FMTTYPE=image/png:https://artandhistory.org/wp-content/uploads/Linocut-Florals.png
END:VEVENT
BEGIN:VEVENT
DTSTART;TZID=America/New_York:20250518T150000
DTEND;TZID=America/New_York:20250518T170000
DTSTAMP:20260422T011841
CREATED:20250114T161731Z
LAST-MODIFIED:20250324T182644Z
UID:11226-1747580400-1747587600@artandhistory.org
SUMMARY:A&H Book Club
DESCRIPTION:Make new friends at the A&H Members-Only Book Club! Join A&H Director of Development Jessi VanPelt every other month to share your opinions on fascinating topics in the realms of art and history on our beautiful campus. At the end of each meeting\, we’ll vote on what book to read together next. We will meet in Studio 10. \nMay’s Book: Get the Picture: A Mind-Bending Journey among the Inspired Artists and Obsessive Art Fiends Who Taught Me How to See by Bianca Bosker \nBook Club meetings are just $5 (which includes refreshments). Space is limited so you must register in advance. \nThis event is for A&H members only. If you’re not a current A&H member\, you must join or renew before Book Club date. \nRegister now >> \nIf you have any questions or need to verify your membership status\, contact Jessi at jvanpelt@artandhistory.org.
URL:https://artandhistory.org/event/ah-book-club-11/
LOCATION:Maitland Art Center Studio 10\, 210 W. Packwood Ave.\, Maitland\, FL\, 32751\, United States
CATEGORIES:Event,Events
ATTACH;FMTTYPE=image/jpeg:https://artandhistory.org/wp-content/uploads/Book-Club-meeting-sm-1.jpg
END:VEVENT
BEGIN:VEVENT
DTSTART;TZID=America/New_York:20250521T100000
DTEND;TZID=America/New_York:20250521T110000
DTSTAMP:20260422T011841
CREATED:20241223T154054Z
LAST-MODIFIED:20241223T154054Z
UID:11074-1747821600-1747825200@artandhistory.org
SUMMARY:Little Creatives & Me
DESCRIPTION:Songs\, stories and art time\, especially for babies and toddlers and their very special person. \nJoin us in the main garden on the historic grounds of the Art & History Museums. We’ll have a themed circle and story time plus an art activity especially for littles! A snack will be provided too. Recommend age: under 3\, and their very special person (parent\, grandparent\, caregiver). Older siblings are always welcome! \nSpace is limited and registration will close 2 days before the program date. Register>> \nPlease arrive about 5 minutes early to give yourself time to park and walk over to the main garden. We will begin promptly at 10 am. If you’d like\, please bring a picnic blanket for your family. \nThis program is brought to you free of charge by the Art & History Museums of Maitland. \n2024-25 Free Family Programs at A&H are generously supported by a grant from Duke Energy Foundation.
URL:https://artandhistory.org/event/little-creatives-me-2/
LOCATION:Art & History Museums – Maitland\, 231 W. Packwood Ave\, Maitland\, FL\, 32751\, United States
CATEGORIES:Event,Events
ATTACH;FMTTYPE=image/jpeg:https://artandhistory.org/wp-content/uploads/Little-Creatives-Website.jpg
END:VEVENT
BEGIN:VEVENT
DTSTART;TZID=America/New_York:20250525T110000
DTEND;TZID=America/New_York:20250525T140000
DTSTAMP:20260422T011841
CREATED:20250127T173749Z
LAST-MODIFIED:20250203T171536Z
UID:11347-1748170800-1748181600@artandhistory.org
SUMMARY:Automatic Drawing
DESCRIPTION:Instructor: Ryan Price \nLocation: Maitland Art Center Studio 10 \nCost: $60 + $5 material fees \nMaterials fees must be paid in cash directly to the instructor\, and are due on the day of the workshop. \nNo drawing experience is required! Open to all levels. Automatic drawing is a technique named by and was commonly used by the Surrealists\, it involves the artist directly and randomly moving the pen or drawing tool with no preconceived image or plan. This technique is similar to what writers termed\, “Stream of consciousness” writing\, where through a mental shift drawing automatically allows participants let their subconscious flow through their hands. Participants will be encourage to draw their hearts content out\, and learn to unshackle themselves from hesitation caused from the anxiety of being confronted by a blank sheet. Students will create many drawings using many different materials to get them out of their head and out of their comfort zones. Students will learn about processes like\, automatism\, frottage\, and responsive drawing. The drawing doesn’t ever have to be quote on quote finished\, it can be left as a single deposit of personal memory there is no right or wrong way to practice automatic drawing. \nRegister Here>>
URL:https://artandhistory.org/event/automatic-drawing-5/
LOCATION:Maitland Art Center Studio 10\, 210 W. Packwood Ave.\, Maitland\, FL\, 32751\, United States
CATEGORIES:Event,Events,Workshops
ATTACH;FMTTYPE=image/png:https://artandhistory.org/wp-content/uploads/Automatic-Drawing.png
END:VEVENT
BEGIN:VEVENT
DTSTART;TZID=America/New_York:20250528T173000
DTEND;TZID=America/New_York:20250528T200000
DTSTAMP:20260422T011841
CREATED:20241223T155952Z
LAST-MODIFIED:20250114T201206Z
UID:11077-1748453400-1748462400@artandhistory.org
SUMMARY:Last Wednesday at A&H
DESCRIPTION:Enjoy free gallery admission\, grab a drink from our cash bar\, and discover the beauty of our main garden after hours every Last Wednesday of the month. Jumpstart conversations with free tours of our current gallery exhibitions by our Chief Curator or a free lecture by a visiting expert in art or history every month from 6-7pm! Find your creative community every Last Wednesday at the Art & History Museums of Maitland. \nClick here to reserve your spot>>
URL:https://artandhistory.org/event/last-wednesday-6/
LOCATION:Art & History Museums – Maitland\, 231 W. Packwood Ave\, Maitland\, FL\, 32751\, United States
CATEGORIES:Event,Events
ATTACH;FMTTYPE=image/jpeg:https://artandhistory.org/wp-content/uploads/Last-Weds.jpg
END:VEVENT
BEGIN:VEVENT
DTSTART;TZID=America/New_York:20250528T180000
DTEND;TZID=America/New_York:20250528T190000
DTSTAMP:20260422T011841
CREATED:20250107T181613Z
LAST-MODIFIED:20250115T165024Z
UID:11086-1748455200-1748458800@artandhistory.org
SUMMARY:Poetry in the Gallery
DESCRIPTION:A&H invites lifetime learners like you to discuss fascinating topics anchored in Central Florida history\, arts\, and culture. New themes are presented monthly by visiting subject matter experts. ✨ \nClick here for your free tickets >> \nWe welcome Kerouac House Writer in Residence Skye Jackson to share her poetry\, in complement to our current gallery exhibition LOSS featuring art by Michael Massaro. Both Massaro and Jackson are inspired by themes of change\, loss\, and renewal. Experience poetry and art in a new way as words couple with visual art in dialogue to transform and uplift your soul. \nFor more about about the writer\, click here>> \nAbout our current gallery exhibition LOSS: \nSt. Petersburg\, Florida based artist Mike Massaro is a sculptor and mixed media installation artist who poetically manipulates everyday construction materials and found objects to meet his desired end. His solo sculptural installation LOSS is an abstract representation exploring nuanced themes of change\, loss and rebirth. As the viewer navigates the physical objects and lighting\, they will be provided with a contemplative space in which they can process their own personal experiences of the subjects. Massaro was awarded his BFA from the University of Tampa. \nThis evening event is presented during our monthly Last Wednesday hours\, when we open our gallery free of charge with a cash bar from 5:30-8pm. Learn more here.
URL:https://artandhistory.org/event/ah-conversations-poetry-and-art/
LOCATION:Art & History Museums – Maitland\, 231 W. Packwood Ave\, Maitland\, FL\, 32751\, United States
CATEGORIES:Event,Events
ATTACH;FMTTYPE=image/png:https://artandhistory.org/wp-content/uploads/Eventbrite-Header-Photos-3.png
END:VEVENT
END:VCALENDAR